| Back to Multiple platform build/check report for BioC 3.6 | 
 | 
This page was generated on 2018-04-12 13:11:54 -0400 (Thu, 12 Apr 2018).
| Package 376/1472 | Hostname | OS / Arch | INSTALL | BUILD | CHECK | BUILD BIN | ||||||
| DMRcate 1.14.0 Tim Peters 
 | malbec1 | Linux (Ubuntu 16.04.1 LTS) / x86_64 | OK | [ OK ] | OK |  | ||||||
| tokay1 | Windows Server 2012 R2 Standard / x64 | OK | OK | OK | OK |  | ||||||
| veracruz1 | OS X 10.11.6 El Capitan / x86_64 | OK | OK | OK | OK |  | 
| Package: DMRcate | 
| Version: 1.14.0 | 
| Command: /home/biocbuild/bbs-3.6-bioc/R/bin/R CMD build --keep-empty-dirs --no-resave-data DMRcate | 
| StartedAt: 2018-04-11 19:27:00 -0400 (Wed, 11 Apr 2018) | 
| EndedAt: 2018-04-11 19:31:08 -0400 (Wed, 11 Apr 2018) | 
| EllapsedTime: 247.2 seconds | 
| RetCode: 0 | 
| Status: OK | 
| PackageFile: DMRcate_1.14.0.tar.gz | 
| PackageFileSize: 315.3 KiB | 
############################################################################## ############################################################################## ### ### Running command: ### ### /home/biocbuild/bbs-3.6-bioc/R/bin/R CMD build --keep-empty-dirs --no-resave-data DMRcate ### ############################################################################## ############################################################################## * checking for file ‘DMRcate/DESCRIPTION’ ... OK * preparing ‘DMRcate’: * checking DESCRIPTION meta-information ... OK * installing the package to build vignettes * creating vignettes ... OK * checking for LF line-endings in source and make files and shell scripts * checking for empty or unneeded directories * building ‘DMRcate_1.14.0.tar.gz’