| Back to Multiple platform build/check report for BioC 3.6 | 
 | 
This page was generated on 2018-04-12 13:20:55 -0400 (Thu, 12 Apr 2018).
| Package 360/1472 | Hostname | OS / Arch | INSTALL | BUILD | CHECK | BUILD BIN | ||||||
| DEXSeq 1.24.4 Alejandro Reyes 
 | malbec1 | Linux (Ubuntu 16.04.1 LTS) / x86_64 | OK | OK | OK |  | ||||||
| tokay1 | Windows Server 2012 R2 Standard / x64 | [ OK ] | OK | WARNINGS | OK |  | ||||||
| veracruz1 | OS X 10.11.6 El Capitan / x86_64 | OK | OK | OK | OK |  | 
| Package: DEXSeq | 
| Version: 1.24.4 | 
| Command: rm -rf DEXSeq.buildbin-libdir && mkdir DEXSeq.buildbin-libdir && C:\cygwin\bin\curl.exe -O https://malbec1.bioconductor.org/BBS/3.6/bioc/src/contrib/DEXSeq_1.24.4.tar.gz && C:\Users\biocbuild\bbs-3.6-bioc\R\bin\R.exe CMD INSTALL --build --library=DEXSeq.buildbin-libdir --merge-multiarch DEXSeq_1.24.4.tar.gz && C:\Users\biocbuild\bbs-3.6-bioc\R\bin\R.exe CMD INSTALL DEXSeq_1.24.4.zip && rm DEXSeq_1.24.4.tar.gz DEXSeq_1.24.4.zip | 
| StartedAt: 2018-04-11 18:43:02 -0400 (Wed, 11 Apr 2018) | 
| EndedAt: 2018-04-11 18:44:03 -0400 (Wed, 11 Apr 2018) | 
| EllapsedTime: 61.6 seconds | 
| RetCode: 0 | 
| Status: OK | 
##############################################################################
##############################################################################
###
### Running command:
###
###   rm -rf DEXSeq.buildbin-libdir && mkdir DEXSeq.buildbin-libdir  && C:\cygwin\bin\curl.exe -O https://malbec1.bioconductor.org/BBS/3.6/bioc/src/contrib/DEXSeq_1.24.4.tar.gz && C:\Users\biocbuild\bbs-3.6-bioc\R\bin\R.exe CMD INSTALL --build --library=DEXSeq.buildbin-libdir --merge-multiarch DEXSeq_1.24.4.tar.gz && C:\Users\biocbuild\bbs-3.6-bioc\R\bin\R.exe CMD INSTALL DEXSeq_1.24.4.zip  && rm DEXSeq_1.24.4.tar.gz DEXSeq_1.24.4.zip
###
##############################################################################
##############################################################################
  % Total    % Received % Xferd  Average Speed   Time    Time     Time  Current
                                 Dload  Upload   Total   Spent    Left  Speed
  0     0    0     0    0     0      0      0 --:--:-- --:--:-- --:--:--     0
  0     0    0     0    0     0      0      0 --:--:-- --:--:-- --:--:--     0
100 55891  100 55891    0     0   178k      0 --:--:-- --:--:-- --:--:--  180k
install for i386
* installing *source* package 'DEXSeq' ...
** R
** inst
** preparing package for lazy loading
** help
*** installing help indices
  converting help for package 'DEXSeq'
    finding HTML links ... done
    DEXSeq-defunct                          html  
    DEXSeq                                  html  
    DEXSeqDataSet                           html  
    DEXSeqHTML                              html  
    DEXSeqResults                           html  
    accessors                               html  
    counts                                  html  
    estimateDispersions                     html  
    estimateExonFoldChanges                 html  
    estimateSizeFactors                     html  
    methods-gr                              html  
Rd warning: C:/Users/biocbuild/bbs-3.6-bioc/tmpdir/Rtmpuks8zn/R.INSTALL145817b35189/DEXSeq/man/methods-gr.Rd:32: missing file link 'findOverlaps'
Rd warning: C:/Users/biocbuild/bbs-3.6-bioc/tmpdir/Rtmpuks8zn/R.INSTALL145817b35189/DEXSeq/man/methods-gr.Rd:36: missing file link 'findOverlaps'
    otherMethods                            html  
    perGeneQValue                           html  
    plotDEXSeq                              html  
    plotDispEsts                            html  
    plotMA                                  html  
    testForDEU                              html  
** building package indices
** installing vignettes
** testing if installed package can be loaded
In R CMD INSTALL
install for x64
* installing *source* package 'DEXSeq' ...
** testing if installed package can be loaded
* MD5 sums
packaged installation of 'DEXSeq' as DEXSeq_1.24.4.zip
* DONE (DEXSeq)
In R CMD INSTALL
In R CMD INSTALL
* installing to library 'C:/Users/biocbuild/bbs-3.6-bioc/R/library'
package 'DEXSeq' successfully unpacked and MD5 sums checked
In R CMD INSTALL