| Back to Multiple platform build/check report for BioC 3.6 |
|
This page was generated on 2018-04-12 13:14:06 -0400 (Thu, 12 Apr 2018).
| Package 330/1472 | Hostname | OS / Arch | INSTALL | BUILD | CHECK | BUILD BIN | ||||||
| DAPAR 1.10.4 Samuel Wieczorek
| malbec1 | Linux (Ubuntu 16.04.1 LTS) / x86_64 | OK | [ OK ] | OK | |||||||
| tokay1 | Windows Server 2012 R2 Standard / x64 | OK | OK | OK | OK | |||||||
| veracruz1 | OS X 10.11.6 El Capitan / x86_64 | OK | OK | OK | OK |
| Package: DAPAR |
| Version: 1.10.4 |
| Command: /home/biocbuild/bbs-3.6-bioc/R/bin/R CMD build --keep-empty-dirs --no-resave-data DAPAR |
| StartedAt: 2018-04-11 20:05:32 -0400 (Wed, 11 Apr 2018) |
| EndedAt: 2018-04-11 20:06:06 -0400 (Wed, 11 Apr 2018) |
| EllapsedTime: 34.4 seconds |
| RetCode: 0 |
| Status: OK |
| PackageFile: DAPAR_1.10.4.tar.gz |
| PackageFileSize: 3.015 MiB |
############################################################################## ############################################################################## ### ### Running command: ### ### /home/biocbuild/bbs-3.6-bioc/R/bin/R CMD build --keep-empty-dirs --no-resave-data DAPAR ### ############################################################################## ############################################################################## * checking for file ‘DAPAR/DESCRIPTION’ ... OK * preparing ‘DAPAR’: * checking DESCRIPTION meta-information ... OK * installing the package to build vignettes * creating vignettes ... OK * checking for LF line-endings in source and make files and shell scripts * checking for empty or unneeded directories * building ‘DAPAR_1.10.4.tar.gz’