| Back to Multiple platform build/check report for BioC 3.6 |
|
This page was generated on 2018-04-12 13:26:00 -0400 (Thu, 12 Apr 2018).
| Package 283/1472 | Hostname | OS / Arch | INSTALL | BUILD | CHECK | BUILD BIN | ||||||
| ComplexHeatmap 1.17.1 Zuguang Gu
| malbec1 | Linux (Ubuntu 16.04.1 LTS) / x86_64 | OK | OK | OK | |||||||
| tokay1 | Windows Server 2012 R2 Standard / x64 | [ OK ] | OK | WARNINGS | OK | |||||||
| veracruz1 | OS X 10.11.6 El Capitan / x86_64 | OK | OK | OK | OK |
| Package: ComplexHeatmap |
| Version: 1.17.1 |
| Command: rm -rf ComplexHeatmap.buildbin-libdir && mkdir ComplexHeatmap.buildbin-libdir && C:\cygwin\bin\curl.exe -O https://malbec1.bioconductor.org/BBS/3.6/bioc/src/contrib/ComplexHeatmap_1.17.1.tar.gz && C:\Users\biocbuild\bbs-3.6-bioc\R\bin\R.exe CMD INSTALL --build --library=ComplexHeatmap.buildbin-libdir --merge-multiarch ComplexHeatmap_1.17.1.tar.gz && C:\Users\biocbuild\bbs-3.6-bioc\R\bin\R.exe CMD INSTALL ComplexHeatmap_1.17.1.zip && rm ComplexHeatmap_1.17.1.tar.gz ComplexHeatmap_1.17.1.zip |
| StartedAt: 2018-04-11 18:11:57 -0400 (Wed, 11 Apr 2018) |
| EndedAt: 2018-04-11 18:14:45 -0400 (Wed, 11 Apr 2018) |
| EllapsedTime: 168.0 seconds |
| RetCode: 0 |
| Status: OK |
##############################################################################
##############################################################################
###
### Running command:
###
### rm -rf ComplexHeatmap.buildbin-libdir && mkdir ComplexHeatmap.buildbin-libdir && C:\cygwin\bin\curl.exe -O https://malbec1.bioconductor.org/BBS/3.6/bioc/src/contrib/ComplexHeatmap_1.17.1.tar.gz && C:\Users\biocbuild\bbs-3.6-bioc\R\bin\R.exe CMD INSTALL --build --library=ComplexHeatmap.buildbin-libdir --merge-multiarch ComplexHeatmap_1.17.1.tar.gz && C:\Users\biocbuild\bbs-3.6-bioc\R\bin\R.exe CMD INSTALL ComplexHeatmap_1.17.1.zip && rm ComplexHeatmap_1.17.1.tar.gz ComplexHeatmap_1.17.1.zip
###
##############################################################################
##############################################################################
% Total % Received % Xferd Average Speed Time Time Time Current
Dload Upload Total Spent Left Speed
0 0 0 0 0 0 0 0 --:--:-- --:--:-- --:--:-- 0
1 1184k 1 16384 0 0 120k 0 0:00:09 --:--:-- 0:00:09 123k
100 1184k 100 1184k 0 0 8350k 0 --:--:-- --:--:-- --:--:-- 8457k
install for i386
* installing *source* package 'ComplexHeatmap' ...
** R
** inst
** preparing package for lazy loading
** help
*** installing help indices
converting help for package 'ComplexHeatmap'
finding HTML links ... done
AdditiveUnit-class html
AdditiveUnit html
ColorMapping-class html
Rd warning: C:/Users/biocbuild/bbs-3.6-bioc/tmpdir/RtmpKWOPRb/R.INSTALL10ac7709dec/ComplexHeatmap/man/ColorMapping-class.rd:21: missing file link 'grob'
ColorMapping html
ComplexHeatmap-package html
Heatmap-class html
Heatmap html
HeatmapAnnotation-class html
HeatmapAnnotation html
HeatmapList-class html
HeatmapList html
Legend html
Rd warning: C:/Users/biocbuild/bbs-3.6-bioc/tmpdir/RtmpKWOPRb/R.INSTALL10ac7709dec/ComplexHeatmap/man/Legend.rd:51: missing file link 'grob'
Rd warning: C:/Users/biocbuild/bbs-3.6-bioc/tmpdir/RtmpKWOPRb/R.INSTALL10ac7709dec/ComplexHeatmap/man/Legend.rd:48: missing file link 'grob'
SingleAnnotation-class html
SingleAnnotation html
add.AdditiveUnit html
add_heatmap-Heatmap-method html
add_heatmap-HeatmapAnnotation-method html
add_heatmap-HeatmapList-method html
add_heatmap-dispatch html
adjust_dend_by_leaf_width html
anno_barplot html
anno_boxplot html
anno_density html
anno_histogram html
anno_link html
anno_oncoprint_barplot html
anno_points html
anno_text html
annotation_legend_size-HeatmapList-method
html
Rd warning: C:/Users/biocbuild/bbs-3.6-bioc/tmpdir/RtmpKWOPRb/R.INSTALL10ac7709dec/ComplexHeatmap/man/annotation_legend_size-HeatmapList-method.rd:16: missing file link 'grob'
color_mapping_legend-ColorMapping-method
html
Rd warning: C:/Users/biocbuild/bbs-3.6-bioc/tmpdir/RtmpKWOPRb/R.INSTALL10ac7709dec/ComplexHeatmap/man/color_mapping_legend-ColorMapping-method.rd:60: missing file link 'grob'
columnAnnotation html
column_anno_barplot html
column_anno_boxplot html
column_anno_density html
column_anno_histogram html
column_anno_link html
column_anno_points html
column_anno_text html
column_dend-Heatmap-method html
column_dend-HeatmapList-method html
column_dend-dispatch html
column_order-Heatmap-method html
column_order-HeatmapList-method html
column_order-dispatch html
component_height-Heatmap-method html
component_height-HeatmapList-method html
component_height-dispatch html
component_width-Heatmap-method html
component_width-HeatmapList-method html
component_width-dispatch html
decorate_annotation html
Rd warning: C:/Users/biocbuild/bbs-3.6-bioc/tmpdir/RtmpKWOPRb/R.INSTALL10ac7709dec/ComplexHeatmap/man/decorate_annotation.rd:23: missing file link 'seekViewport'
decorate_column_dend html
decorate_column_names html
decorate_column_title html
decorate_dend html
Rd warning: C:/Users/biocbuild/bbs-3.6-bioc/tmpdir/RtmpKWOPRb/R.INSTALL10ac7709dec/ComplexHeatmap/man/decorate_dend.rd:25: missing file link 'seekViewport'
decorate_dimnames html
Rd warning: C:/Users/biocbuild/bbs-3.6-bioc/tmpdir/RtmpKWOPRb/R.INSTALL10ac7709dec/ComplexHeatmap/man/decorate_dimnames.rd:25: missing file link 'seekViewport'
decorate_heatmap_body html
Rd warning: C:/Users/biocbuild/bbs-3.6-bioc/tmpdir/RtmpKWOPRb/R.INSTALL10ac7709dec/ComplexHeatmap/man/decorate_heatmap_body.rd:23: missing file link 'seekViewport'
decorate_row_dend html
decorate_row_names html
decorate_row_title html
decorate_title html
Rd warning: C:/Users/biocbuild/bbs-3.6-bioc/tmpdir/RtmpKWOPRb/R.INSTALL10ac7709dec/ComplexHeatmap/man/decorate_title.rd:25: missing file link 'seekViewport'
densityHeatmap html
dist2 html
Rd warning: C:/Users/biocbuild/bbs-3.6-bioc/tmpdir/RtmpKWOPRb/R.INSTALL10ac7709dec/ComplexHeatmap/man/dist2.rd:16: missing file link 'as.dist'
draw-Heatmap-method html
draw-HeatmapAnnotation-method html
draw-HeatmapList-method html
Rd warning: C:/Users/biocbuild/bbs-3.6-bioc/tmpdir/RtmpKWOPRb/R.INSTALL10ac7709dec/ComplexHeatmap/man/draw-HeatmapList-method.rd:43: missing file link 'grob'
Rd warning: C:/Users/biocbuild/bbs-3.6-bioc/tmpdir/RtmpKWOPRb/R.INSTALL10ac7709dec/ComplexHeatmap/man/draw-HeatmapList-method.rd:46: missing file link 'grob'
draw-SingleAnnotation-method html
draw-dispatch html
draw_annotation-Heatmap-method html
draw_annotation_legend-HeatmapList-method
html
Rd warning: C:/Users/biocbuild/bbs-3.6-bioc/tmpdir/RtmpKWOPRb/R.INSTALL10ac7709dec/ComplexHeatmap/man/draw_annotation_legend-HeatmapList-method.rd:16: missing file link 'grob'
draw_dend-Heatmap-method html
draw_dimnames-Heatmap-method html
draw_heatmap_body-Heatmap-method html
draw_heatmap_legend-HeatmapList-method
html
Rd warning: C:/Users/biocbuild/bbs-3.6-bioc/tmpdir/RtmpKWOPRb/R.INSTALL10ac7709dec/ComplexHeatmap/man/draw_heatmap_legend-HeatmapList-method.rd:16: missing file link 'grob'
draw_heatmap_list-HeatmapList-method html
draw_title-Heatmap-method html
draw_title-HeatmapList-method html
draw_title-dispatch html
enhanced_basicplot html
Rd warning: C:/Users/biocbuild/bbs-3.6-bioc/tmpdir/RtmpKWOPRb/R.INSTALL10ac7709dec/ComplexHeatmap/man/enhanced_basicplot.rd:32: missing file link 'grob'
get_color_mapping_list-HeatmapAnnotation-method
html
get_color_mapping_param_list-HeatmapAnnotation-method
html
grid.dendrogram html
grid.dendrogram2 html
heatmap_legend_size-HeatmapList-method
html
Rd warning: C:/Users/biocbuild/bbs-3.6-bioc/tmpdir/RtmpKWOPRb/R.INSTALL10ac7709dec/ComplexHeatmap/man/heatmap_legend_size-HeatmapList-method.rd:16: missing file link 'grob'
ht_global_opt html
is_abs_unit html
Rd warning: C:/Users/biocbuild/bbs-3.6-bioc/tmpdir/RtmpKWOPRb/R.INSTALL10ac7709dec/ComplexHeatmap/man/is_abs_unit.rd:19: missing file link 'grob'
make_column_cluster-Heatmap-method html
make_layout-Heatmap-method html
make_layout-HeatmapList-method html
Rd warning: C:/Users/biocbuild/bbs-3.6-bioc/tmpdir/RtmpKWOPRb/R.INSTALL10ac7709dec/ComplexHeatmap/man/make_layout-HeatmapList-method.rd:53: missing file link 'grob'
Rd warning: C:/Users/biocbuild/bbs-3.6-bioc/tmpdir/RtmpKWOPRb/R.INSTALL10ac7709dec/ComplexHeatmap/man/make_layout-HeatmapList-method.rd:56: missing file link 'grob'
make_layout-dispatch html
make_row_cluster-Heatmap-method html
map_to_colors-ColorMapping-method html
max_text_height html
Rd warning: C:/Users/biocbuild/bbs-3.6-bioc/tmpdir/RtmpKWOPRb/R.INSTALL10ac7709dec/ComplexHeatmap/man/max_text_height.rd:15: missing file link 'textGrob'
Rd warning: C:/Users/biocbuild/bbs-3.6-bioc/tmpdir/RtmpKWOPRb/R.INSTALL10ac7709dec/ComplexHeatmap/man/max_text_height.rd:19: missing file link 'textGrob'
max_text_width html
Rd warning: C:/Users/biocbuild/bbs-3.6-bioc/tmpdir/RtmpKWOPRb/R.INSTALL10ac7709dec/ComplexHeatmap/man/max_text_width.rd:15: missing file link 'textGrob'
Rd warning: C:/Users/biocbuild/bbs-3.6-bioc/tmpdir/RtmpKWOPRb/R.INSTALL10ac7709dec/ComplexHeatmap/man/max_text_width.rd:19: missing file link 'textGrob'
oncoPrint html
packLegend html
Rd warning: C:/Users/biocbuild/bbs-3.6-bioc/tmpdir/RtmpKWOPRb/R.INSTALL10ac7709dec/ComplexHeatmap/man/packLegend.rd:20: missing file link 'grob'
plotDataFrame html
prepare-Heatmap-method html
rowAnnotation html
row_anno_barplot html
row_anno_boxplot html
row_anno_density html
row_anno_histogram html
row_anno_link html
row_anno_points html
row_anno_text html
row_dend-Heatmap-method html
row_dend-HeatmapList-method html
row_dend-dispatch html
row_order-Heatmap-method html
row_order-HeatmapList-method html
row_order-dispatch html
selectArea html
set_component_height-Heatmap-method html
show-ColorMapping-method html
show-Heatmap-method html
show-HeatmapAnnotation-method html
show-HeatmapList-method html
show-SingleAnnotation-method html
show-dispatch html
unify_mat_list html
** building package indices
** installing vignettes
** testing if installed package can be loaded
In R CMD INSTALL
install for x64
* installing *source* package 'ComplexHeatmap' ...
** testing if installed package can be loaded
* MD5 sums
packaged installation of 'ComplexHeatmap' as ComplexHeatmap_1.17.1.zip
* DONE (ComplexHeatmap)
In R CMD INSTALL
In R CMD INSTALL
* installing to library 'C:/Users/biocbuild/bbs-3.6-bioc/R/library'
package 'ComplexHeatmap' successfully unpacked and MD5 sums checked
In R CMD INSTALL