| Back to Multiple platform build/check report for BioC 3.6 |
|
This page was generated on 2018-04-12 13:08:30 -0400 (Thu, 12 Apr 2018).
| Package 211/1472 | Hostname | OS / Arch | INSTALL | BUILD | CHECK | BUILD BIN | ||||||
| ChemmineR 2.30.2 Thomas Girke
| malbec1 | Linux (Ubuntu 16.04.1 LTS) / x86_64 | OK | OK | [ OK ] | |||||||
| tokay1 | Windows Server 2012 R2 Standard / x64 | OK | OK | OK | OK | |||||||
| veracruz1 | OS X 10.11.6 El Capitan / x86_64 | OK | OK | OK | OK |
| Package: ChemmineR |
| Version: 2.30.2 |
| Command: /home/biocbuild/bbs-3.6-bioc/R/bin/R CMD check --no-vignettes --timings ChemmineR_2.30.2.tar.gz |
| StartedAt: 2018-04-11 22:07:45 -0400 (Wed, 11 Apr 2018) |
| EndedAt: 2018-04-11 22:09:40 -0400 (Wed, 11 Apr 2018) |
| EllapsedTime: 114.5 seconds |
| RetCode: 0 |
| Status: OK |
| CheckDir: ChemmineR.Rcheck |
| Warnings: 0 |
##############################################################################
##############################################################################
###
### Running command:
###
### /home/biocbuild/bbs-3.6-bioc/R/bin/R CMD check --no-vignettes --timings ChemmineR_2.30.2.tar.gz
###
##############################################################################
##############################################################################
* using log directory ‘/home/biocbuild/bbs-3.6-bioc/meat/ChemmineR.Rcheck’
* using R version 3.4.4 (2018-03-15)
* using platform: x86_64-pc-linux-gnu (64-bit)
* using session charset: UTF-8
* using option ‘--no-vignettes’
* checking for file ‘ChemmineR/DESCRIPTION’ ... OK
* checking extension type ... Package
* this is package ‘ChemmineR’ version ‘2.30.2’
* checking package namespace information ... OK
* checking package dependencies ... OK
* checking if this is a source package ... OK
* checking if there is a namespace ... OK
* checking for hidden files and directories ... OK
* checking for portable file names ... OK
* checking for sufficient/correct file permissions ... OK
* checking whether package ‘ChemmineR’ can be installed ... OK
* checking installed package size ... OK
* checking package directory ... OK
* checking ‘build’ directory ... OK
* checking DESCRIPTION meta-information ... NOTE
Package listed in more than one of Depends, Imports, Suggests, Enhances:
‘ChemmineOB’
A package should be listed in only one of these fields.
* checking top-level files ... OK
* checking for left-over files ... OK
* checking index information ... OK
* checking package subdirectories ... OK
* checking R files for non-ASCII characters ... OK
* checking R files for syntax errors ... OK
* checking whether the package can be loaded ... OK
* checking whether the package can be loaded with stated dependencies ... OK
* checking whether the package can be unloaded cleanly ... OK
* checking whether the namespace can be loaded with stated dependencies ... OK
* checking whether the namespace can be unloaded cleanly ... OK
* checking dependencies in R code ... NOTE
'library' or 'require' calls in package code:
‘ChemmineDrugs’ ‘ChemmineOB’ ‘RPostgreSQL’ ‘RSQLite’ ‘fmcsR’ ‘png’
‘snow’
Please use :: or requireNamespace() instead.
See section 'Suggested packages' in the 'Writing R Extensions' manual.
Namespace in Imports field not imported from: ‘BiocGenerics’
All declared Imports should be used.
* checking S3 generic/method consistency ... OK
* checking replacement functions ... OK
* checking foreign function calls ... OK
* checking R code for possible problems ... NOTE
Found the following possibly unsafe calls:
File ‘ChemmineR/R/sim.R’:
unlockBinding(".progress_bar_int_cnt", environment(.progress_bar))
.data.frame.to.str: no visible global function definition for
‘write.table’
.data.frame.to.str: no visible binding for global variable ‘string’
.parseV3000: no visible binding for global variable ‘AW’
.rings: no visible global function definition for ‘combn’
applyOptions: no visible global function definition for ‘convertFormat’
browseJob: no visible global function definition for ‘browseURL’
canonicalNumbering: no visible global function definition for
‘canonicalNumbering_OB’
canonicalNumberingOB: no visible global function definition for
‘canonicalNumbering_OB’
cluster.visualize: no visible global function definition for ‘rainbow’
cluster.visualize: no visible global function definition for ‘pdf’
cluster.visualize: no visible global function definition for
‘postscript’
cluster.visualize: no visible global function definition for ‘dev.off’
desc2fp: no visible global function definition for ‘data’
draw_sdf: no visible global function definition for ‘rgb’
draw_sdf: no visible global function definition for ‘fmcs’
exactMassOB: no visible global function definition for ‘exactMass_OB’
fingerprintOB: no visible global function definition for
‘fingerprint_OB’
getCompoundFeatures : <anonymous>: no visible global function
definition for ‘write.table’
getCompounds: no visible global function definition for ‘str’
getDbConn: no visible global function definition for ‘error’
handle_raster: no visible global function definition for ‘readPNG’
handle_segs: no visible binding for global variable ‘C1’
handle_segs: no visible binding for global variable ‘C2’
handle_segs: no visible binding for global variable ‘C1.1’
handle_segs: no visible binding for global variable ‘C2.1’
handle_text: no visible binding for global variable ‘C1’
handle_text: no visible binding for global variable ‘C2’
listCMTools: no visible global function definition for ‘read.table’
parBatchByIndex: no visible global function definition for
‘clusterExport’
parBatchByIndex: no visible global function definition for
‘clusterApplyLB’
postgresqlWriteTable: no visible global function definition for
‘postgresqlTableRef’
postgresqlWriteTable: no visible global function definition for
‘postgresqlQuoteId’
postgresqlWriteTable: no visible global function definition for
‘postgresqlpqExec’
postgresqlWriteTable: no visible global function definition for
‘postgresqlCopyInDataframe’
postgresqlWriteTable: no visible global function definition for
‘postgresqlgetResult’
propOB: no visible global function definition for ‘prop_OB’
read.AP: no visible global function definition for ‘read.delim’
sdf2OBMol: no visible global function definition for ‘forEachMol’
sdf2smiles: no visible global function definition for ‘convertFormat’
sdf2smilesOB: no visible global function definition for ‘convertFormat’
sdfStream: no visible global function definition for ‘write.table’
setPriorities: no visible global function definition for
‘clusterExport’
smartsSearchOB: no visible global function definition for
‘smartsSearch_OB’
smile2sdfFile: no visible global function definition for
‘convertFormatFile’
smiles2sdf: no visible global function definition for ‘convertFormat’
smiles2sdfOB: no visible global function definition for ‘convertFormat’
write.SMI: no visible global function definition for ‘write.table’
Undefined global functions or variables:
AW C1 C1.1 C2 C2.1 browseURL canonicalNumbering_OB clusterApplyLB
clusterExport combn convertFormat convertFormatFile data dev.off
error exactMass_OB fingerprint_OB fmcs forEachMol pdf
postgresqlCopyInDataframe postgresqlQuoteId postgresqlTableRef
postgresqlgetResult postgresqlpqExec postscript prop_OB rainbow
read.delim read.table readPNG rgb smartsSearch_OB str string
write.table
Consider adding
importFrom("grDevices", "dev.off", "pdf", "postscript", "rainbow",
"rgb")
importFrom("utils", "browseURL", "combn", "data", "read.delim",
"read.table", "str", "write.table")
to your NAMESPACE file.
* checking Rd files ... OK
* checking Rd metadata ... OK
* checking Rd cross-references ... OK
* checking for missing documentation entries ... OK
* checking for code/documentation mismatches ... OK
* checking Rd \usage sections ... OK
* checking Rd contents ... OK
* checking for unstated dependencies in examples ... OK
* checking contents of ‘data’ directory ... OK
* checking data for non-ASCII characters ... OK
* checking data for ASCII and uncompressed saves ... OK
* checking line endings in C/C++/Fortran sources/headers ... OK
* checking line endings in Makefiles ... OK
* checking compilation flags in Makevars ... OK
* checking for GNU extensions in Makefiles ... OK
* checking for portable use of $(BLAS_LIBS) and $(LAPACK_LIBS) ... OK
* checking compiled code ... NOTE
File ‘ChemmineR/libs/ChemmineR.so’:
Found ‘_ZSt4cerr’, possibly from ‘std::cerr’ (C++)
Objects: ‘desc.o’, ‘formats.o’, ‘script.o’
Found ‘_ZSt4cout’, possibly from ‘std::cout’ (C++)
Object: ‘cluster.o’
Compiled code should not call entry points which might terminate R nor
write to stdout/stderr instead of to the console, nor use Fortran I/O
nor system RNGs.
See ‘Writing portable packages’ in the ‘Writing R Extensions’ manual.
* checking installed files from ‘inst/doc’ ... OK
* checking files in ‘vignettes’ ... OK
* checking examples ... OK
* checking for unstated dependencies in ‘tests’ ... OK
* checking tests ...
Running ‘runTests.R’
OK
* checking for unstated dependencies in vignettes ... OK
* checking package vignettes in ‘inst/doc’ ... OK
* checking running R code from vignettes ... SKIPPED
* checking re-building of vignette outputs ... SKIPPED
* checking PDF version of manual ... OK
* DONE
Status: 4 NOTEs
See
‘/home/biocbuild/bbs-3.6-bioc/meat/ChemmineR.Rcheck/00check.log’
for details.
ChemmineR.Rcheck/00install.out
* installing *source* package ‘ChemmineR’ ...
** libs
g++ -I/home/biocbuild/bbs-3.6-bioc/R/include -DNDEBUG -I"/home/biocbuild/bbs-3.6-bioc/R/library/Rcpp/include" -I"/home/biocbuild/bbs-3.6-bioc/R/library/BH/include" -I/usr/local/include -DNO_MAIN -DNO_DEBUG -fpic -g -O2 -Wall -c DisjointSets.cpp -o DisjointSets.o
g++ -I/home/biocbuild/bbs-3.6-bioc/R/include -DNDEBUG -I"/home/biocbuild/bbs-3.6-bioc/R/library/Rcpp/include" -I"/home/biocbuild/bbs-3.6-bioc/R/library/BH/include" -I/usr/local/include -DNO_MAIN -DNO_DEBUG -fpic -g -O2 -Wall -c cluster.cc -o cluster.o
cluster.cc: In function ‘int nbr_intersect(std::vector<int>&, std::vector<int>&)’:
cluster.cc:118:11: warning: comparison between signed and unsigned integer expressions [-Wsign-compare]
while (i < nbrs1.size() and j < nbrs2.size()) {
^
cluster.cc:118:32: warning: comparison between signed and unsigned integer expressions [-Wsign-compare]
while (i < nbrs1.size() and j < nbrs2.size()) {
^
cluster.cc: In function ‘int contains(int, std::vector<int>&)’:
cluster.cc:131:17: warning: comparison between signed and unsigned integer expressions [-Wsign-compare]
for(int i=0; i < list.size(); i++)
^
cluster.cc: In function ‘DisjointSets cluster(int, int, int, int)’:
cluster.cc:267:21: warning: comparison between signed and unsigned integer expressions [-Wsign-compare]
for (int j = 0; j < nbr_list[i].size(); j ++) {
^
cluster.cc: In function ‘void loadNNMatrix(int, int, int, SEXP)’:
cluster.cc:284:21: warning: comparison between signed and unsigned integer expressions [-Wsign-compare]
for(unsigned i=0; i<N; i++) //rows
^
cluster.cc:298:18: warning: comparison between signed and unsigned integer expressions [-Wsign-compare]
if(nbrs.size() < minNbrs) // will end up a singleton
^
cluster.cc: In function ‘void loadNNList(int, int, SEXP)’:
cluster.cc:314:21: warning: comparison between signed and unsigned integer expressions [-Wsign-compare]
for(unsigned i=0; i<N; i++) //rows
^
cluster.cc:332:18: warning: comparison between signed and unsigned integer expressions [-Wsign-compare]
if(nbrs.size() < minNbrs) // will end up a singleton
^
cluster.cc: In function ‘SEXPREC* jarvis_patrick(SEXP, SEXP, SEXP, SEXP, SEXP)’:
cluster.cc:390:21: warning: comparison between signed and unsigned integer expressions [-Wsign-compare]
for(unsigned i=0; i<N; i++){
^
cluster.cc: At global scope:
cluster.cc:49:13: warning: ‘void prepare_neighbors(const char*, int, int)’ defined but not used [-Wunused-function]
void static prepare_neighbors(const char* nbr_file, int skip, int p)
^
g++ -I/home/biocbuild/bbs-3.6-bioc/R/include -DNDEBUG -I"/home/biocbuild/bbs-3.6-bioc/R/library/Rcpp/include" -I"/home/biocbuild/bbs-3.6-bioc/R/library/BH/include" -I/usr/local/include -DNO_MAIN -DNO_DEBUG -fpic -g -O2 -Wall -c cstrsplit.cc -o cstrsplit.o
g++ -I/home/biocbuild/bbs-3.6-bioc/R/include -DNDEBUG -I"/home/biocbuild/bbs-3.6-bioc/R/library/Rcpp/include" -I"/home/biocbuild/bbs-3.6-bioc/R/library/BH/include" -I/usr/local/include -DNO_MAIN -DNO_DEBUG -fpic -g -O2 -Wall -c desc.cc -o desc.o
desc.cc: In function ‘SEXPREC* genAPDescriptor(SEXP)’:
desc.cc:249:17: warning: comparison between signed and unsigned integer expressions [-Wsign-compare]
for(int i=0; i < descs.size(); i++)
^
g++ -I/home/biocbuild/bbs-3.6-bioc/R/include -DNDEBUG -I"/home/biocbuild/bbs-3.6-bioc/R/library/Rcpp/include" -I"/home/biocbuild/bbs-3.6-bioc/R/library/BH/include" -I/usr/local/include -DNO_MAIN -DNO_DEBUG -fpic -g -O2 -Wall -c fingerprints.cc -o fingerprints.o
fingerprints.cc: In function ‘SEXPREC* uniquifyAtomPairs(SEXP)’:
fingerprints.cc:138:17: warning: comparison between signed and unsigned integer expressions [-Wsign-compare]
for(int i=0; i < aps.size(); i++)
^
fingerprints.cc:145:17: warning: comparison between signed and unsigned integer expressions [-Wsign-compare]
for(int i=0; i < aps.size(); i++){
^
fingerprints.cc:158:17: warning: comparison between signed and unsigned integer expressions [-Wsign-compare]
for(int i=0; i < aps.size(); i++){
^
g++ -I/home/biocbuild/bbs-3.6-bioc/R/include -DNDEBUG -I"/home/biocbuild/bbs-3.6-bioc/R/library/Rcpp/include" -I"/home/biocbuild/bbs-3.6-bioc/R/library/BH/include" -I/usr/local/include -DNO_MAIN -DNO_DEBUG -fpic -g -O2 -Wall -c formats.cc -o formats.o
g++ -I/home/biocbuild/bbs-3.6-bioc/R/include -DNDEBUG -I"/home/biocbuild/bbs-3.6-bioc/R/library/Rcpp/include" -I"/home/biocbuild/bbs-3.6-bioc/R/library/BH/include" -I/usr/local/include -DNO_MAIN -DNO_DEBUG -fpic -g -O2 -Wall -c molecule.cc -o molecule.o
g++ -I/home/biocbuild/bbs-3.6-bioc/R/include -DNDEBUG -I"/home/biocbuild/bbs-3.6-bioc/R/library/Rcpp/include" -I"/home/biocbuild/bbs-3.6-bioc/R/library/BH/include" -I/usr/local/include -DNO_MAIN -DNO_DEBUG -fpic -g -O2 -Wall -c r_wrap.cc -o r_wrap.o
r_wrap.cc: In function ‘SEXPREC* SWIG_MakePtr(void*, const char*, R_SWIG_Owner)’:
r_wrap.cc:949:15: warning: variable ‘p’ set but not used [-Wunused-but-set-variable]
const char *p = typeName;
^
g++ -I/home/biocbuild/bbs-3.6-bioc/R/include -DNDEBUG -I"/home/biocbuild/bbs-3.6-bioc/R/library/Rcpp/include" -I"/home/biocbuild/bbs-3.6-bioc/R/library/BH/include" -I/usr/local/include -DNO_MAIN -DNO_DEBUG -fpic -g -O2 -Wall -c script.cc -o script.o
In file included from script.cc:2:0:
desc.h:39:13: warning: ‘elements’ defined but not used [-Wunused-variable]
static char elements[112][3] = {
^
g++ -I/home/biocbuild/bbs-3.6-bioc/R/include -DNDEBUG -I"/home/biocbuild/bbs-3.6-bioc/R/library/Rcpp/include" -I"/home/biocbuild/bbs-3.6-bioc/R/library/BH/include" -I/usr/local/include -DNO_MAIN -DNO_DEBUG -fpic -g -O2 -Wall -c similarity.cc -o similarity.o
In file included from similarity.cc:1:0:
desc.h:39:13: warning: ‘elements’ defined but not used [-Wunused-variable]
static char elements[112][3] = {
^
g++ -shared -L/home/biocbuild/bbs-3.6-bioc/R/lib -L/usr/local/lib -o ChemmineR.so DisjointSets.o cluster.o cstrsplit.o desc.o fingerprints.o formats.o molecule.o r_wrap.o script.o similarity.o -L/home/biocbuild/bbs-3.6-bioc/R/lib -lR
installing to /home/biocbuild/bbs-3.6-bioc/meat/ChemmineR.Rcheck/ChemmineR/libs
** R
** data
** inst
** preparing package for lazy loading
** help
*** installing help indices
** building package indices
** installing vignettes
** testing if installed package can be loaded
* DONE (ChemmineR)
ChemmineR.Rcheck/tests/runTests.Rout
R version 3.4.4 (2018-03-15) -- "Someone to Lean On"
Copyright (C) 2018 The R Foundation for Statistical Computing
Platform: x86_64-pc-linux-gnu (64-bit)
R is free software and comes with ABSOLUTELY NO WARRANTY.
You are welcome to redistribute it under certain conditions.
Type 'license()' or 'licence()' for distribution details.
R is a collaborative project with many contributors.
Type 'contributors()' for more information and
'citation()' on how to cite R or R packages in publications.
Type 'demo()' for some demos, 'help()' for on-line help, or
'help.start()' for an HTML browser interface to help.
Type 'q()' to quit R.
> BiocGenerics:::testPackage("ChemmineR")
Loading required package: RSQLite
[1] "createing db"
[1] "createing db"
[1] "loading first half, no features"
[1] "createing db"
[1] "loading first half,with features"
adding new features to existing compounds. This could take a while
[1] "loading incomplete features"
[1] "loading second half"
adding new features to existing compounds. This could take a while
[1] "done loading"
[1] "createing db"
adding new features to existing compounds. This could take a while
[1] "found 70 compounds"
[1] "found 20 compounds"
Timing stopped at: 0 0 0.001
Error in DEACTIVATED("local test") : local test
In addition: There were 15 warnings (use warnings() to see them)
Timing stopped at: 0 0 0
Error in DEACTIVATED("local test only") : local test only
found 100 ids
[1] 201 202 203 204 205 206 207 208 209 210 211 212 213 214 215 216 217 218
[19] 219 220 221 222 223 224 225 226 227 228 229 230 231 232 233 234 235 236
[37] 237 238 239 240 241 242 243 244 245 246 247 248 249 250 251 252 253 254
[55] 255 256 257 258 259 260 261 262 263 264 265 266 267 268 269 270 271 272
[73] 273 274 275 276 277 278 279 280 281 282 283 284 285 286 287 288 289 290
[91] 291 292 293 294 295 296 297 298 299 300
starting parBatchByIndex
Loading required package: snow
int [1:100] 201 202 203 204 205 206 207 208 209 210 ...
NULL
[1] "results: parBench-sub-1,parBench-sub-2,parBench-sub-3,parBench-sub-4,parBench-sub-5,parBench-sub-6,parBench-sub-7,parBench-sub-8,parBench-sub-9,parBench-sub-10"
[1] "loading duplications"
loading 1 new compounds, updating 1 compounds
fetching features:
Timing stopped at: 0 0 0
Error in DEACTIVATED("causing timeout on bioc, disabling for now") :
causing timeout on bioc, disabling for now
In addition: Warning messages:
1: In .Internal(gc(verbose, reset)) :
closing unused connection 5 (<-localhost:11815)
2: In .Internal(gc(verbose, reset)) :
closing unused connection 4 (<-localhost:11815)
3: In .Internal(gc(verbose, reset)) :
closing unused connection 3 (<-localhost:11815)
test.formatConversions
Timing stopped at: 0 0 0.001
Error in DEACTIVATED("removed old version of function") :
removed old version of function
Timing stopped at: 0 0 0.001
Error in DEACTIVATED("requires local files") : requires local files
Timing stopped at: 0 0 0
Error in DEACTIVATED("fails on ubuntu 16.04") : fails on ubuntu 16.04
[1] "rotable bonds: "
CMP1 CMP2 CMP3 CMP4 CMP5
24 20 14 30 10
[1] "650001" "650002" "650003" "650004" "650005"
RUNIT TEST PROTOCOL -- Wed Apr 11 22:09:34 2018
***********************************************
Number of test functions: 22
Number of deactivated test functions: 6
Number of errors: 0
Number of failures: 0
1 Test Suite :
ChemmineR RUnit Tests - 22 test functions, 0 errors, 0 failures
Number of test functions: 22
Number of deactivated test functions: 6
Number of errors: 0
Number of failures: 0
>
> proc.time()
user system elapsed
16.368 0.272 17.667
ChemmineR.Rcheck/ChemmineR-Ex.timings
| name | user | system | elapsed | |
| AP-class | 0.504 | 0.040 | 0.544 | |
| APset-class | 0.580 | 0.044 | 0.624 | |
| ExtSDF-class | 0.000 | 0.000 | 0.001 | |
| FP-class | 0.076 | 0.004 | 0.079 | |
| FPset-class | 0.336 | 0.016 | 0.351 | |
| SDF-class | 0.052 | 0.000 | 0.050 | |
| SDF2apcmp | 0.020 | 0.000 | 0.019 | |
| SDFset-class | 0.272 | 0.012 | 0.286 | |
| SDFset2SDF | 0.084 | 0.000 | 0.085 | |
| SDFset2list | 0.040 | 0.012 | 0.051 | |
| SDFstr-class | 0.26 | 0.00 | 0.26 | |
| SMI-class | 0.004 | 0.000 | 0.004 | |
| SMIset-class | 0.004 | 0.004 | 0.008 | |
| addDescriptorType | 0.004 | 0.000 | 0.002 | |
| addNewFeatures | 3.192 | 0.028 | 3.236 | |
| ap | 0.060 | 0.012 | 0.074 | |
| apfp | 0.004 | 0.000 | 0.002 | |
| apset | 0.000 | 0.004 | 0.004 | |
| apset2descdb | 0.264 | 0.016 | 0.280 | |
| atomblock | 0.084 | 0.004 | 0.087 | |
| atomcount | 0.208 | 0.000 | 0.207 | |
| atomprop | 0.008 | 0.000 | 0.004 | |
| atomsubset | 0.176 | 0.004 | 0.180 | |
| batchByIndex | 0.004 | 0.000 | 0.001 | |
| bondblock | 0.064 | 0.004 | 0.070 | |
| bonds | 0.024 | 0.000 | 0.026 | |
| browseJob | 0.004 | 0.000 | 0.001 | |
| bufferLines | 0.000 | 0.000 | 0.001 | |
| bufferResultSet | 0.000 | 0.000 | 0.001 | |
| byCluster | 0.760 | 0.000 | 0.757 | |
| canonicalNumbering | 0.264 | 0.012 | 0.377 | |
| canonicalize | 0.120 | 0.000 | 0.125 | |
| cid | 0.028 | 0.000 | 0.031 | |
| cluster.sizestat | 0.428 | 0.000 | 0.429 | |
| cluster.visualize | 0.484 | 0.000 | 0.485 | |
| cmp.cluster | 1.744 | 0.004 | 1.748 | |
| cmp.duplicated | 0.064 | 0.000 | 0.061 | |
| cmp.parse | 0.024 | 0.000 | 0.024 | |
| cmp.parse1 | 0 | 0 | 0 | |
| cmp.search | 0.544 | 0.004 | 0.548 | |
| cmp.similarity | 0.020 | 0.000 | 0.018 | |
| conMA | 0.040 | 0.008 | 0.045 | |
| connections | 0.192 | 0.004 | 0.244 | |
| datablock | 0.272 | 0.008 | 0.278 | |
| datablock2ma | 0.052 | 0.004 | 0.055 | |
| db.explain | 0.032 | 0.004 | 0.035 | |
| db.subset | 0.004 | 0.000 | 0.003 | |
| dbTransaction | 0.020 | 0.000 | 0.018 | |
| desc2fp | 0.108 | 0.004 | 0.114 | |
| draw_sdf | 1.284 | 0.008 | 1.297 | |
| exactMassOB | 0.528 | 0.000 | 0.551 | |
| findCompounds | 2.204 | 0.004 | 2.207 | |
| findCompoundsByName | 0.252 | 0.008 | 0.260 | |
| fingerprintOB | 0.004 | 0.000 | 0.000 | |
| fold | 0.000 | 0.000 | 0.001 | |
| foldCount | 0.016 | 0.000 | 0.014 | |
| fp2bit | 0.228 | 0.004 | 0.234 | |
| fpSim | 0.36 | 0.00 | 0.36 | |
| fptype | 0.000 | 0.000 | 0.001 | |
| fromNNMatrix | 0.608 | 0.000 | 0.606 | |
| genAPDescriptors | 0.016 | 0.000 | 0.018 | |
| genParameters | 0.480 | 0.000 | 0.481 | |
| generate3DCoords | 0 | 0 | 0 | |
| getAllCompoundIds | 0.26 | 0.00 | 0.26 | |
| getCompoundFeatures | 2.076 | 0.000 | 2.079 | |
| getCompoundNames | 0.252 | 0.004 | 0.256 | |
| getCompounds | 0.316 | 0.000 | 0.313 | |
| getIds | 0 | 0 | 0 | |
| grepSDFset | 0.080 | 0.000 | 0.078 | |
| groups | 0.164 | 0.008 | 0.174 | |
| header | 0.060 | 0.004 | 0.065 | |
| initDb | 0.020 | 0.000 | 0.018 | |
| jarvisPatrick | 1.604 | 0.004 | 1.608 | |
| jobToken-class | 0 | 0 | 0 | |
| launchCMTool | 0.000 | 0.000 | 0.001 | |
| listCMTools | 0.004 | 0.000 | 0.001 | |
| listFeatures | 0.276 | 0.000 | 0.276 | |
| loadSdf | 2.292 | 0.008 | 2.305 | |
| makeUnique | 0.016 | 0.000 | 0.016 | |
| maximallyDissimilar | 0.188 | 0.000 | 0.185 | |
| nearestNeighbors | 0.824 | 0.000 | 0.825 | |
| numBits | 0.004 | 0.000 | 0.001 | |
| obmol | 0.024 | 0.000 | 0.027 | |
| parBatchByIndex | 0.000 | 0.000 | 0.001 | |
| plotStruc | 0.248 | 0.004 | 0.252 | |
| propOB | 0.000 | 0.004 | 0.001 | |
| pubchemFPencoding | 0.004 | 0.000 | 0.004 | |
| read.AP | 0.024 | 0.000 | 0.024 | |
| read.SDFindex | 0.024 | 0.000 | 0.024 | |
| read.SDFset | 0.644 | 0.000 | 0.662 | |
| read.SDFstr | 0.816 | 0.000 | 0.818 | |
| read.SMIset | 0.004 | 0.000 | 0.002 | |
| regenerateCoords | 0.000 | 0.000 | 0.001 | |
| result | 0.000 | 0.000 | 0.001 | |
| rings | 0.468 | 0.000 | 0.470 | |
| sdf.subset | 0.000 | 0.000 | 0.001 | |
| sdf.visualize | 0.012 | 0.000 | 0.015 | |
| sdf2ap | 0.380 | 0.028 | 0.410 | |
| sdf2list | 0.020 | 0.004 | 0.025 | |
| sdf2smiles | 0 | 0 | 0 | |
| sdf2str | 0.024 | 0.000 | 0.024 | |
| sdfStream | 0.016 | 0.000 | 0.015 | |
| sdfid | 0.012 | 0.004 | 0.016 | |
| sdfsample | 0.032 | 0.004 | 0.035 | |
| sdfstr2list | 0.524 | 0.140 | 0.661 | |
| searchSim | 0.000 | 0.000 | 0.001 | |
| searchString | 0 | 0 | 0 | |
| selectInBatches | 0.004 | 0.000 | 0.001 | |
| setPriorities | 0 | 0 | 0 | |
| smartsSearchOB | 0.000 | 0.000 | 0.001 | |
| smiles2sdf | 0.004 | 0.000 | 0.000 | |
| smisample | 0.000 | 0.000 | 0.003 | |
| status | 0 | 0 | 0 | |
| toolDetails | 0 | 0 | 0 | |
| trimNeighbors | 0.992 | 0.000 | 0.990 | |
| validSDF | 0.016 | 0.000 | 0.018 | |
| view | 0.040 | 0.000 | 0.041 | |
| write.SDF | 0.116 | 0.004 | 0.118 | |
| write.SDFsplit | 0.020 | 0.000 | 0.022 | |
| write.SMI | 0.000 | 0.000 | 0.002 | |