| Back to Multiple platform build/check report for BioC 3.6 |
|
This page was generated on 2018-04-12 13:23:13 -0400 (Thu, 12 Apr 2018).
| Package 210/1472 | Hostname | OS / Arch | INSTALL | BUILD | CHECK | BUILD BIN | ||||||
| ChemmineOB 1.16.2 Thomas Girke
| malbec1 | Linux (Ubuntu 16.04.1 LTS) / x86_64 | OK | OK | OK | |||||||
| tokay1 | Windows Server 2012 R2 Standard / x64 | OK | [ OK ] | OK | OK | |||||||
| veracruz1 | OS X 10.11.6 El Capitan / x86_64 | OK | OK | OK | OK |
| Package: ChemmineOB |
| Version: 1.16.2 |
| Command: chmod a+r ChemmineOB -R && C:\Users\biocbuild\bbs-3.6-bioc\R\bin\R.exe CMD build --keep-empty-dirs --no-resave-data ChemmineOB |
| StartedAt: 2018-04-11 20:04:15 -0400 (Wed, 11 Apr 2018) |
| EndedAt: 2018-04-11 20:07:01 -0400 (Wed, 11 Apr 2018) |
| EllapsedTime: 165.2 seconds |
| RetCode: 0 |
| Status: OK |
| PackageFile: ChemmineOB_1.16.2.tar.gz |
| PackageFileSize: 1.131 MiB |
############################################################################## ############################################################################## ### ### Running command: ### ### chmod a+r ChemmineOB -R && C:\Users\biocbuild\bbs-3.6-bioc\R\bin\R.exe CMD build --keep-empty-dirs --no-resave-data ChemmineOB ### ############################################################################## ############################################################################## * checking for file 'ChemmineOB/DESCRIPTION' ... OK * preparing 'ChemmineOB': * checking DESCRIPTION meta-information ... OK * cleaning src * installing the package to build vignettes * creating vignettes ... OK * cleaning src * checking for LF line-endings in source and make files and shell scripts * checking for empty or unneeded directories * building 'ChemmineOB_1.16.2.tar.gz' Warning: file 'ChemmineOB/cleanup' did not have execute permissions: corrected Warning: file 'ChemmineOB/configure' did not have execute permissions: corrected