| Back to Multiple platform build/check report for BioC 3.6 |
|
This page was generated on 2018-04-12 13:35:07 -0400 (Thu, 12 Apr 2018).
| Package 196/1472 | Hostname | OS / Arch | INSTALL | BUILD | CHECK | BUILD BIN | ||||||
| CellNOptR 1.24.1 T.Cokelaer
| malbec1 | Linux (Ubuntu 16.04.1 LTS) / x86_64 | OK | OK | OK | |||||||
| tokay1 | Windows Server 2012 R2 Standard / x64 | OK | OK | OK | OK | |||||||
| veracruz1 | OS X 10.11.6 El Capitan / x86_64 | [ OK ] | OK | OK | OK |
| Package: CellNOptR |
| Version: 1.24.1 |
| Command: /Library/Frameworks/R.framework/Versions/Current/Resources/bin/R CMD INSTALL CellNOptR |
| StartedAt: 2018-04-11 18:17:57 -0400 (Wed, 11 Apr 2018) |
| EndedAt: 2018-04-11 18:18:04 -0400 (Wed, 11 Apr 2018) |
| EllapsedTime: 6.9 seconds |
| RetCode: 0 |
| Status: OK |
##############################################################################
##############################################################################
###
### Running command:
###
### /Library/Frameworks/R.framework/Versions/Current/Resources/bin/R CMD INSTALL CellNOptR
###
##############################################################################
##############################################################################
* installing to library ‘/Library/Frameworks/R.framework/Versions/3.4/Resources/library’
* installing *source* package ‘CellNOptR’ ...
** libs
clang -I/Library/Frameworks/R.framework/Resources/include -DNDEBUG -I/usr/local/include -I./include -fPIC -Wall -g -O2 -c getFit.c -o getFit.o
getFit.c:42:6: warning: unused variable 'selCounter' [-Wunused-variable]
int selCounter = 0;
^
getFit.c:40:6: warning: unused variable 'or_max' [-Wunused-variable]
int or_max = 0;
^
getFit.c:39:6: warning: unused variable 'curr_max' [-Wunused-variable]
int curr_max = 0;
^
getFit.c:41:6: warning: unused variable 'selection' [-Wunused-variable]
int selection[40];
^
getFit.c:47:6: warning: unused variable 'nReacs' [-Wunused-variable]
int nReacs = INTEGER(nReacs_in)[0];
^
5 warnings generated.
clang -I/Library/Frameworks/R.framework/Resources/include -DNDEBUG -I/usr/local/include -I./include -fPIC -Wall -g -O2 -c simulatorT1.c -o simulatorT1.o
simulatorT1.c:285:28: warning: equality comparison with extraneous parentheses [-Wparentheses-equality]
if((track_cond == nCond)) {
˜˜˜˜˜˜˜˜˜˜˜^˜˜˜˜˜˜˜
simulatorT1.c:285:28: note: remove extraneous parentheses around the comparison to silence this warning
if((track_cond == nCond)) {
˜ ^ ˜
simulatorT1.c:285:28: note: use '=' to turn this equality comparison into an assignment
if((track_cond == nCond)) {
^˜
=
1 warning generated.
clang -I/Library/Frameworks/R.framework/Resources/include -DNDEBUG -I/usr/local/include -I./include -fPIC -Wall -g -O2 -c simulatorTN.c -o simulatorTN.o
simulatorTN.c:303:24: warning: equality comparison with extraneous parentheses [-Wparentheses-equality]
if((track_cond == nCond)) {
˜˜˜˜˜˜˜˜˜˜˜^˜˜˜˜˜˜˜
simulatorTN.c:303:24: note: remove extraneous parentheses around the comparison to silence this warning
if((track_cond == nCond)) {
˜ ^ ˜
simulatorTN.c:303:24: note: use '=' to turn this equality comparison into an assignment
if((track_cond == nCond)) {
^˜
=
simulatorTN.c:501:28: warning: equality comparison with extraneous parentheses [-Wparentheses-equality]
if((track_cond == nCond)) {
˜˜˜˜˜˜˜˜˜˜˜^˜˜˜˜˜˜˜
simulatorTN.c:501:28: note: remove extraneous parentheses around the comparison to silence this warning
if((track_cond == nCond)) {
˜ ^ ˜
simulatorTN.c:501:28: note: use '=' to turn this equality comparison into an assignment
if((track_cond == nCond)) {
^˜
=
2 warnings generated.
clang++ -dynamiclib -Wl,-headerpad_max_install_names -undefined dynamic_lookup -single_module -multiply_defined suppress -L/Library/Frameworks/R.framework/Resources/lib -L/usr/local/lib -o CellNOptR.so getFit.o simulatorT1.o simulatorTN.o -F/Library/Frameworks/R.framework/.. -framework R -Wl,-framework -Wl,CoreFoundation
installing to /Library/Frameworks/R.framework/Versions/3.4/Resources/library/CellNOptR/libs
** R
** data
** inst
** preparing package for lazy loading
** help
*** installing help indices
** building package indices
** installing vignettes
** testing if installed package can be loaded
* DONE (CellNOptR)