| Back to Multiple platform build/check report for BioC 3.6 |
|
This page was generated on 2018-04-12 13:19:43 -0400 (Thu, 12 Apr 2018).
| Package 264/1472 | Hostname | OS / Arch | INSTALL | BUILD | CHECK | BUILD BIN | ||||||
| CNTools 1.34.0 J. Zhang
| malbec1 | Linux (Ubuntu 16.04.1 LTS) / x86_64 | OK | OK | OK | |||||||
| tokay1 | Windows Server 2012 R2 Standard / x64 | [ OK ] | OK | OK | OK | |||||||
| veracruz1 | OS X 10.11.6 El Capitan / x86_64 | OK | OK | OK | OK |
| Package: CNTools |
| Version: 1.34.0 |
| Command: rm -rf CNTools.buildbin-libdir && mkdir CNTools.buildbin-libdir && C:\cygwin\bin\curl.exe -O https://malbec1.bioconductor.org/BBS/3.6/bioc/src/contrib/CNTools_1.34.0.tar.gz && C:\Users\biocbuild\bbs-3.6-bioc\R\bin\R.exe CMD INSTALL --build --library=CNTools.buildbin-libdir --merge-multiarch CNTools_1.34.0.tar.gz && C:\Users\biocbuild\bbs-3.6-bioc\R\bin\R.exe CMD INSTALL CNTools_1.34.0.zip && rm CNTools_1.34.0.tar.gz CNTools_1.34.0.zip |
| StartedAt: 2018-04-11 18:32:57 -0400 (Wed, 11 Apr 2018) |
| EndedAt: 2018-04-11 18:33:30 -0400 (Wed, 11 Apr 2018) |
| EllapsedTime: 33.2 seconds |
| RetCode: 0 |
| Status: OK |
##############################################################################
##############################################################################
###
### Running command:
###
### rm -rf CNTools.buildbin-libdir && mkdir CNTools.buildbin-libdir && C:\cygwin\bin\curl.exe -O https://malbec1.bioconductor.org/BBS/3.6/bioc/src/contrib/CNTools_1.34.0.tar.gz && C:\Users\biocbuild\bbs-3.6-bioc\R\bin\R.exe CMD INSTALL --build --library=CNTools.buildbin-libdir --merge-multiarch CNTools_1.34.0.tar.gz && C:\Users\biocbuild\bbs-3.6-bioc\R\bin\R.exe CMD INSTALL CNTools_1.34.0.zip && rm CNTools_1.34.0.tar.gz CNTools_1.34.0.zip
###
##############################################################################
##############################################################################
% Total % Received % Xferd Average Speed Time Time Time Current
Dload Upload Total Spent Left Speed
0 0 0 0 0 0 0 0 --:--:-- --:--:-- --:--:-- 0
100 776k 100 776k 0 0 25.6M 0 --:--:-- --:--:-- --:--:-- 29.1M
install for i386
* installing *source* package 'CNTools' ...
** libs
C:/Rtools/mingw_32/bin/gcc -I"C:/Users/BIOCBU˜1/BBS-3˜1.6-B/R/include" -DNDEBUG -I"C:/local323/include" -O3 -Wall -std=gnu99 -mtune=generic -c getratios.c -o getratios.o
C:/Rtools/mingw_32/bin/g++ -shared -s -static-libgcc -o CNTools.dll tmp.def getratios.o -LC:/local323/lib/i386 -LC:/local323/lib -LC:/Users/BIOCBU˜1/BBS-3˜1.6-B/R/bin/i386 -lR
installing to C:/Users/biocbuild/bbs-3.6-bioc/meat/CNTools.buildbin-libdir/CNTools/libs/i386
** R
** data
** preparing package for lazy loading
Creating a new generic function for 'start' in package 'CNTools'
Creating a new generic function for 'end' in package 'CNTools'
Creating a generic function for 'genefilter' from package 'genefilter' in package 'CNTools'
** help
*** installing help indices
converting help for package 'CNTools'
finding HTML links ... done
CNSeg-class html
RS-class html
cor-methods html
diffBy-methods html
dist-methods html
genefilter-methods html
getRS-methods html
madFilter-methods html
** building package indices
** installing vignettes
** testing if installed package can be loaded
In R CMD INSTALL
install for x64
* installing *source* package 'CNTools' ...
** libs
C:/Rtools/mingw_64/bin/gcc -I"C:/Users/BIOCBU˜1/BBS-3˜1.6-B/R/include" -DNDEBUG -I"C:/local323/include" -O2 -Wall -std=gnu99 -mtune=generic -c getratios.c -o getratios.o
C:/Rtools/mingw_64/bin/g++ -shared -s -static-libgcc -o CNTools.dll tmp.def getratios.o -LC:/local323/lib/x64 -LC:/local323/lib -LC:/Users/BIOCBU˜1/BBS-3˜1.6-B/R/bin/x64 -lR
installing to C:/Users/biocbuild/bbs-3.6-bioc/meat/CNTools.buildbin-libdir/CNTools/libs/x64
** testing if installed package can be loaded
* MD5 sums
packaged installation of 'CNTools' as CNTools_1.34.0.zip
* DONE (CNTools)
In R CMD INSTALL
In R CMD INSTALL
* installing to library 'C:/Users/biocbuild/bbs-3.6-bioc/R/library'
package 'CNTools' successfully unpacked and MD5 sums checked
In R CMD INSTALL