| Back to Multiple platform build/check report for BioC 3.6 | 
  | 
This page was generated on 2018-04-12 13:36:48 -0400 (Thu, 12 Apr 2018).
| Package 149/1472 | Hostname | OS / Arch | INSTALL | BUILD | CHECK | BUILD BIN | ||||||
| BiSeq 1.18.0 Katja Hebestreit 
  | malbec1 | Linux (Ubuntu 16.04.1 LTS) / x86_64 | OK | OK | OK | |||||||
| tokay1 | Windows Server 2012 R2 Standard / x64 | OK | OK | OK | OK | |||||||
| veracruz1 | OS X 10.11.6 El Capitan / x86_64 | OK | OK | OK | [ OK ] | 
| Package: BiSeq | 
| Version: 1.18.0 | 
| Command: rm -rf BiSeq.buildbin-libdir && mkdir BiSeq.buildbin-libdir && /Users/biocbuild/BBS/utils/build-universal.sh BiSeq_1.18.0.tar.gz /Library/Frameworks/R.framework/Versions/Current/Resources/bin/R BiSeq.buildbin-libdir | 
| StartedAt: 2018-04-12 11:10:59 -0400 (Thu, 12 Apr 2018) | 
| EndedAt: 2018-04-12 11:11:16 -0400 (Thu, 12 Apr 2018) | 
| EllapsedTime: 17.6 seconds | 
| RetCode: 0 | 
| Status: OK | 
| PackageFile: BiSeq_1.18.0.tgz | 
| PackageFileSize: 1004 KiB | 
############################################################################## ############################################################################## ### ### Running command: ### ### rm -rf BiSeq.buildbin-libdir && mkdir BiSeq.buildbin-libdir && /Users/biocbuild/BBS/utils/build-universal.sh BiSeq_1.18.0.tar.gz /Library/Frameworks/R.framework/Versions/Current/Resources/bin/R BiSeq.buildbin-libdir ### ############################################################################## ############################################################################## >>>>>>> >>>>>>> INSTALLATION WITH 'R CMD INSTALL --preclean --no-multiarch --library=BiSeq.buildbin-libdir BiSeq_1.18.0.tar.gz' >>>>>>> * installing *source* package ‘BiSeq’ ... ** R ** data ** inst ** preparing package for lazy loading ** help *** installing help indices ** building package indices ** installing vignettes ** testing if installed package can be loaded * DONE (BiSeq)