| Back to Multiple platform build/check report for BioC 3.6 |
|
This page was generated on 2018-04-12 13:42:48 -0400 (Thu, 12 Apr 2018).
| Package 108/1472 | Hostname | OS / Arch | INSTALL | BUILD | CHECK | BUILD BIN | ||||||
| BgeeDB 2.5.0 Julien Wollbrett
| malbec1 | Linux (Ubuntu 16.04.1 LTS) / x86_64 | OK | OK | OK | |||||||
| tokay1 | Windows Server 2012 R2 Standard / x64 | OK | OK | ERROR | OK | |||||||
| veracruz1 | OS X 10.11.6 El Capitan / x86_64 | OK | OK | OK | [ OK ] |
| Package: BgeeDB |
| Version: 2.5.0 |
| Command: rm -rf BgeeDB.buildbin-libdir && mkdir BgeeDB.buildbin-libdir && /Users/biocbuild/BBS/utils/build-universal.sh BgeeDB_2.5.0.tar.gz /Library/Frameworks/R.framework/Versions/Current/Resources/bin/R BgeeDB.buildbin-libdir |
| StartedAt: 2018-04-12 11:09:15 -0400 (Thu, 12 Apr 2018) |
| EndedAt: 2018-04-12 11:09:25 -0400 (Thu, 12 Apr 2018) |
| EllapsedTime: 10.3 seconds |
| RetCode: 0 |
| Status: OK |
| PackageFile: BgeeDB_2.5.0.tgz |
| PackageFileSize: 240.9 KiB |
############################################################################## ############################################################################## ### ### Running command: ### ### rm -rf BgeeDB.buildbin-libdir && mkdir BgeeDB.buildbin-libdir && /Users/biocbuild/BBS/utils/build-universal.sh BgeeDB_2.5.0.tar.gz /Library/Frameworks/R.framework/Versions/Current/Resources/bin/R BgeeDB.buildbin-libdir ### ############################################################################## ############################################################################## >>>>>>> >>>>>>> INSTALLATION WITH 'R CMD INSTALL --preclean --no-multiarch --library=BgeeDB.buildbin-libdir BgeeDB_2.5.0.tar.gz' >>>>>>> * installing *source* package ‘BgeeDB’ ... ** R ** data ** inst ** preparing package for lazy loading groupGOTerms: GOBPTerm, GOMFTerm, GOCCTerm environments built. ** help *** installing help indices ** building package indices ** installing vignettes ** testing if installed package can be loaded groupGOTerms: GOBPTerm, GOMFTerm, GOCCTerm environments built. * DONE (BgeeDB)