| widgetTools 1.55.0 Jianhua Zhang
 
 | Snapshot Date: 2017-08-15 17:18:21 -0400 (Tue, 15 Aug 2017) |  | URL: https://hedgehog.fhcrc.org/bioconductor/trunk/madman/Rpacks/widgetTools |  | Last Changed Rev: 129129 / Revision: 131943 |  | Last Changed Date: 2017-04-24 15:50:57 -0400 (Mon, 24 Apr 2017) | 
 | malbec1 | Linux (Ubuntu 16.04.1 LTS) / x86_64 | OK | OK | OK |  |  | 
| tokay1 | Windows Server 2012 R2 Standard / x64 | OK | OK | OK | [ OK ] |  | 
| veracruz1 | OS X 10.11.6 El Capitan / x86_64 | OK | OK | OK | OK |  | 
##############################################################################
##############################################################################
###
### Running command:
###
###   cd widgetTools.buildbin-libdir/widgetTools && zip -r ../../widgetTools_1.55.0.zip . & cd ../..
###
##############################################################################
##############################################################################
  adding: DESCRIPTION (332 bytes security) (deflated 31%)
  adding: doc/ (372 bytes security) (stored 0%)
  adding: doc/index.html (332 bytes security) (deflated 59%)
  adding: doc/widgetTools.pdf (332 bytes security) (deflated 11%)
  adding: doc/widgetTools.R (332 bytes security) (deflated 74%)
  adding: doc/widgetTools.Rnw (332 bytes security) (deflated 67%)
  adding: help/ (372 bytes security) (stored 0%)
  adding: help/aliases.rds (332 bytes security) (stored 0%)
  adding: help/AnIndex (332 bytes security) (deflated 83%)
  adding: help/paths.rds (332 bytes security) (stored 0%)
  adding: help/widgetTools.rdb (332 bytes security) (deflated 1%)
  adding: help/widgetTools.rdx (332 bytes security) (stored 0%)
  adding: html/ (372 bytes security) (stored 0%)
  adding: html/00Index.html (332 bytes security) (deflated 92%)
  adding: html/R.css (332 bytes security) (deflated 75%)
  adding: INDEX (332 bytes security) (deflated 61%)
  adding: MD5 (332 bytes security) (deflated 43%)
  adding: Meta/ (372 bytes security) (stored 0%)
  adding: Meta/features.rds (332 bytes security) (stored 0%)
  adding: Meta/hsearch.rds (332 bytes security) (stored 0%)
  adding: Meta/links.rds (332 bytes security) (stored 0%)
  adding: Meta/nsInfo.rds (332 bytes security) (stored 0%)
  adding: Meta/package.rds (332 bytes security) (stored 0%)
  adding: Meta/Rd.rds (332 bytes security) (stored 0%)
  adding: Meta/vignette.rds (332 bytes security) (stored 0%)
  adding: NAMESPACE (332 bytes security) (deflated 50%)
  adding: R/ (372 bytes security) (stored 0%)
  adding: R/widgetTools (332 bytes security) (deflated 41%)
  adding: R/widgetTools.rdb (332 bytes security) (deflated 37%)
  adding: R/widgetTools.rdx (332 bytes security) (deflated 2%)