supraHex 1.15.0 Hai Fang
Snapshot Date: 2017-08-15 17:18:21 -0400 (Tue, 15 Aug 2017) | URL: https://hedgehog.fhcrc.org/bioconductor/trunk/madman/Rpacks/supraHex | Last Changed Rev: 129129 / Revision: 131943 | Last Changed Date: 2017-04-24 15:50:57 -0400 (Mon, 24 Apr 2017) |
| malbec1 | Linux (Ubuntu 16.04.1 LTS) / x86_64 | OK | OK | OK | | ![UNNEEDED, same version exists in internal repository UNNEEDED, same version exists in internal repository](../120px-Blue_Light_Icon.svg.png) |
tokay1 | Windows Server 2012 R2 Standard / x64 | OK | OK | OK | [ OK ] | ![UNNEEDED, same version exists in internal repository UNNEEDED, same version exists in internal repository](../120px-Blue_Light_Icon.svg.png) |
veracruz1 | OS X 10.11.6 El Capitan / x86_64 | OK | OK | OK | OK | ![UNNEEDED, same version exists in internal repository UNNEEDED, same version exists in internal repository](../120px-Blue_Light_Icon.svg.png) |
##############################################################################
##############################################################################
###
### Running command:
###
### cd supraHex.buildbin-libdir/supraHex && zip -r ../../supraHex_1.15.0.zip . & cd ../..
###
##############################################################################
##############################################################################
adding: CITATION (332 bytes security) (deflated 51%)
adding: data/ (372 bytes security) (stored 0%)
adding: data/datalist (332 bytes security) (deflated 23%)
adding: data/Fang.RData (332 bytes security) (deflated 0%)
adding: data/Golub.RData (332 bytes security) (deflated 0%)
adding: data/Xiang.RData (332 bytes security) (deflated 0%)
adding: DESCRIPTION (332 bytes security) (deflated 49%)
adding: doc/ (372 bytes security) (stored 0%)
adding: doc/index.html (332 bytes security) (deflated 59%)
adding: doc/supraHex_vignettes.pdf (332 bytes security) (deflated 9%)
adding: doc/supraHex_vignettes.R (332 bytes security) (deflated 82%)
adding: doc/supraHex_vignettes.Rnw (332 bytes security) (deflated 71%)
adding: help/ (372 bytes security) (stored 0%)
adding: help/aliases.rds (332 bytes security) (stored 0%)
adding: help/AnIndex (332 bytes security) (deflated 65%)
adding: help/paths.rds (332 bytes security) (stored 0%)
adding: help/supraHex.rdb (332 bytes security) (deflated 1%)
adding: help/supraHex.rdx (332 bytes security) (stored 0%)
adding: html/ (372 bytes security) (stored 0%)
adding: html/00Index.html (332 bytes security) (deflated 77%)
adding: html/R.css (332 bytes security) (deflated 75%)
adding: INDEX (332 bytes security) (deflated 76%)
adding: MD5 (332 bytes security) (deflated 48%)
adding: Meta/ (372 bytes security) (stored 0%)
adding: Meta/data.rds (332 bytes security) (stored 0%)
adding: Meta/features.rds (332 bytes security) (stored 0%)
adding: Meta/hsearch.rds (332 bytes security) (stored 0%)
adding: Meta/links.rds (332 bytes security) (stored 0%)
adding: Meta/nsInfo.rds (332 bytes security) (stored 0%)
adding: Meta/package.rds (332 bytes security) (stored 0%)
adding: Meta/Rd.rds (332 bytes security) (stored 0%)
adding: Meta/vignette.rds (332 bytes security) (stored 0%)
adding: NAMESPACE (332 bytes security) (deflated 73%)
adding: NEWS (332 bytes security) (deflated 58%)
adding: R/ (372 bytes security) (stored 0%)
adding: R/supraHex (332 bytes security) (deflated 41%)
adding: R/supraHex.rdb (332 bytes security) (deflated 0%)
adding: R/supraHex.rdx (332 bytes security) (stored 0%)
adding: staticdocs/ (372 bytes security) (stored 0%)
adding: staticdocs/CITATIONs.md (332 bytes security) (deflated 27%)
adding: staticdocs/demo/ (372 bytes security) (stored 0%)
adding: staticdocs/demo/Fang.r (332 bytes security) (deflated 64%)
adding: staticdocs/demo/Golub.r (332 bytes security) (deflated 62%)
adding: staticdocs/demo/Hiratani.r (332 bytes security) (deflated 63%)
adding: staticdocs/demo/ISMB2014.r (332 bytes security) (deflated 59%)
adding: staticdocs/demo/List_demos.txt (332 bytes security) (deflated 50%)
adding: staticdocs/demo/PyClone.r (332 bytes security) (deflated 65%)
adding: staticdocs/demo/RNAseq.r (332 bytes security) (deflated 65%)
adding: staticdocs/demo/Sardar.r (332 bytes security) (deflated 63%)
adding: staticdocs/demo/Xiang.r (332 bytes security) (deflated 64%)
adding: staticdocs/docs.r (332 bytes security) (deflated 75%)
adding: staticdocs/faq/ (372 bytes security) (stored 0%)
adding: staticdocs/faq/FAQ1.r (332 bytes security) (deflated 46%)
adding: staticdocs/faq/FAQ2.r (332 bytes security) (deflated 50%)
adding: staticdocs/faq/FAQ3.r (332 bytes security) (deflated 44%)
adding: staticdocs/faq/FAQ4.r (332 bytes security) (deflated 44%)
adding: staticdocs/faq/FAQ5.r (332 bytes security) (deflated 47%)
adding: staticdocs/faq/FAQ6.r (332 bytes security) (deflated 57%)
adding: staticdocs/faq/FAQ7.r (332 bytes security) (deflated 58%)
adding: staticdocs/faq/List_faqs.txt (332 bytes security) (deflated 46%)
adding: staticdocs/images/ (372 bytes security) (stored 0%)
adding: staticdocs/images/supraHex_logo.png (332 bytes security) (deflated 3%)
adding: staticdocs/images/supraHex_workflow.png (332 bytes security) (deflated 8%)
adding: staticdocs/INSTALLATIONs.md (332 bytes security) (deflated 54%)
adding: staticdocs/INSTALLATIONs_pre.md (332 bytes security) (deflated 62%)
adding: staticdocs/README.md (332 bytes security) (deflated 61%)
adding: staticdocs/README_previous.md (332 bytes security) (deflated 50%)
adding: staticdocs/templates/ (372 bytes security) (stored 0%)
adding: staticdocs/templates/footer.html (332 bytes security) (deflated 31%)
adding: staticdocs/templates/navbar.html (332 bytes security) (deflated 64%)