ropls 1.9.0 Etienne A. Thevenot
Snapshot Date: 2017-08-15 17:18:21 -0400 (Tue, 15 Aug 2017) | URL: https://hedgehog.fhcrc.org/bioconductor/trunk/madman/Rpacks/ropls | Last Changed Rev: 129129 / Revision: 131943 | Last Changed Date: 2017-04-24 15:50:57 -0400 (Mon, 24 Apr 2017) |
| malbec1 | Linux (Ubuntu 16.04.1 LTS) / x86_64 | OK | OK | OK | | ![UNNEEDED, same version exists in internal repository UNNEEDED, same version exists in internal repository](../120px-Blue_Light_Icon.svg.png) |
tokay1 | Windows Server 2012 R2 Standard / x64 | OK | OK | OK | [ OK ] | ![UNNEEDED, same version exists in internal repository UNNEEDED, same version exists in internal repository](../120px-Blue_Light_Icon.svg.png) |
veracruz1 | OS X 10.11.6 El Capitan / x86_64 | OK | OK | OK | OK | ![UNNEEDED, same version exists in internal repository UNNEEDED, same version exists in internal repository](../120px-Blue_Light_Icon.svg.png) |
##############################################################################
##############################################################################
###
### Running command:
###
### cd ropls.buildbin-libdir/ropls && zip -r ../../ropls_1.9.0.zip . & cd ../..
###
##############################################################################
##############################################################################
adding: CITATION (332 bytes security) (deflated 56%)
adding: data/ (372 bytes security) (stored 0%)
adding: data/aminoacids.csv.gz (332 bytes security) (stored 0%)
adding: data/cellulose.rdata (332 bytes security) (deflated 4%)
adding: data/cornell.csv.gz (332 bytes security) (stored 0%)
adding: data/datalist (332 bytes security) (deflated 15%)
adding: data/foods.csv.gz (332 bytes security) (stored 0%)
adding: data/linnerud.csv.gz (332 bytes security) (stored 0%)
adding: data/lowarp.csv.gz (332 bytes security) (stored 0%)
adding: data/mark.csv.gz (332 bytes security) (stored 0%)
adding: data/sacurine.rdata (332 bytes security) (deflated 0%)
adding: DESCRIPTION (332 bytes security) (deflated 48%)
adding: doc/ (372 bytes security) (stored 0%)
adding: doc/index.html (332 bytes security) (deflated 59%)
adding: doc/ropls-vignette.pdf (332 bytes security) (deflated 14%)
adding: doc/ropls-vignette.R (332 bytes security) (deflated 76%)
adding: doc/ropls-vignette.Rmd (332 bytes security) (deflated 65%)
adding: extdata/ (372 bytes security) (stored 0%)
adding: extdata/sacurine_dataMatrix.tsv (332 bytes security) (deflated 55%)
adding: extdata/sacurine_sampleMetadata.tsv (332 bytes security) (deflated 66%)
adding: extdata/sacurine_variableMetadata.tsv (332 bytes security) (deflated 69%)
adding: help/ (372 bytes security) (stored 0%)
adding: help/aliases.rds (332 bytes security) (stored 0%)
adding: help/AnIndex (332 bytes security) (deflated 69%)
adding: help/paths.rds (332 bytes security) (stored 0%)
adding: help/ropls.rdb (332 bytes security) (deflated 2%)
adding: help/ropls.rdx (332 bytes security) (stored 0%)
adding: html/ (372 bytes security) (stored 0%)
adding: html/00Index.html (332 bytes security) (deflated 80%)
adding: html/R.css (332 bytes security) (deflated 75%)
adding: INDEX (332 bytes security) (deflated 65%)
adding: MD5 (332 bytes security) (deflated 44%)
adding: Meta/ (372 bytes security) (stored 0%)
adding: Meta/data.rds (332 bytes security) (stored 0%)
adding: Meta/features.rds (332 bytes security) (stored 0%)
adding: Meta/hsearch.rds (332 bytes security) (stored 0%)
adding: Meta/links.rds (332 bytes security) (stored 0%)
adding: Meta/nsInfo.rds (332 bytes security) (stored 0%)
adding: Meta/package.rds (332 bytes security) (stored 0%)
adding: Meta/Rd.rds (332 bytes security) (stored 0%)
adding: Meta/vignette.rds (332 bytes security) (stored 0%)
adding: NAMESPACE (332 bytes security) (deflated 74%)
adding: NEWS (332 bytes security) (deflated 72%)
adding: R/ (372 bytes security) (stored 0%)
adding: R/ropls (332 bytes security) (deflated 41%)
adding: R/ropls.rdb (332 bytes security) (deflated 35%)
adding: R/ropls.rdx (332 bytes security) (stored 0%)
adding: unitTests/ (372 bytes security) (stored 0%)
adding: unitTests/test_opls.R (332 bytes security) (deflated 77%)