| rRDP 1.11.0 Michael Hahsler
 
 | Snapshot Date: 2017-08-15 17:18:21 -0400 (Tue, 15 Aug 2017) |  | URL: https://hedgehog.fhcrc.org/bioconductor/trunk/madman/Rpacks/rRDP |  | Last Changed Rev: 129129 / Revision: 131943 |  | Last Changed Date: 2017-04-24 15:50:57 -0400 (Mon, 24 Apr 2017) | 
 | malbec1 | Linux (Ubuntu 16.04.1 LTS) / x86_64 | OK | OK | OK |  |  | 
| tokay1 | Windows Server 2012 R2 Standard / x64 | OK | OK | OK | [ OK ] |  | 
| veracruz1 | OS X 10.11.6 El Capitan / x86_64 | OK | OK | OK | OK |  | 
##############################################################################
##############################################################################
###
### Running command:
###
###   cd rRDP.buildbin-libdir/rRDP && zip -r ../../rRDP_1.11.0.zip . & cd ../..
###
##############################################################################
##############################################################################
  adding: DESCRIPTION (332 bytes security) (deflated 32%)
  adding: doc/ (372 bytes security) (stored 0%)
  adding: doc/index.html (332 bytes security) (deflated 57%)
  adding: doc/rRDP.pdf (332 bytes security) (deflated 8%)
  adding: doc/rRDP.R (332 bytes security) (deflated 78%)
  adding: doc/rRDP.Rnw (332 bytes security) (deflated 59%)
  adding: examples/ (372 bytes security) (stored 0%)
  adding: examples/Firmicutes.fasta (332 bytes security) (deflated 89%)
  adding: examples/RNA_example.fasta (332 bytes security) (deflated 72%)
  adding: examples/testSequences.fasta (332 bytes security) (deflated 75%)
  adding: examples/trainingSequences.fasta (332 bytes security) (deflated 85%)
  adding: help/ (372 bytes security) (stored 0%)
  adding: help/aliases.rds (332 bytes security) (stored 0%)
  adding: help/AnIndex (332 bytes security) (deflated 54%)
  adding: help/paths.rds (332 bytes security) (stored 0%)
  adding: help/rRDP.rdb (332 bytes security) (stored 0%)
  adding: help/rRDP.rdx (332 bytes security) (stored 0%)
  adding: html/ (372 bytes security) (stored 0%)
  adding: html/00Index.html (332 bytes security) (deflated 74%)
  adding: html/R.css (332 bytes security) (deflated 75%)
  adding: INDEX (332 bytes security) (deflated 49%)
  adding: java/ (372 bytes security) (stored 0%)
  adding: java/lib/ (372 bytes security) (stored 0%)
  adding: java/lib/AlignmentTools.jar (332 bytes security) (deflated 63%)
  adding: java/lib/commons-cli-1.2.jar (332 bytes security) (deflated 9%)
  adding: java/lib/commons-io-2.4.jar (332 bytes security) (deflated 8%)
  adding: java/lib/jcommon-1.0.16.jar (332 bytes security) (deflated 9%)
  adding: java/lib/ReadSeq.jar (332 bytes security) (deflated 71%)
  adding: java/lib/TaxonomyTree.jar (332 bytes security) (deflated 70%)
  adding: java/rdp_classifier.jar (332 bytes security) (deflated 8%)
  adding: java/rRNAClassifier.properties (332 bytes security) (deflated 35%)
  adding: LICENSE (332 bytes security) (deflated 56%)
  adding: MD5 (332 bytes security) (deflated 43%)
  adding: Meta/ (372 bytes security) (stored 0%)
  adding: Meta/features.rds (332 bytes security) (stored 0%)
  adding: Meta/hsearch.rds (332 bytes security) (stored 0%)
  adding: Meta/links.rds (332 bytes security) (stored 0%)
  adding: Meta/nsInfo.rds (332 bytes security) (stored 0%)
  adding: Meta/package.rds (332 bytes security) (stored 0%)
  adding: Meta/Rd.rds (332 bytes security) (stored 0%)
  adding: Meta/vignette.rds (332 bytes security) (stored 0%)
  adding: NAMESPACE (332 bytes security) (deflated 38%)
  adding: R/ (372 bytes security) (stored 0%)
  adding: R/rRDP (332 bytes security) (deflated 41%)
  adding: R/rRDP.rdb (332 bytes security) (deflated 5%)
  adding: R/rRDP.rdx (332 bytes security) (stored 0%)