prada 1.53.0 Florian Hahne
Snapshot Date: 2017-08-15 17:18:21 -0400 (Tue, 15 Aug 2017) | URL: https://hedgehog.fhcrc.org/bioconductor/trunk/madman/Rpacks/prada | Last Changed Rev: 129129 / Revision: 131943 | Last Changed Date: 2017-04-24 15:50:57 -0400 (Mon, 24 Apr 2017) |
| malbec1 | Linux (Ubuntu 16.04.1 LTS) / x86_64 | OK | OK | OK | | ![UNNEEDED, same version exists in internal repository UNNEEDED, same version exists in internal repository](../120px-Blue_Light_Icon.svg.png) |
tokay1 | Windows Server 2012 R2 Standard / x64 | OK | OK | OK | [ OK ] | ![UNNEEDED, same version exists in internal repository UNNEEDED, same version exists in internal repository](../120px-Blue_Light_Icon.svg.png) |
veracruz1 | OS X 10.11.6 El Capitan / x86_64 | OK | OK | OK | OK | ![UNNEEDED, same version exists in internal repository UNNEEDED, same version exists in internal repository](../120px-Blue_Light_Icon.svg.png) |
##############################################################################
##############################################################################
###
### Running command:
###
### cd prada.buildbin-libdir/prada && zip -r ../../prada_1.53.0.zip . & cd ../..
###
##############################################################################
##############################################################################
adding: data/ (372 bytes security) (stored 0%)
adding: data/cframe.rda (332 bytes security) (stored 0%)
adding: data/cset.rda (332 bytes security) (deflated 0%)
adding: DESCRIPTION (332 bytes security) (deflated 44%)
adding: doc/ (372 bytes security) (stored 0%)
adding: doc/index.html (332 bytes security) (deflated 66%)
adding: doc/norm2.pdf (332 bytes security) (deflated 7%)
adding: doc/norm2.R (332 bytes security) (deflated 76%)
adding: doc/norm2.Rnw (332 bytes security) (deflated 59%)
adding: doc/prada2cellHTS.pdf (332 bytes security) (deflated 5%)
adding: doc/prada2cellHTS.R (332 bytes security) (deflated 68%)
adding: doc/prada2cellHTS.Rnw (332 bytes security) (deflated 54%)
adding: extdata/ (372 bytes security) (stored 0%)
adding: extdata/Description.txt (332 bytes security) (deflated 30%)
adding: extdata/dorit13_2c-1-2--13-Ytrail=3143937171.xml (332 bytes security) (deflated 88%)
adding: extdata/Experiment1.txt (332 bytes security) (deflated 72%)
adding: extdata/Experiment2.txt (332 bytes security) (deflated 73%)
adding: extdata/fas-Bcl2-plate323-04-04.A01 (332 bytes security) (deflated 41%)
adding: extdata/fas-Bcl2-plate323-04-04.A02 (332 bytes security) (deflated 41%)
adding: extdata/fas-Bcl2-plate323-04-04.A03 (332 bytes security) (deflated 42%)
adding: extdata/fas-Bcl2-plate323-04-04.B01 (332 bytes security) (deflated 42%)
adding: extdata/fas-Bcl2-plate323-04-04.B02 (332 bytes security) (deflated 41%)
adding: extdata/fas-Bcl2-plate323-04-04.B03 (332 bytes security) (deflated 42%)
adding: extdata/GeneIDs.txt (332 bytes security) (deflated 77%)
adding: extdata/plate3_1.txt (332 bytes security) (deflated 75%)
adding: extdata/plate3_2.txt (332 bytes security) (deflated 74%)
adding: extdata/plate3_3.txt (332 bytes security) (deflated 74%)
adding: extdata/plate4_1.txt (332 bytes security) (deflated 75%)
adding: extdata/plate4_2.txt (332 bytes security) (deflated 74%)
adding: extdata/plate4_3.txt (332 bytes security) (deflated 74%)
adding: extdata/Plateconf.txt (332 bytes security) (deflated 74%)
adding: extdata/Platelist.txt (332 bytes security) (deflated 35%)
adding: extdata/sampleData.txt (332 bytes security) (deflated 46%)
adding: extdata/Screenlog.txt (332 bytes security) (stored 0%)
adding: help/ (372 bytes security) (stored 0%)
adding: help/aliases.rds (332 bytes security) (stored 0%)
adding: help/AnIndex (332 bytes security) (deflated 79%)
adding: help/paths.rds (332 bytes security) (stored 0%)
adding: help/prada.rdb (332 bytes security) (deflated 1%)
adding: help/prada.rdx (332 bytes security) (stored 0%)
adding: html/ (372 bytes security) (stored 0%)
adding: html/00Index.html (332 bytes security) (deflated 89%)
adding: html/R.css (332 bytes security) (deflated 75%)
adding: INDEX (332 bytes security) (deflated 64%)
adding: libs/ (372 bytes security) (stored 0%)
adding: libs/i386/ (372 bytes security) (stored 0%)
adding: libs/i386/prada.dll (332 bytes security) (deflated 60%)
adding: libs/x64/ (372 bytes security) (stored 0%)
adding: libs/x64/prada.dll (332 bytes security) (deflated 62%)
adding: MD5 (332 bytes security) (deflated 48%)
adding: Meta/ (372 bytes security) (stored 0%)
adding: Meta/data.rds (332 bytes security) (stored 0%)
adding: Meta/features.rds (332 bytes security) (stored 0%)
adding: Meta/hsearch.rds (332 bytes security) (stored 0%)
adding: Meta/links.rds (332 bytes security) (stored 0%)
adding: Meta/nsInfo.rds (332 bytes security) (stored 0%)
adding: Meta/package.rds (332 bytes security) (stored 0%)
adding: Meta/Rd.rds (332 bytes security) (stored 0%)
adding: Meta/vignette.rds (332 bytes security) (stored 0%)
adding: NAMESPACE (332 bytes security) (deflated 60%)
adding: R/ (372 bytes security) (stored 0%)
adding: R/prada (332 bytes security) (deflated 41%)
adding: R/prada.rdb (332 bytes security) (deflated 28%)
adding: R/prada.rdx (332 bytes security) (deflated 2%)