pathview 1.17.5 Weijun Luo
Snapshot Date: 2017-08-15 17:18:21 -0400 (Tue, 15 Aug 2017) | URL: https://hedgehog.fhcrc.org/bioconductor/trunk/madman/Rpacks/pathview | Last Changed Rev: 131600 / Revision: 131943 | Last Changed Date: 2017-07-26 15:57:24 -0400 (Wed, 26 Jul 2017) |
| malbec1 | Linux (Ubuntu 16.04.1 LTS) / x86_64 | OK | OK | OK | |  |
tokay1 | Windows Server 2012 R2 Standard / x64 | OK | OK | OK | [ OK ] |  |
veracruz1 | OS X 10.11.6 El Capitan / x86_64 | OK | OK | OK | OK |  |
##############################################################################
##############################################################################
###
### Running command:
###
### cd pathview.buildbin-libdir/pathview && zip -r ../../pathview_1.17.5.zip . & cd ../..
###
##############################################################################
##############################################################################
adding: CITATION (332 bytes security) (deflated 47%)
adding: data/ (372 bytes security) (stored 0%)
adding: data/bods.rda (332 bytes security) (stored 0%)
adding: data/cpd.accs.rda (332 bytes security) (deflated 0%)
adding: data/cpd.names.rda (332 bytes security) (deflated 0%)
adding: data/cpd.simtypes.rda (332 bytes security) (stored 0%)
adding: data/datalist (332 bytes security) (deflated 28%)
adding: data/demo.paths.rda (332 bytes security) (stored 0%)
adding: data/gene.idtype.bods.rda (332 bytes security) (stored 0%)
adding: data/gene.idtype.list.rda (332 bytes security) (stored 0%)
adding: data/gse16873.d.rda (332 bytes security) (deflated 0%)
adding: data/kegg.met.rda (332 bytes security) (stored 0%)
adding: data/KEGGEdgeSubtype.rda (332 bytes security) (stored 0%)
adding: data/ko.ids.rda (332 bytes security) (deflated 0%)
adding: data/korg.rda (332 bytes security) (deflated 0%)
adding: data/paths.hsa.rda (332 bytes security) (stored 0%)
adding: data/rn.list.rda (332 bytes security) (stored 0%)
adding: DESCRIPTION (332 bytes security) (deflated 47%)
adding: doc/ (372 bytes security) (stored 0%)
adding: doc/index.html (332 bytes security) (deflated 58%)
adding: doc/pathview.pdf (332 bytes security) (deflated 7%)
adding: doc/pathview.R (332 bytes security) (deflated 83%)
adding: doc/pathview.Rnw (332 bytes security) (deflated 71%)
adding: extdata/ (372 bytes security) (stored 0%)
adding: extdata/gse16873.demo (332 bytes security) (deflated 51%)
adding: extdata/hsa04110.png (332 bytes security) (deflated 4%)
adding: extdata/hsa04110.xml (332 bytes security) (deflated 89%)
adding: extdata/kegg.sigmet.rda (332 bytes security) (stored 0%)
adding: help/ (372 bytes security) (stored 0%)
adding: help/aliases.rds (332 bytes security) (stored 0%)
adding: help/AnIndex (332 bytes security) (deflated 65%)
adding: help/paths.rds (332 bytes security) (stored 0%)
adding: help/pathview.rdb (332 bytes security) (deflated 1%)
adding: help/pathview.rdx (332 bytes security) (stored 0%)
adding: html/ (372 bytes security) (stored 0%)
adding: html/00Index.html (332 bytes security) (deflated 79%)
adding: html/R.css (332 bytes security) (deflated 75%)
adding: INDEX (332 bytes security) (deflated 66%)
adding: MD5 (332 bytes security) (deflated 45%)
adding: Meta/ (372 bytes security) (stored 0%)
adding: Meta/data.rds (332 bytes security) (stored 0%)
adding: Meta/features.rds (332 bytes security) (stored 0%)
adding: Meta/hsearch.rds (332 bytes security) (stored 0%)
adding: Meta/links.rds (332 bytes security) (stored 0%)
adding: Meta/nsInfo.rds (332 bytes security) (stored 0%)
adding: Meta/package.rds (332 bytes security) (stored 0%)
adding: Meta/Rd.rds (332 bytes security) (stored 0%)
adding: Meta/vignette.rds (332 bytes security) (stored 0%)
adding: NAMESPACE (332 bytes security) (deflated 53%)
adding: NEWS (332 bytes security) (deflated 60%)
adding: R/ (372 bytes security) (stored 0%)
adding: R/pathview (332 bytes security) (deflated 41%)
adding: R/pathview.rdb (332 bytes security) (deflated 3%)
adding: R/pathview.rdx (332 bytes security) (stored 0%)
adding: unitTests/ (372 bytes security) (stored 0%)
adding: unitTests/test_mapper.R (332 bytes security) (deflated 71%)