mzID 1.15.0 Thomas Lin Pedersen
Snapshot Date: 2017-08-15 17:18:21 -0400 (Tue, 15 Aug 2017) | URL: https://hedgehog.fhcrc.org/bioconductor/trunk/madman/Rpacks/mzID | Last Changed Rev: 129129 / Revision: 131943 | Last Changed Date: 2017-04-24 15:50:57 -0400 (Mon, 24 Apr 2017) |
| malbec1 | Linux (Ubuntu 16.04.1 LTS) / x86_64 | OK | OK | OK | | ![UNNEEDED, same version exists in internal repository UNNEEDED, same version exists in internal repository](../120px-Blue_Light_Icon.svg.png) |
tokay1 | Windows Server 2012 R2 Standard / x64 | OK | OK | OK | [ OK ] | ![UNNEEDED, same version exists in internal repository UNNEEDED, same version exists in internal repository](../120px-Blue_Light_Icon.svg.png) |
veracruz1 | OS X 10.11.6 El Capitan / x86_64 | OK | OK | OK | OK | ![UNNEEDED, same version exists in internal repository UNNEEDED, same version exists in internal repository](../120px-Blue_Light_Icon.svg.png) |
##############################################################################
##############################################################################
###
### Running command:
###
### cd mzID.buildbin-libdir/mzID && zip -r ../../mzID_1.15.0.zip . & cd ../..
###
##############################################################################
##############################################################################
adding: DESCRIPTION (332 bytes security) (deflated 43%)
adding: doc/ (372 bytes security) (stored 0%)
adding: doc/HOWTO_mzID.pdf (332 bytes security) (deflated 7%)
adding: doc/HOWTO_mzID.R (332 bytes security) (deflated 59%)
adding: doc/HOWTO_mzID.Rnw (332 bytes security) (deflated 56%)
adding: doc/index.html (332 bytes security) (deflated 57%)
adding: extdata/ (372 bytes security) (stored 0%)
adding: extdata/55merge_omssa.mzid (332 bytes security) (deflated 88%)
adding: extdata/55merge_tandem.mzid (332 bytes security) (deflated 78%)
adding: extdata/Mascot_MSMS_example.mzid (332 bytes security) (deflated 93%)
adding: extdata/Mascot_MSMS_example1.0.mzid (332 bytes security) (deflated 91%)
adding: extdata/Mascot_NA_example.mzid (332 bytes security) (deflated 83%)
adding: extdata/mascot_pmf_example.mzid (332 bytes security) (deflated 85%)
adding: extdata/Mascot_top_down_example.mzid (332 bytes security) (deflated 80%)
adding: extdata/MPC_example_Multiple_search_engines.mzid (332 bytes security) (deflated 77%)
adding: extdata/Sequest_example_ver1.1.mzid (332 bytes security) (deflated 93%)
adding: extdata/testfile.xml (332 bytes security) (deflated 83%)
adding: help/ (372 bytes security) (stored 0%)
adding: help/aliases.rds (332 bytes security) (stored 0%)
adding: help/AnIndex (332 bytes security) (deflated 85%)
adding: help/mzID.rdb (332 bytes security) (deflated 2%)
adding: help/mzID.rdx (332 bytes security) (stored 0%)
adding: help/paths.rds (332 bytes security) (stored 0%)
adding: html/ (372 bytes security) (stored 0%)
adding: html/00Index.html (332 bytes security) (deflated 89%)
adding: html/R.css (332 bytes security) (deflated 75%)
adding: INDEX (332 bytes security) (deflated 74%)
adding: MD5 (332 bytes security) (deflated 45%)
adding: Meta/ (372 bytes security) (stored 0%)
adding: Meta/features.rds (332 bytes security) (stored 0%)
adding: Meta/hsearch.rds (332 bytes security) (stored 0%)
adding: Meta/links.rds (332 bytes security) (stored 0%)
adding: Meta/nsInfo.rds (332 bytes security) (stored 0%)
adding: Meta/package.rds (332 bytes security) (stored 0%)
adding: Meta/Rd.rds (332 bytes security) (stored 0%)
adding: Meta/vignette.rds (332 bytes security) (stored 0%)
adding: NAMESPACE (332 bytes security) (deflated 65%)
adding: NEWS (332 bytes security) (deflated 72%)
adding: R/ (372 bytes security) (stored 0%)
adding: R/mzID (332 bytes security) (deflated 41%)
adding: R/mzID.rdb (332 bytes security) (deflated 30%)
adding: R/mzID.rdx (332 bytes security) (deflated 1%)
adding: tests/ (372 bytes security) (stored 0%)