multtest 2.33.0 Katherine S. Pollard
 | Snapshot Date: 2017-08-15 17:18:21 -0400 (Tue, 15 Aug 2017) |  | URL: https://hedgehog.fhcrc.org/bioconductor/trunk/madman/Rpacks/multtest |  | Last Changed Rev: 129129 / Revision: 131943 |  | Last Changed Date: 2017-04-24 15:50:57 -0400 (Mon, 24 Apr 2017) |  
  | malbec1  | Linux (Ubuntu 16.04.1 LTS) / x86_64  |  OK  |  OK  |  WARNINGS  |  |   | 
| tokay1  | Windows Server 2012 R2 Standard / x64  |  OK  |  OK  |  WARNINGS  |  OK  |   | 
| veracruz1  | OS X 10.11.6 El Capitan / x86_64  | [ OK ] |  OK  |  WARNINGS  |  OK  |   | 
##############################################################################
##############################################################################
###
### Running command:
###
###   /Library/Frameworks/R.framework/Versions/Current/Resources/bin/R CMD INSTALL multtest
###
##############################################################################
##############################################################################
* installing to library ‘/Library/Frameworks/R.framework/Versions/3.4/Resources/library’
* installing *source* package ‘multtest’ ...
** libs
clang -I/Library/Frameworks/R.framework/Resources/include -DNDEBUG   -I/usr/local/include  -DUSEDOUBLE -fPIC  -Wall -g -O2  -c Rpack.c -o Rpack.o
clang -I/Library/Frameworks/R.framework/Resources/include -DNDEBUG   -I/usr/local/include  -DUSEDOUBLE -fPIC  -Wall -g -O2  -c VScount.c -o VScount.o
clang -I/Library/Frameworks/R.framework/Resources/include -DNDEBUG   -I/usr/local/include  -DUSEDOUBLE -fPIC  -Wall -g -O2  -c block_sampling_fixed.c -o block_sampling_fixed.o
clang -I/Library/Frameworks/R.framework/Resources/include -DNDEBUG   -I/usr/local/include  -DUSEDOUBLE -fPIC  -Wall -g -O2  -c bootloop.c -o bootloop.o
clang -I/Library/Frameworks/R.framework/Resources/include -DNDEBUG   -I/usr/local/include  -DUSEDOUBLE -fPIC  -Wall -g -O2  -c mt.c -o mt.o
clang -I/Library/Frameworks/R.framework/Resources/include -DNDEBUG   -I/usr/local/include  -DUSEDOUBLE -fPIC  -Wall -g -O2  -c pairt_sampling.c -o pairt_sampling.o
clang -I/Library/Frameworks/R.framework/Resources/include -DNDEBUG   -I/usr/local/include  -DUSEDOUBLE -fPIC  -Wall -g -O2  -c pairt_sampling_fixed.c -o pairt_sampling_fixed.o
clang -I/Library/Frameworks/R.framework/Resources/include -DNDEBUG   -I/usr/local/include  -DUSEDOUBLE -fPIC  -Wall -g -O2  -c random.c -o random.o
random.c:48:6: warning: absolute value function 'abs' given an argument of type 'long' but has parameter of type 'int' which may cause truncation of value [-Wabsolute-value]
  z1=abs(seed); /*setting the seed to z1 and initialize it*/
     ^
random.c:48:6: note: use function 'labs' instead
  z1=abs(seed); /*setting the seed to z1 and initialize it*/
     ^˜˜
     labs
1 warning generated.
clang -I/Library/Frameworks/R.framework/Resources/include -DNDEBUG   -I/usr/local/include  -DUSEDOUBLE -fPIC  -Wall -g -O2  -c sampling.c -o sampling.o
clang -I/Library/Frameworks/R.framework/Resources/include -DNDEBUG   -I/usr/local/include  -DUSEDOUBLE -fPIC  -Wall -g -O2  -c sampling_fixed.c -o sampling_fixed.o
clang -I/Library/Frameworks/R.framework/Resources/include -DNDEBUG   -I/usr/local/include  -DUSEDOUBLE -fPIC  -Wall -g -O2  -c stat_func.c -o stat_func.o
clang -I/Library/Frameworks/R.framework/Resources/include -DNDEBUG   -I/usr/local/include  -DUSEDOUBLE -fPIC  -Wall -g -O2  -c stat_order.c -o stat_order.o
clang -dynamiclib -Wl,-headerpad_max_install_names -undefined dynamic_lookup -single_module -multiply_defined suppress -L/Library/Frameworks/R.framework/Resources/lib -L/usr/local/lib -o multtest.so Rpack.o VScount.o block_sampling_fixed.o bootloop.o mt.o pairt_sampling.o pairt_sampling_fixed.o random.o sampling.o sampling_fixed.o stat_func.o stat_order.o -lm -F/Library/Frameworks/R.framework/.. -framework R -Wl,-framework -Wl,CoreFoundation
installing to /Library/Frameworks/R.framework/Versions/3.4/Resources/library/multtest/libs
** R
** data
** inst
** preparing package for lazy loading
** help
*** installing help indices
** building package indices
** installing vignettes
** testing if installed package can be loaded
* DONE (multtest)