motifStack 1.21.1 Jianhong Ou
Snapshot Date: 2017-08-15 17:18:21 -0400 (Tue, 15 Aug 2017) | URL: https://hedgehog.fhcrc.org/bioconductor/trunk/madman/Rpacks/motifStack | Last Changed Rev: 131068 / Revision: 131943 | Last Changed Date: 2017-07-10 13:06:42 -0400 (Mon, 10 Jul 2017) |
| malbec1 | Linux (Ubuntu 16.04.1 LTS) / x86_64 | OK | OK | OK | | ![UNNEEDED, same version exists in internal repository UNNEEDED, same version exists in internal repository](../120px-Blue_Light_Icon.svg.png) |
tokay1 | Windows Server 2012 R2 Standard / x64 | OK | OK | OK | [ OK ] | ![UNNEEDED, same version exists in internal repository UNNEEDED, same version exists in internal repository](../120px-Blue_Light_Icon.svg.png) |
veracruz1 | OS X 10.11.6 El Capitan / x86_64 | OK | OK | OK | OK | ![UNNEEDED, same version exists in internal repository UNNEEDED, same version exists in internal repository](../120px-Blue_Light_Icon.svg.png) |
##############################################################################
##############################################################################
###
### Running command:
###
### cd motifStack.buildbin-libdir/motifStack && zip -r ../../motifStack_1.21.1.zip . & cd ../..
###
##############################################################################
##############################################################################
adding: DESCRIPTION (332 bytes security) (deflated 50%)
adding: doc/ (372 bytes security) (stored 0%)
adding: doc/index.html (332 bytes security) (deflated 60%)
adding: doc/motifStack_HTML.html (332 bytes security) (deflated 51%)
adding: doc/motifStack_HTML.R (332 bytes security) (deflated 72%)
adding: doc/motifStack_HTML.Rmd (332 bytes security) (deflated 66%)
adding: extdata/ (372 bytes security) (stored 0%)
adding: extdata/bin_SOLEXA.pcm (332 bytes security) (deflated 29%)
adding: extdata/cap.txt (332 bytes security) (deflated 67%)
adding: extdata/fd64A_SOLEXA.pcm (332 bytes security) (deflated 30%)
adding: extdata/fkh_NAR.pcm (332 bytes security) (deflated 37%)
adding: extdata/foxo_SOLEXA.pcm (332 bytes security) (deflated 29%)
adding: extdata/FoxP_SOLEXA.pcm (332 bytes security) (deflated 32%)
adding: extdata/slp1_SOLEXA.pcm (332 bytes security) (deflated 34%)
adding: extdata/slp2_SOLEXA.pcm (332 bytes security) (deflated 34%)
adding: help/ (372 bytes security) (stored 0%)
adding: help/aliases.rds (332 bytes security) (stored 0%)
adding: help/AnIndex (332 bytes security) (deflated 76%)
adding: help/motifStack.rdb (332 bytes security) (deflated 2%)
adding: help/motifStack.rdx (332 bytes security) (stored 0%)
adding: help/paths.rds (332 bytes security) (stored 0%)
adding: html/ (372 bytes security) (stored 0%)
adding: html/00Index.html (332 bytes security) (deflated 83%)
adding: html/R.css (332 bytes security) (deflated 75%)
adding: htmlwidgets/ (372 bytes security) (stored 0%)
adding: htmlwidgets/browseMotifs.js (332 bytes security) (deflated 74%)
adding: htmlwidgets/browseMotifs.yaml (332 bytes security) (deflated 63%)
adding: htmlwidgets/lib/ (372 bytes security) (stored 0%)
adding: htmlwidgets/lib/d3/ (372 bytes security) (stored 0%)
adding: htmlwidgets/lib/d3/d3.v4.min.js (332 bytes security) (deflated 66%)
adding: htmlwidgets/lib/d3-tip/ (372 bytes security) (stored 0%)
adding: htmlwidgets/lib/d3-tip/d3-tip.css (332 bytes security) (deflated 61%)
adding: htmlwidgets/lib/d3-tip/d3-tip.js (332 bytes security) (deflated 75%)
adding: htmlwidgets/lib/plotWebLogo/ (372 bytes security) (stored 0%)
adding: htmlwidgets/lib/plotWebLogo/d3-plotWebLogo.css (332 bytes security) (deflated 51%)
adding: htmlwidgets/lib/plotWebLogo/d3-plotWebLogo.js (332 bytes security) (deflated 72%)
adding: htmlwidgets/lib/saveSvgAsPng/ (372 bytes security) (stored 0%)
adding: htmlwidgets/lib/saveSvgAsPng/saveSvgAsPng.js (332 bytes security) (deflated 68%)
adding: INDEX (332 bytes security) (deflated 69%)
adding: MD5 (332 bytes security) (deflated 47%)
adding: Meta/ (372 bytes security) (stored 0%)
adding: Meta/features.rds (332 bytes security) (stored 0%)
adding: Meta/hsearch.rds (332 bytes security) (stored 0%)
adding: Meta/links.rds (332 bytes security) (stored 0%)
adding: Meta/nsInfo.rds (332 bytes security) (stored 0%)
adding: Meta/package.rds (332 bytes security) (stored 0%)
adding: Meta/Rd.rds (332 bytes security) (stored 0%)
adding: Meta/vignette.rds (332 bytes security) (stored 0%)
adding: NAMESPACE (332 bytes security) (deflated 55%)
adding: NEWS (332 bytes security) (deflated 84%)
adding: R/ (372 bytes security) (stored 0%)
adding: R/motifStack (332 bytes security) (deflated 41%)
adding: R/motifStack.rdb (332 bytes security) (deflated 10%)
adding: R/motifStack.rdx (332 bytes security) (deflated 1%)
adding: unitTests/ (372 bytes security) (stored 0%)
adding: unitTests/test_motifStack.R (332 bytes security) (deflated 78%)