minfi 1.23.3 Kasper Daniel Hansen
Snapshot Date: 2017-08-15 17:18:21 -0400 (Tue, 15 Aug 2017) | URL: https://hedgehog.fhcrc.org/bioconductor/trunk/madman/Rpacks/minfi | Last Changed Rev: 130713 / Revision: 131943 | Last Changed Date: 2017-06-27 13:05:27 -0400 (Tue, 27 Jun 2017) |
| malbec1 | Linux (Ubuntu 16.04.1 LTS) / x86_64 | OK | OK | OK | | ![UNNEEDED, same version exists in internal repository UNNEEDED, same version exists in internal repository](../120px-Blue_Light_Icon.svg.png) |
tokay1 | Windows Server 2012 R2 Standard / x64 | OK | OK | OK | [ OK ] | ![UNNEEDED, same version exists in internal repository UNNEEDED, same version exists in internal repository](../120px-Blue_Light_Icon.svg.png) |
veracruz1 | OS X 10.11.6 El Capitan / x86_64 | OK | OK | OK | OK | ![UNNEEDED, same version exists in internal repository UNNEEDED, same version exists in internal repository](../120px-Blue_Light_Icon.svg.png) |
##############################################################################
##############################################################################
###
### Running command:
###
### cd minfi.buildbin-libdir/minfi && zip -r ../../minfi_1.23.3.zip . & cd ../..
###
##############################################################################
##############################################################################
adding: CITATION (332 bytes security) (deflated 74%)
adding: DESCRIPTION (332 bytes security) (deflated 55%)
adding: doc/ (372 bytes security) (stored 0%)
adding: doc/index.html (332 bytes security) (deflated 57%)
adding: doc/minfi.pdf (332 bytes security) (deflated 10%)
adding: doc/minfi.R (332 bytes security) (deflated 72%)
adding: doc/minfi.Rmd (332 bytes security) (deflated 63%)
adding: help/ (372 bytes security) (stored 0%)
adding: help/aliases.rds (332 bytes security) (stored 0%)
adding: help/AnIndex (332 bytes security) (deflated 84%)
adding: help/minfi.rdb (332 bytes security) (deflated 1%)
adding: help/minfi.rdx (332 bytes security) (stored 0%)
adding: help/paths.rds (332 bytes security) (stored 0%)
adding: html/ (372 bytes security) (stored 0%)
adding: html/00Index.html (332 bytes security) (deflated 88%)
adding: html/R.css (332 bytes security) (deflated 75%)
adding: INDEX (332 bytes security) (deflated 69%)
adding: MD5 (332 bytes security) (deflated 52%)
adding: Meta/ (372 bytes security) (stored 0%)
adding: Meta/features.rds (332 bytes security) (stored 0%)
adding: Meta/hsearch.rds (332 bytes security) (stored 0%)
adding: Meta/links.rds (332 bytes security) (stored 0%)
adding: Meta/nsInfo.rds (332 bytes security) (stored 0%)
adding: Meta/package.rds (332 bytes security) (stored 0%)
adding: Meta/Rd.rds (332 bytes security) (stored 0%)
adding: Meta/vignette.rds (332 bytes security) (stored 0%)
adding: NAMESPACE (332 bytes security) (deflated 63%)
adding: NEWS.Rd (332 bytes security) (deflated 63%)
adding: R/ (372 bytes security) (stored 0%)
adding: R/minfi (332 bytes security) (deflated 41%)
adding: R/minfi.rdb (332 bytes security) (deflated 17%)
adding: R/minfi.rdx (332 bytes security) (deflated 1%)
adding: scripts/ (372 bytes security) (stored 0%)
adding: scripts/GenomeStudio.R (332 bytes security) (deflated 74%)
adding: testData/ (372 bytes security) (stored 0%)
adding: testData/testData_compartments.R (332 bytes security) (deflated 45%)
adding: testData/testData_compartments.Rout (332 bytes security) (deflated 61%)
adding: testData/testData_preprocessFunnorm.R (332 bytes security) (deflated 53%)
adding: testData/testData_preprocessFunnorm.Rout (332 bytes security) (deflated 61%)
adding: testData/testData_preprocessIllumina.R (332 bytes security) (deflated 55%)
adding: testData/testData_preprocessIllumina.Rout (332 bytes security) (deflated 61%)
adding: testData/testData_preprocessNoob.R (332 bytes security) (deflated 51%)
adding: testData/testData_preprocessNoob.Rout (332 bytes security) (deflated 61%)
adding: testData/testData_preprocessQuantile.R (332 bytes security) (deflated 54%)
adding: testData/testData_preprocessQuantile.Rout (332 bytes security) (deflated 62%)
adding: testData/testData_preprocessRaw.R (332 bytes security) (deflated 50%)
adding: testData/testData_preprocessRaw.Rout (332 bytes security) (deflated 61%)
adding: testData/testData_preprocessSWAN.R (332 bytes security) (deflated 49%)
adding: testData/testData_preprocessSWAN.Rout (332 bytes security) (deflated 61%)
adding: unitTests/ (372 bytes security) (stored 0%)
adding: unitTests/digest_compartments.rda (332 bytes security) (stored 0%)
adding: unitTests/digest_preprocessFunnorm.rda (332 bytes security) (stored 0%)
adding: unitTests/digest_preprocessIllumina.rda (332 bytes security) (stored 0%)
adding: unitTests/digest_preprocessNoob.rda (332 bytes security) (stored 0%)
adding: unitTests/digest_preprocessQuantile.rda (332 bytes security) (stored 0%)
adding: unitTests/digest_preprocessRaw.rda (332 bytes security) (stored 0%)
adding: unitTests/digest_preprocessSWAN.rda (332 bytes security) (stored 0%)
adding: unitTests/test_base.R (332 bytes security) (stored 0%)
adding: unitTests/test_compartments.R (332 bytes security) (deflated 49%)
adding: unitTests/test_preprocess.R (332 bytes security) (deflated 83%)
adding: unitTests/test_qc.R (332 bytes security) (deflated 29%)