matter 1.3.3 Kylie A. Bemis
Snapshot Date: 2017-08-15 17:18:21 -0400 (Tue, 15 Aug 2017) | URL: https://hedgehog.fhcrc.org/bioconductor/trunk/madman/Rpacks/matter | Last Changed Rev: 129783 / Revision: 131943 | Last Changed Date: 2017-05-20 21:13:57 -0400 (Sat, 20 May 2017) |
| malbec1 | Linux (Ubuntu 16.04.1 LTS) / x86_64 | OK | OK | OK | |  |
tokay1 | Windows Server 2012 R2 Standard / x64 | OK | OK | OK | [ OK ] |  |
veracruz1 | OS X 10.11.6 El Capitan / x86_64 | OK | OK | OK | OK |  |
##############################################################################
##############################################################################
###
### Running command:
###
### cd matter.buildbin-libdir/matter && zip -r ../../matter_1.3.3.zip . & cd ../..
###
##############################################################################
##############################################################################
adding: data/ (372 bytes security) (stored 0%)
adding: data/matter_ex.rda (332 bytes security) (stored 0%)
adding: data/matter_msi.rda (332 bytes security) (stored 0%)
adding: data/matter_sim.rda (332 bytes security) (stored 0%)
adding: DESCRIPTION (332 bytes security) (deflated 42%)
adding: doc/ (372 bytes security) (stored 0%)
adding: doc/index.html (332 bytes security) (deflated 72%)
adding: doc/matter-extra-1-sim.pdf (332 bytes security) (deflated 12%)
adding: doc/matter-extra-1-sim.R (332 bytes security) (deflated 84%)
adding: doc/matter-extra-1-sim.Rnw (332 bytes security) (deflated 66%)
adding: doc/matter-extra-2-msi.pdf (332 bytes security) (deflated 4%)
adding: doc/matter-extra-2-msi.R (332 bytes security) (deflated 83%)
adding: doc/matter-extra-2-msi.Rnw (332 bytes security) (deflated 69%)
adding: doc/matter.pdf (332 bytes security) (deflated 16%)
adding: doc/matter.R (332 bytes security) (deflated 78%)
adding: doc/matter.Rnw (332 bytes security) (deflated 66%)
adding: help/ (372 bytes security) (stored 0%)
adding: help/aliases.rds (332 bytes security) (stored 0%)
adding: help/AnIndex (332 bytes security) (deflated 88%)
adding: help/matter.rdb (332 bytes security) (deflated 1%)
adding: help/matter.rdx (332 bytes security) (stored 0%)
adding: help/paths.rds (332 bytes security) (stored 0%)
adding: html/ (372 bytes security) (stored 0%)
adding: html/00Index.html (332 bytes security) (deflated 91%)
adding: html/R.css (332 bytes security) (deflated 75%)
adding: INDEX (332 bytes security) (deflated 63%)
adding: libs/ (372 bytes security) (stored 0%)
adding: libs/i386/ (372 bytes security) (stored 0%)
adding: libs/i386/matter.dll (332 bytes security) (deflated 69%)
adding: libs/x64/ (372 bytes security) (stored 0%)
adding: libs/x64/matter.dll (332 bytes security) (deflated 71%)
adding: MD5 (332 bytes security) (deflated 46%)
adding: Meta/ (372 bytes security) (stored 0%)
adding: Meta/data.rds (332 bytes security) (stored 0%)
adding: Meta/features.rds (332 bytes security) (stored 0%)
adding: Meta/hsearch.rds (332 bytes security) (stored 0%)
adding: Meta/links.rds (332 bytes security) (stored 0%)
adding: Meta/nsInfo.rds (332 bytes security) (stored 0%)
adding: Meta/package.rds (332 bytes security) (stored 0%)
adding: Meta/Rd.rds (332 bytes security) (stored 0%)
adding: Meta/vignette.rds (332 bytes security) (stored 0%)
adding: NAMESPACE (332 bytes security) (deflated 68%)
adding: NEWS (332 bytes security) (deflated 69%)
adding: R/ (372 bytes security) (stored 0%)
adding: R/matter (332 bytes security) (deflated 41%)
adding: R/matter.rdb (332 bytes security) (deflated 17%)
adding: R/matter.rdx (332 bytes security) (deflated 3%)
adding: vignettesExtra/ (372 bytes security) (stored 0%)