ldblock 1.7.4 VJ Carey
Snapshot Date: 2017-08-15 17:18:21 -0400 (Tue, 15 Aug 2017) | URL: https://hedgehog.fhcrc.org/bioconductor/trunk/madman/Rpacks/ldblock | Last Changed Rev: 130022 / Revision: 131943 | Last Changed Date: 2017-05-31 11:31:25 -0400 (Wed, 31 May 2017) |
| malbec1 | Linux (Ubuntu 16.04.1 LTS) / x86_64 | OK | OK | WARNINGS | | ![UNNEEDED, same version exists in internal repository UNNEEDED, same version exists in internal repository](../120px-Blue_Light_Icon.svg.png) |
tokay1 | Windows Server 2012 R2 Standard / x64 | [ OK ] | OK | WARNINGS | OK | ![UNNEEDED, same version exists in internal repository UNNEEDED, same version exists in internal repository](../120px-Blue_Light_Icon.svg.png) |
veracruz1 | OS X 10.11.6 El Capitan / x86_64 | OK | OK | WARNINGS | OK | ![UNNEEDED, same version exists in internal repository UNNEEDED, same version exists in internal repository](../120px-Blue_Light_Icon.svg.png) |
##############################################################################
##############################################################################
###
### Running command:
###
### rm -rf ldblock.buildbin-libdir && mkdir ldblock.buildbin-libdir && C:\cygwin\bin\curl.exe -O https://malbec1.bioconductor.org/BBS/3.6/bioc/src/contrib/ldblock_1.7.4.tar.gz && C:\Users\biocbuild\bbs-3.6-bioc\R\bin\R.exe CMD INSTALL --build --library=ldblock.buildbin-libdir --merge-multiarch ldblock_1.7.4.tar.gz && C:\Users\biocbuild\bbs-3.6-bioc\R\bin\R.exe CMD INSTALL ldblock_1.7.4.zip && rm ldblock_1.7.4.tar.gz ldblock_1.7.4.zip
###
##############################################################################
##############################################################################
% Total % Received % Xferd Average Speed Time Time Time Current
Dload Upload Total Spent Left Speed
0 0 0 0 0 0 0 0 --:--:-- --:--:-- --:--:-- 0
65 39.5M 65 25.9M 0 0 48.5M 0 --:--:-- --:--:-- --:--:-- 48.7M
100 39.5M 100 39.5M 0 0 40.6M 0 --:--:-- --:--:-- --:--:-- 40.7M
install for i386
* installing *source* package 'ldblock' ...
** R
** inst
** preparing package for lazy loading
No methods found in "RSQLite" for requests: dbGetQuery
** help
*** installing help indices
** building package indices
** installing vignettes
** testing if installed package can be loaded
No methods found in "RSQLite" for requests: dbGetQuery
install for x64
* installing *source* package 'ldblock' ...
** testing if installed package can be loaded
No methods found in "RSQLite" for requests: dbGetQuery
* MD5 sums
packaged installation of 'ldblock' as ldblock_1.7.4.zip
* DONE (ldblock)
* installing to library 'C:/Users/biocbuild/bbs-3.6-bioc/R/library'
package 'ldblock' successfully unpacked and MD5 sums checked