Back to the "Multiple platform build/check report" | A B C D E [F] G H I J K L M N O P Q R S T U V W X Y Z |
This page was generated on 2017-08-16 13:19:27 -0400 (Wed, 16 Aug 2017).
Package 483/1410 | Hostname | OS / Arch | INSTALL | BUILD | CHECK | BUILD BIN | |||||
flowWorkspace 3.25.7 Greg Finak
| malbec1 | Linux (Ubuntu 16.04.1 LTS) / x86_64 | OK | OK | [ OK ] | ![]() | |||||
tokay1 | Windows Server 2012 R2 Standard / x64 | OK | OK | OK | OK | ![]() | |||||
veracruz1 | OS X 10.11.6 El Capitan / x86_64 | OK | OK | OK | OK | ![]() |
Package: flowWorkspace |
Version: 3.25.7 |
Command: /home/biocbuild/bbs-3.6-bioc/R/bin/R CMD check --no-vignettes --timings flowWorkspace_3.25.7.tar.gz |
StartedAt: 2017-08-15 23:13:50 -0400 (Tue, 15 Aug 2017) |
EndedAt: 2017-08-15 23:18:58 -0400 (Tue, 15 Aug 2017) |
EllapsedTime: 307.7 seconds |
RetCode: 0 |
Status: OK |
CheckDir: flowWorkspace.Rcheck |
Warnings: 0 |
############################################################################## ############################################################################## ### ### Running command: ### ### /home/biocbuild/bbs-3.6-bioc/R/bin/R CMD check --no-vignettes --timings flowWorkspace_3.25.7.tar.gz ### ############################################################################## ############################################################################## * using log directory ‘/home/biocbuild/bbs-3.6-bioc/meat/flowWorkspace.Rcheck’ * using R version 3.4.1 (2017-06-30) * using platform: x86_64-pc-linux-gnu (64-bit) * using session charset: UTF-8 * using option ‘--no-vignettes’ * checking for file ‘flowWorkspace/DESCRIPTION’ ... OK * checking extension type ... Package * this is package ‘flowWorkspace’ version ‘3.25.7’ * checking package namespace information ... OK * checking package dependencies ... OK * checking if this is a source package ... OK * checking if there is a namespace ... OK * checking for hidden files and directories ... OK * checking for portable file names ... OK * checking for sufficient/correct file permissions ... OK * checking whether package ‘flowWorkspace’ can be installed ... OK * checking installed package size ... NOTE installed size is 83.6Mb sub-directories of 1Mb or more: doc 1.1Mb lib 51.4Mb libs 30.1Mb * checking package directory ... OK * checking ‘build’ directory ... OK * checking DESCRIPTION meta-information ... NOTE Versioned 'LinkingTo' value for ‘BH’ is only usable in R >= 3.0.2 * checking top-level files ... OK * checking for left-over files ... OK * checking index information ... OK * checking package subdirectories ... OK * checking R files for non-ASCII characters ... OK * checking R files for syntax errors ... OK * checking whether the package can be loaded ... OK * checking whether the package can be loaded with stated dependencies ... OK * checking whether the package can be unloaded cleanly ... OK * checking whether the namespace can be loaded with stated dependencies ... OK * checking whether the namespace can be unloaded cleanly ... OK * checking dependencies in R code ... NOTE 'library' or 'require' calls in package code: ‘RSVGTipsDevice’ ‘parallel’ Please use :: or requireNamespace() instead. See section 'Suggested packages' in the 'Writing R Extensions' manual. Namespaces in Imports field not imported from: ‘RBGL’ ‘graphics’ All declared Imports should be used. Unexported objects imported by ':::' calls: ‘Rgraphviz:::getRenderPar’ ‘flowCore:::.estimateLogicle’ ‘flowCore:::checkClass’ ‘flowCore:::copyFlowSet’ ‘flowCore:::guid’ ‘flowCore:::logicle_transform’ ‘graph:::.makeEdgeKeys’ ‘lattice:::updateList’ ‘ncdfFlow:::.isValidSamples’ ‘stats:::.splinefun’ See the note in ?`:::` about the use of this operator. There are ::: calls to the package's namespace in its code. A package almost never needs to use ::: for its own objects: ‘.load_gs’ ‘.preprocessMap’ ‘.uuid_gen’ ‘isNegated’ * checking S3 generic/method consistency ... OK * checking replacement functions ... OK * checking foreign function calls ... OK * checking R code for possible problems ... NOTE GatingSet,GatingHierarchy-character: warning in list.files(pattern = paste("^", file, "$", sep = ""), path = path, recursive = TRUE, full = TRUE): partial argument match of 'full' to 'full.names' getGate,GatingSetList-character: warning in unlist(res, recur = FALSE): partial argument match of 'recur' to 'recursive' .addGatingHierarchies: no visible global function definition for ‘is’ .computeCV : <anonymous>: no visible binding for global variable ‘xml.count’ .computeCV : <anonymous>: no visible binding for global variable ‘openCyto.count’ .computeCV : <anonymous> : <anonymous>: no visible global function definition for ‘IQR’ .computeCV : <anonymous> : <anonymous>: no visible global function definition for ‘median’ .computeCV_gh : <anonymous>: no visible global function definition for ‘IQR’ .computeCV_gh : <anonymous>: no visible global function definition for ‘median’ .convertTrans : <anonymous> : f : <anonymous>: no visible binding for global variable ‘max_val’ .convertTrans : <anonymous> : f : <anonymous>: no visible binding for global variable ‘decade’ .convertTrans : <anonymous> : f : <anonymous>: no visible binding for global variable ‘offset’ .convertTrans : <anonymous> : f : <anonymous>: no visible binding for global variable ‘min_val’ .convertTrans : <anonymous>: multiple local function definitions for ‘f’ with different formal arguments .dropRedundantNodes : <anonymous>: no visible global function definition for ‘is’ .graph_handler : asGraphNEL: no visible global function definition for ‘new’ .graph_handler : asGraphNEL: no visible global function definition for ‘validObject’ .load_gs: no visible global function definition for ‘new’ .load_gs: no visible global function definition for ‘.hasSlot’ .load_gs: no visible global function definition for ‘slot’ .mergeGates : <anonymous>: no visible global function definition for ‘extends’ .parse.pData: no visible binding for global variable ‘.’ .plotGate: no visible global function definition for ‘new’ .plotGate: no visible global function definition for ‘as.formula’ .plotGatingTree: no visible global function definition for ‘dev.prev’ .plotGatingTree: no visible global function definition for ‘dev.off’ .plotGatingTree: no visible global function definition for ‘dev.set’ .preplot: no visible global function definition for ‘as’ .preprocessMap: no visible binding for global variable ‘old’ .preprocessMap: no visible binding for global variable ‘.’ .preprocessor: no visible binding for global variable ‘groupName’ .renderNodes.svgAnno : <anonymous>: no visible global function definition for ‘symbols’ .renderNodes.svgAnno: no visible global function definition for ‘rect’ .renderNodes.svgAnno : <anonymous>: no visible global function definition for ‘polygon’ .renderNodes.svgAnno: no visible global function definition for ‘polygon’ .renderNodes.svgAnno: no visible global function definition for ‘strwidth’ .renderNodes.svgAnno: no visible global function definition for ‘strheight’ .renderNodes.svgAnno: no visible global function definition for ‘dev.prev’ .renderNodes.svgAnno: no visible global function definition for ‘dev.off’ .renderNodes.svgAnno: no visible global function definition for ‘dev.set’ .renderNodes.svgAnno: no visible global function definition for ‘text’ GatingSetList: no visible global function definition for ‘as’ GatingSetList: no visible global function definition for ‘validObject’ booleanFilter: no visible global function definition for ‘new’ char2booleanFilter: no visible global function definition for ‘new’ dropRedundantNodes : <anonymous>: no visible global function definition for ‘is’ flowWorkspace.par.init: no visible global function definition for ‘gray’ getMergedStats: no visible binding for global variable ‘sampleName’ mkformula: no visible global function definition for ‘as.formula’ save_gslist: no visible binding for global variable ‘slot’ transformerList: no visible global function definition for ‘is’ transformerList: no visible binding for global variable ‘is’ GatingSet,GatingHierarchy-character: no visible global function definition for ‘new’ GatingSet,character-character: no visible global function definition for ‘new’ GatingSet,flowSet-ANY: no visible global function definition for ‘new’ Rm,character-GatingSetList-character: no visible global function definition for ‘selectMethod’ [,GatingSet-ANY: no visible global function definition for ‘extends’ [,GatingSetList-ANY: no visible global function definition for ‘callNextMethod’ [,GatingSetList-ANY: no visible global function definition for ‘as’ [[,GatingSet-character: no visible global function definition for ‘new’ add,GatingSet-filtersList: no visible global function definition for ‘selectMethod’ add,GatingSet-list : <anonymous>: no visible global function definition for ‘extends’ add,GatingSet-list: no visible global function definition for ‘selectMethod’ add,GatingSetList-filter: no visible global function definition for ‘selectMethod’ add,GatingSetList-filterList: no visible global function definition for ‘selectMethod’ add,GatingSetList-filters: no visible global function definition for ‘selectMethod’ add,GatingSetList-filtersList: no visible global function definition for ‘selectMethod’ add,GatingSetList-list: no visible global function definition for ‘selectMethod’ getPopStats,GatingHierarchy: no visible binding for global variable ‘node’ keyword,GatingSetList-character: no visible global function definition for ‘selectMethod’ keyword,GatingSetList-missing: no visible global function definition for ‘selectMethod’ openWorkspace,character: no visible global function definition for ‘new’ pData<-,GatingSetList-data.frame: no visible global function definition for ‘callNextMethod’ pData<-,GatingSetList-data.frame: no visible global function definition for ‘as’ plotGate,GatingSetList-character: no visible global function definition for ‘selectMethod’ rbind2,GatingSetList-missing: no visible global function definition for ‘new’ rbind2,GatingSetList-missing: no visible binding for global variable ‘slot’ recompute,GatingSetList: no visible global function definition for ‘selectMethod’ transform,GatingSet: no visible global function definition for ‘is’ Undefined global functions or variables: . .hasSlot IQR as as.formula callNextMethod decade dev.off dev.prev dev.set extends gray groupName is max_val median min_val new node offset old openCyto.count polygon rect sampleName selectMethod slot strheight strwidth symbols text validObject xml.count Consider adding importFrom("grDevices", "dev.off", "dev.prev", "dev.set", "gray") importFrom("graphics", "polygon", "rect", "strheight", "strwidth", "symbols", "text") importFrom("methods", ".hasSlot", "as", "callNextMethod", "extends", "is", "new", "selectMethod", "slot", "validObject") importFrom("stats", "IQR", "as.formula", "median", "offset") to your NAMESPACE file (and ensure that your DESCRIPTION Imports field contains 'methods'). * checking Rd files ... OK * checking Rd metadata ... OK * checking Rd cross-references ... OK * checking for missing documentation entries ... OK * checking for code/documentation mismatches ... OK * checking Rd \usage sections ... OK * checking Rd contents ... OK * checking for unstated dependencies in examples ... OK * checking line endings in C/C++/Fortran sources/headers ... OK * checking line endings in Makefiles ... OK * checking compilation flags in Makevars ... OK * checking for GNU extensions in Makefiles ... NOTE GNU make is a SystemRequirements. * checking for portable use of $(BLAS_LIBS) and $(LAPACK_LIBS) ... OK * checking compiled code ... OK * checking installed files from ‘inst/doc’ ... OK * checking files in ‘vignettes’ ... OK * checking examples ... OK * checking for unstated dependencies in ‘tests’ ... OK * checking tests ... Running ‘testthat.R’ OK * checking for unstated dependencies in vignettes ... OK * checking package vignettes in ‘inst/doc’ ... OK * checking running R code from vignettes ... SKIPPED * checking re-building of vignette outputs ... SKIPPED * checking PDF version of manual ... OK * DONE Status: 5 NOTEs See ‘/home/biocbuild/bbs-3.6-bioc/meat/flowWorkspace.Rcheck/00check.log’ for details.
flowWorkspace.Rcheck/00install.out:
* installing *source* package ‘flowWorkspace’ ... checking whether the C++ compiler works... yes checking for C++ compiler default output file name... a.out checking for suffix of executables... checking whether we are cross compiling... no checking for suffix of object files... o checking whether we are using the GNU C++ compiler... yes checking whether g++ -std=gnu++11 accepts -g... yes checking for gcc... gcc checking whether we are using the GNU C compiler... yes checking whether gcc accepts -g... yes checking for gcc option to accept ISO C89... none needed configure: setting xml2 flags... configure: No directory was specified for --with-xml2. Trying to find xml2 using other methods. checking for xml2-config... /usr/bin/xml2-config configure: Using the following compilation and linking flags for flowWorkspace configure: PKG_CPPFLAGS=-I/usr/include/libxml2 configure: PKG_LIBS=-lxml2 configure: creating ./config.status config.status: creating src/Makevars ** libs mkdir -p "/home/biocbuild/bbs-3.6-bioc/meat/flowWorkspace.Rcheck/flowWorkspace/include/flowWorkspace" cp include/* /home/biocbuild/bbs-3.6-bioc/meat/flowWorkspace.Rcheck/flowWorkspace/include/flowWorkspace cp GatingSet.pb.h /home/biocbuild/bbs-3.6-bioc/meat/flowWorkspace.Rcheck/flowWorkspace/include #GatingSet.pb.h is autogenerated by protoc and thus kept at the same folder as GatingSet.proto g++ -std=gnu++11 -I/home/biocbuild/bbs-3.6-bioc/R/include -DNDEBUG -DROUT -I/usr/include/libxml2 -I"/home/biocbuild/bbs-3.6-bioc/R/library/Rcpp/include" -I"/home/biocbuild/bbs-3.6-bioc/R/library/BH/include" -I"/home/biocbuild/bbs-3.6-bioc/R/library/RProtoBufLib/include" -I/usr/local/include -fpic -g -O2 -c GatingHierarchy.cpp -o GatingHierarchy.o g++ -std=gnu++11 -I/home/biocbuild/bbs-3.6-bioc/R/include -DNDEBUG -DROUT -I/usr/include/libxml2 -I"/home/biocbuild/bbs-3.6-bioc/R/library/Rcpp/include" -I"/home/biocbuild/bbs-3.6-bioc/R/library/BH/include" -I"/home/biocbuild/bbs-3.6-bioc/R/library/RProtoBufLib/include" -I/usr/local/include -fpic -g -O2 -c GatingSet.cpp -o GatingSet.o g++ -std=gnu++11 -I/home/biocbuild/bbs-3.6-bioc/R/include -DNDEBUG -DROUT -I/usr/include/libxml2 -I"/home/biocbuild/bbs-3.6-bioc/R/library/Rcpp/include" -I"/home/biocbuild/bbs-3.6-bioc/R/library/BH/include" -I"/home/biocbuild/bbs-3.6-bioc/R/library/RProtoBufLib/include" -I/usr/local/include -fpic -g -O2 -c GatingSet.pb.cc -o GatingSet.pb.o g++ -std=gnu++11 -I/home/biocbuild/bbs-3.6-bioc/R/include -DNDEBUG -DROUT -I/usr/include/libxml2 -I"/home/biocbuild/bbs-3.6-bioc/R/library/Rcpp/include" -I"/home/biocbuild/bbs-3.6-bioc/R/library/BH/include" -I"/home/biocbuild/bbs-3.6-bioc/R/library/RProtoBufLib/include" -I/usr/local/include -fpic -g -O2 -c POPINDICES.cpp -o POPINDICES.o g++ -std=gnu++11 -I/home/biocbuild/bbs-3.6-bioc/R/include -DNDEBUG -DROUT -I/usr/include/libxml2 -I"/home/biocbuild/bbs-3.6-bioc/R/library/Rcpp/include" -I"/home/biocbuild/bbs-3.6-bioc/R/library/BH/include" -I"/home/biocbuild/bbs-3.6-bioc/R/library/RProtoBufLib/include" -I/usr/local/include -fpic -g -O2 -c R_API.cpp -o R_API.o g++ -std=gnu++11 -I/home/biocbuild/bbs-3.6-bioc/R/include -DNDEBUG -DROUT -I/usr/include/libxml2 -I"/home/biocbuild/bbs-3.6-bioc/R/library/Rcpp/include" -I"/home/biocbuild/bbs-3.6-bioc/R/library/BH/include" -I"/home/biocbuild/bbs-3.6-bioc/R/library/RProtoBufLib/include" -I/usr/local/include -fpic -g -O2 -c R_GatingHierarchy.cpp -o R_GatingHierarchy.o g++ -std=gnu++11 -I/home/biocbuild/bbs-3.6-bioc/R/include -DNDEBUG -DROUT -I/usr/include/libxml2 -I"/home/biocbuild/bbs-3.6-bioc/R/library/Rcpp/include" -I"/home/biocbuild/bbs-3.6-bioc/R/library/BH/include" -I"/home/biocbuild/bbs-3.6-bioc/R/library/RProtoBufLib/include" -I/usr/local/include -fpic -g -O2 -c R_GatingSet.cpp -o R_GatingSet.o g++ -std=gnu++11 -I/home/biocbuild/bbs-3.6-bioc/R/include -DNDEBUG -DROUT -I/usr/include/libxml2 -I"/home/biocbuild/bbs-3.6-bioc/R/library/Rcpp/include" -I"/home/biocbuild/bbs-3.6-bioc/R/library/BH/include" -I"/home/biocbuild/bbs-3.6-bioc/R/library/RProtoBufLib/include" -I/usr/local/include -fpic -g -O2 -c RcppExports.cpp -o RcppExports.o g++ -std=gnu++11 -I/home/biocbuild/bbs-3.6-bioc/R/include -DNDEBUG -DROUT -I/usr/include/libxml2 -I"/home/biocbuild/bbs-3.6-bioc/R/library/Rcpp/include" -I"/home/biocbuild/bbs-3.6-bioc/R/library/BH/include" -I"/home/biocbuild/bbs-3.6-bioc/R/library/RProtoBufLib/include" -I/usr/local/include -fpic -g -O2 -c calibrationTable.cpp -o calibrationTable.o g++ -std=gnu++11 -I/home/biocbuild/bbs-3.6-bioc/R/include -DNDEBUG -DROUT -I/usr/include/libxml2 -I"/home/biocbuild/bbs-3.6-bioc/R/library/Rcpp/include" -I"/home/biocbuild/bbs-3.6-bioc/R/library/BH/include" -I"/home/biocbuild/bbs-3.6-bioc/R/library/RProtoBufLib/include" -I/usr/local/include -fpic -g -O2 -c compensation.cpp -o compensation.o g++ -std=gnu++11 -I/home/biocbuild/bbs-3.6-bioc/R/include -DNDEBUG -DROUT -I/usr/include/libxml2 -I"/home/biocbuild/bbs-3.6-bioc/R/library/Rcpp/include" -I"/home/biocbuild/bbs-3.6-bioc/R/library/BH/include" -I"/home/biocbuild/bbs-3.6-bioc/R/library/RProtoBufLib/include" -I/usr/local/include -fpic -g -O2 -c delimitedMessage.cpp -o delimitedMessage.o g++ -std=gnu++11 -I/home/biocbuild/bbs-3.6-bioc/R/include -DNDEBUG -DROUT -I/usr/include/libxml2 -I"/home/biocbuild/bbs-3.6-bioc/R/library/Rcpp/include" -I"/home/biocbuild/bbs-3.6-bioc/R/library/BH/include" -I"/home/biocbuild/bbs-3.6-bioc/R/library/RProtoBufLib/include" -I/usr/local/include -fpic -g -O2 -c ellipse2points.cpp -o ellipse2points.o g++ -std=gnu++11 -I/home/biocbuild/bbs-3.6-bioc/R/include -DNDEBUG -DROUT -I/usr/include/libxml2 -I"/home/biocbuild/bbs-3.6-bioc/R/library/Rcpp/include" -I"/home/biocbuild/bbs-3.6-bioc/R/library/BH/include" -I"/home/biocbuild/bbs-3.6-bioc/R/library/RProtoBufLib/include" -I/usr/local/include -fpic -g -O2 -c flowData.cpp -o flowData.o g++ -std=gnu++11 -I/home/biocbuild/bbs-3.6-bioc/R/include -DNDEBUG -DROUT -I/usr/include/libxml2 -I"/home/biocbuild/bbs-3.6-bioc/R/library/Rcpp/include" -I"/home/biocbuild/bbs-3.6-bioc/R/library/BH/include" -I"/home/biocbuild/bbs-3.6-bioc/R/library/RProtoBufLib/include" -I/usr/local/include -fpic -g -O2 -c flowJoWorkspace.cpp -o flowJoWorkspace.o g++ -std=gnu++11 -I/home/biocbuild/bbs-3.6-bioc/R/include -DNDEBUG -DROUT -I/usr/include/libxml2 -I"/home/biocbuild/bbs-3.6-bioc/R/library/Rcpp/include" -I"/home/biocbuild/bbs-3.6-bioc/R/library/BH/include" -I"/home/biocbuild/bbs-3.6-bioc/R/library/RProtoBufLib/include" -I/usr/local/include -fpic -g -O2 -c gate.cpp -o gate.o g++ -std=gnu++11 -I/home/biocbuild/bbs-3.6-bioc/R/include -DNDEBUG -DROUT -I/usr/include/libxml2 -I"/home/biocbuild/bbs-3.6-bioc/R/library/Rcpp/include" -I"/home/biocbuild/bbs-3.6-bioc/R/library/BH/include" -I"/home/biocbuild/bbs-3.6-bioc/R/library/RProtoBufLib/include" -I/usr/local/include -fpic -g -O2 -c getSingleCellExpression.cpp -o getSingleCellExpression.o g++ -std=gnu++11 -I/home/biocbuild/bbs-3.6-bioc/R/include -DNDEBUG -DROUT -I/usr/include/libxml2 -I"/home/biocbuild/bbs-3.6-bioc/R/library/Rcpp/include" -I"/home/biocbuild/bbs-3.6-bioc/R/library/BH/include" -I"/home/biocbuild/bbs-3.6-bioc/R/library/RProtoBufLib/include" -I/usr/local/include -fpic -g -O2 -c global.cpp -o global.o g++ -std=gnu++11 -I/home/biocbuild/bbs-3.6-bioc/R/include -DNDEBUG -DROUT -I/usr/include/libxml2 -I"/home/biocbuild/bbs-3.6-bioc/R/library/Rcpp/include" -I"/home/biocbuild/bbs-3.6-bioc/R/library/BH/include" -I"/home/biocbuild/bbs-3.6-bioc/R/library/RProtoBufLib/include" -I/usr/local/include -fpic -g -O2 -c macFlowJoWorkspace.cpp -o macFlowJoWorkspace.o g++ -std=gnu++11 -I/home/biocbuild/bbs-3.6-bioc/R/include -DNDEBUG -DROUT -I/usr/include/libxml2 -I"/home/biocbuild/bbs-3.6-bioc/R/library/Rcpp/include" -I"/home/biocbuild/bbs-3.6-bioc/R/library/BH/include" -I"/home/biocbuild/bbs-3.6-bioc/R/library/RProtoBufLib/include" -I/usr/local/include -fpic -g -O2 -c nodeProperties.cpp -o nodeProperties.o g++ -std=gnu++11 -I/home/biocbuild/bbs-3.6-bioc/R/include -DNDEBUG -DROUT -I/usr/include/libxml2 -I"/home/biocbuild/bbs-3.6-bioc/R/library/Rcpp/include" -I"/home/biocbuild/bbs-3.6-bioc/R/library/BH/include" -I"/home/biocbuild/bbs-3.6-bioc/R/library/RProtoBufLib/include" -I/usr/local/include -fpic -g -O2 -c spline.cpp -o spline.o g++ -std=gnu++11 -I/home/biocbuild/bbs-3.6-bioc/R/include -DNDEBUG -DROUT -I/usr/include/libxml2 -I"/home/biocbuild/bbs-3.6-bioc/R/library/Rcpp/include" -I"/home/biocbuild/bbs-3.6-bioc/R/library/BH/include" -I"/home/biocbuild/bbs-3.6-bioc/R/library/RProtoBufLib/include" -I/usr/local/include -fpic -g -O2 -c transformation.cpp -o transformation.o g++ -std=gnu++11 -I/home/biocbuild/bbs-3.6-bioc/R/include -DNDEBUG -DROUT -I/usr/include/libxml2 -I"/home/biocbuild/bbs-3.6-bioc/R/library/Rcpp/include" -I"/home/biocbuild/bbs-3.6-bioc/R/library/BH/include" -I"/home/biocbuild/bbs-3.6-bioc/R/library/RProtoBufLib/include" -I/usr/local/include -fpic -g -O2 -c winFlowJoWorkspace.cpp -o winFlowJoWorkspace.o g++ -std=gnu++11 -I/home/biocbuild/bbs-3.6-bioc/R/include -DNDEBUG -DROUT -I/usr/include/libxml2 -I"/home/biocbuild/bbs-3.6-bioc/R/library/Rcpp/include" -I"/home/biocbuild/bbs-3.6-bioc/R/library/BH/include" -I"/home/biocbuild/bbs-3.6-bioc/R/library/RProtoBufLib/include" -I/usr/local/include -fpic -g -O2 -c workspace.cpp -o workspace.o g++ -std=gnu++11 -I/home/biocbuild/bbs-3.6-bioc/R/include -DNDEBUG -DROUT -I/usr/include/libxml2 -I"/home/biocbuild/bbs-3.6-bioc/R/library/Rcpp/include" -I"/home/biocbuild/bbs-3.6-bioc/R/library/BH/include" -I"/home/biocbuild/bbs-3.6-bioc/R/library/RProtoBufLib/include" -I/usr/local/include -fpic -g -O2 -c wsNode.cpp -o wsNode.o mkdir -p "/home/biocbuild/bbs-3.6-bioc/meat/flowWorkspace.Rcheck/flowWorkspace/lib" ar rs "/home/biocbuild/bbs-3.6-bioc/meat/flowWorkspace.Rcheck/flowWorkspace/lib/libflowWorkspace.a" GatingHierarchy.o GatingSet.o GatingSet.pb.o POPINDICES.o R_API.o R_GatingHierarchy.o R_GatingSet.o RcppExports.o calibrationTable.o compensation.o delimitedMessage.o ellipse2points.o flowData.o flowJoWorkspace.o gate.o getSingleCellExpression.o global.o macFlowJoWorkspace.o nodeProperties.o spline.o transformation.o winFlowJoWorkspace.o workspace.o wsNode.o ar: creating /home/biocbuild/bbs-3.6-bioc/meat/flowWorkspace.Rcheck/flowWorkspace/lib/libflowWorkspace.a g++ -std=gnu++11 -shared -L/home/biocbuild/bbs-3.6-bioc/R/lib -L/usr/local/lib -o flowWorkspace.so GatingHierarchy.o GatingSet.o GatingSet.pb.o POPINDICES.o R_API.o R_GatingHierarchy.o R_GatingSet.o RcppExports.o calibrationTable.o compensation.o delimitedMessage.o ellipse2points.o flowData.o flowJoWorkspace.o gate.o getSingleCellExpression.o global.o macFlowJoWorkspace.o nodeProperties.o spline.o transformation.o winFlowJoWorkspace.o workspace.o wsNode.o /home/biocbuild/bbs-3.6-bioc/R/library/flowCore/lib/libboost_regex.a /home/biocbuild/bbs-3.6-bioc/R/library/RProtoBufLib/lib/libprotobuf.a -lxml2 -L/home/biocbuild/bbs-3.6-bioc/R/lib -lR installing to /home/biocbuild/bbs-3.6-bioc/meat/flowWorkspace.Rcheck/flowWorkspace/libs ** R ** inst ** preparing package for lazy loading ** help *** installing help indices ** building package indices ** installing vignettes ** testing if installed package can be loaded * DONE (flowWorkspace)
flowWorkspace.Rcheck/flowWorkspace-Ex.timings:
name | user | system | elapsed | |
GatingHierarchy-class | 3.380 | 0.612 | 4.463 | |
GatingSet-class | 1.908 | 0.300 | 2.209 | |
GatingSet-methods | 0.000 | 0.000 | 0.001 | |
GatingSetList-class | 0.004 | 0.000 | 0.002 | |
add | 0.000 | 0.004 | 0.002 | |
asinh_Gml2 | 0.000 | 0.000 | 0.001 | |
asinhtGml2_trans | 0.000 | 0.000 | 0.001 | |
booleanFilter-class | 0.000 | 0.000 | 0.002 | |
checkRedundantNodes | 0 | 0 | 0 | |
clone | 0.000 | 0.000 | 0.001 | |
compensate | 0.000 | 0.000 | 0.001 | |
dropRedundantChannels | 0 | 0 | 0 | |
dropRedundantNodes | 0.004 | 0.000 | 0.000 | |
estimateLogicle.GatingHierarchy | 0 | 0 | 0 | |
flowJo.fasinh | 0.000 | 0.000 | 0.001 | |
flowJoTrans | 0.000 | 0.004 | 0.002 | |
flowJoWorkspace-class | 0.024 | 0.004 | 0.028 | |
flowJo_biexp_trans | 0.684 | 0.128 | 0.812 | |
flowJo_fasinh_trans | 0.004 | 0.000 | 0.000 | |
flowWorkspace.par.get | 0.000 | 0.000 | 0.001 | |
flow_breaks | 0.684 | 0.116 | 0.799 | |
getCompensationMatrices | 0.000 | 0.000 | 0.001 | |
getData-methods | 0.000 | 0.004 | 0.001 | |
getGate | 0 | 0 | 0 | |
getIndices-GatingSet-name-method | 0 | 0 | 0 | |
getIndices | 0.000 | 0.000 | 0.001 | |
getKeywords | 0.148 | 0.000 | 0.372 | |
getMergedStats | 0.000 | 0.000 | 0.001 | |
getParent | 0.000 | 0.000 | 0.001 | |
getPopStats | 0 | 0 | 0 | |
getSampleGroups | 0 | 0 | 0 | |
getSamples | 0 | 0 | 0 | |
getSingleCellExpression | 0.000 | 0.000 | 0.001 | |
getTransformations | 0.000 | 0.004 | 0.001 | |
groupByChannels | 0 | 0 | 0 | |
groupByTree | 0 | 0 | 0 | |
insertGate | 0 | 0 | 0 | |
keyword | 0.000 | 0.000 | 0.001 | |
logicleGml2_trans | 0.000 | 0.000 | 0.001 | |
logicle_trans | 0.016 | 0.000 | 0.015 | |
loglevel | 0 | 0 | 0 | |
markernames | 0.000 | 0.000 | 0.001 | |
mkformula | 0.000 | 0.000 | 0.002 | |
moveNode | 0.112 | 0.192 | 0.414 | |
openWorkspace | 0.000 | 0.000 | 0.001 | |
parseWorkspace | 0.000 | 0.000 | 0.001 | |
plot-methods | 0.000 | 0.000 | 0.001 | |
plotGate-methods | 0.000 | 0.000 | 0.001 | |
plotPopCV | 0.000 | 0.000 | 0.001 | |
prettyAxis | 0.000 | 0.000 | 0.001 | |
sampleNames | 0.000 | 0.000 | 0.001 | |
save_gs | 0 | 0 | 0 | |
setGate | 0 | 0 | 0 | |
setNode-methods | 0.004 | 0.000 | 0.000 | |
transform | 0.000 | 0.000 | 0.001 | |
transformerList | 0.012 | 0.000 | 0.012 | |
updateChannels | 0 | 0 | 0 | |