| flowType 2.15.0 Nima Aghaeepour
 
 | Snapshot Date: 2017-08-15 17:18:21 -0400 (Tue, 15 Aug 2017) |  | URL: https://hedgehog.fhcrc.org/bioconductor/trunk/madman/Rpacks/flowType |  | Last Changed Rev: 129129 / Revision: 131943 |  | Last Changed Date: 2017-04-24 15:50:57 -0400 (Mon, 24 Apr 2017) | 
 | malbec1 | Linux (Ubuntu 16.04.1 LTS) / x86_64 | OK | OK | OK |  |  | 
| tokay1 | Windows Server 2012 R2 Standard / x64 | [ OK ] | OK | OK | OK |  | 
| veracruz1 | OS X 10.11.6 El Capitan / x86_64 | OK | OK | WARNINGS | OK |  | 
##############################################################################
##############################################################################
###
### Running command:
###
###   rm -rf flowType.buildbin-libdir && mkdir flowType.buildbin-libdir  && C:\cygwin\bin\curl.exe -O https://malbec1.bioconductor.org/BBS/3.6/bioc/src/contrib/flowType_2.15.0.tar.gz && C:\Users\biocbuild\bbs-3.6-bioc\R\bin\R.exe CMD INSTALL --build --library=flowType.buildbin-libdir --merge-multiarch flowType_2.15.0.tar.gz && C:\Users\biocbuild\bbs-3.6-bioc\R\bin\R.exe CMD INSTALL flowType_2.15.0.zip  && rm flowType_2.15.0.tar.gz flowType_2.15.0.zip
###
##############################################################################
##############################################################################
  % Total    % Received % Xferd  Average Speed   Time    Time     Time  Current
                                 Dload  Upload   Total   Spent    Left  Speed
  0     0    0     0    0     0      0      0 --:--:-- --:--:-- --:--:--     0
 11  845k   11 98304    0     0   109k      0  0:00:07 --:--:--  0:00:07  110k
100  845k  100  845k    0     0   688k      0  0:00:01  0:00:01 --:--:--  689k
install for i386
* installing *source* package 'flowType' ...
** libs
C:/Rtools/mingw_32/bin/g++  -I"C:/Users/BIOCBU˜1/BBS-3˜1.6-B/R/include" -DNDEBUG  -I"C:/Users/biocbuild/bbs-3.6-bioc/R/library/Rcpp/include" -I"C:/Users/biocbuild/bbs-3.6-bioc/R/library/BH/include"   -I"C:/local323/include"     -O2 -Wall  -mtune=core2 -c countsAndMeans.cpp -o countsAndMeans.o
C:/Rtools/mingw_32/bin/g++  -I"C:/Users/BIOCBU˜1/BBS-3˜1.6-B/R/include" -DNDEBUG  -I"C:/Users/biocbuild/bbs-3.6-bioc/R/library/Rcpp/include" -I"C:/Users/biocbuild/bbs-3.6-bioc/R/library/BH/include"   -I"C:/local323/include"     -O2 -Wall  -mtune=core2 -c flowType.cpp -o flowType.o
C:/Rtools/mingw_32/bin/g++  -I"C:/Users/BIOCBU˜1/BBS-3˜1.6-B/R/include" -DNDEBUG  -I"C:/Users/biocbuild/bbs-3.6-bioc/R/library/Rcpp/include" -I"C:/Users/biocbuild/bbs-3.6-bioc/R/library/BH/include"   -I"C:/local323/include"     -O2 -Wall  -mtune=core2 -c numberGenerator.cpp -o numberGenerator.o
C:/Rtools/mingw_32/bin/g++ -shared -s -static-libgcc -o flowType.dll tmp.def countsAndMeans.o flowType.o numberGenerator.o -LC:/local323/lib/i386 -LC:/local323/lib -LC:/Users/BIOCBU˜1/BBS-3˜1.6-B/R/bin/i386 -lR
installing to C:/Users/biocbuild/bbs-3.6-bioc/meat/flowType.buildbin-libdir/flowType/libs/i386
** R
** data
** inst
** preparing package for lazy loading
** help
*** installing help indices
** building package indices
** installing vignettes
** testing if installed package can be loaded
install for x64
* installing *source* package 'flowType' ...
** libs
C:/Rtools/mingw_64/bin/g++  -I"C:/Users/BIOCBU˜1/BBS-3˜1.6-B/R/include" -DNDEBUG  -I"C:/Users/biocbuild/bbs-3.6-bioc/R/library/Rcpp/include" -I"C:/Users/biocbuild/bbs-3.6-bioc/R/library/BH/include"   -I"C:/local323/include"     -O2 -Wall  -mtune=core2 -c countsAndMeans.cpp -o countsAndMeans.o
C:/Rtools/mingw_64/bin/g++  -I"C:/Users/BIOCBU˜1/BBS-3˜1.6-B/R/include" -DNDEBUG  -I"C:/Users/biocbuild/bbs-3.6-bioc/R/library/Rcpp/include" -I"C:/Users/biocbuild/bbs-3.6-bioc/R/library/BH/include"   -I"C:/local323/include"     -O2 -Wall  -mtune=core2 -c flowType.cpp -o flowType.o
C:/Rtools/mingw_64/bin/g++  -I"C:/Users/BIOCBU˜1/BBS-3˜1.6-B/R/include" -DNDEBUG  -I"C:/Users/biocbuild/bbs-3.6-bioc/R/library/Rcpp/include" -I"C:/Users/biocbuild/bbs-3.6-bioc/R/library/BH/include"   -I"C:/local323/include"     -O2 -Wall  -mtune=core2 -c numberGenerator.cpp -o numberGenerator.o
C:/Rtools/mingw_64/bin/g++ -shared -s -static-libgcc -o flowType.dll tmp.def countsAndMeans.o flowType.o numberGenerator.o -LC:/local323/lib/x64 -LC:/local323/lib -LC:/Users/BIOCBU˜1/BBS-3˜1.6-B/R/bin/x64 -lR
installing to C:/Users/biocbuild/bbs-3.6-bioc/meat/flowType.buildbin-libdir/flowType/libs/x64
** testing if installed package can be loaded
* MD5 sums
packaged installation of 'flowType' as flowType_2.15.0.zip
* DONE (flowType)
* installing to library 'C:/Users/biocbuild/bbs-3.6-bioc/R/library'
package 'flowType' successfully unpacked and MD5 sums checked