| ensembldb 2.1.11 Johannes Rainer
 
 | Snapshot Date: 2017-08-15 17:18:21 -0400 (Tue, 15 Aug 2017) |  | URL: https://hedgehog.fhcrc.org/bioconductor/trunk/madman/Rpacks/ensembldb |  | Last Changed Rev: 131741 / Revision: 131943 |  | Last Changed Date: 2017-08-04 02:59:07 -0400 (Fri, 04 Aug 2017) | 
 | malbec1 | Linux (Ubuntu 16.04.1 LTS) / x86_64 | OK | OK | OK |  |  | 
| tokay1 | Windows Server 2012 R2 Standard / x64 | [ OK ] | OK | OK | OK |  | 
| veracruz1 | OS X 10.11.6 El Capitan / x86_64 | OK | OK | OK | OK |  | 
##############################################################################
##############################################################################
###
### Running command:
###
###   rm -rf ensembldb.buildbin-libdir && mkdir ensembldb.buildbin-libdir  && C:\cygwin\bin\curl.exe -O https://malbec1.bioconductor.org/BBS/3.6/bioc/src/contrib/ensembldb_2.1.11.tar.gz && C:\Users\biocbuild\bbs-3.6-bioc\R\bin\R.exe CMD INSTALL --build --library=ensembldb.buildbin-libdir --merge-multiarch ensembldb_2.1.11.tar.gz && C:\Users\biocbuild\bbs-3.6-bioc\R\bin\R.exe CMD INSTALL ensembldb_2.1.11.zip  && rm ensembldb_2.1.11.tar.gz ensembldb_2.1.11.zip
###
##############################################################################
##############################################################################
  % Total    % Received % Xferd  Average Speed   Time    Time     Time  Current
                                 Dload  Upload   Total   Spent    Left  Speed
  0     0    0     0    0     0      0      0 --:--:-- --:--:-- --:--:--     0
100 1196k  100 1196k    0     0  21.7M      0 --:--:-- --:--:-- --:--:-- 23.3M
install for i386
* installing *source* package 'ensembldb' ...
** R
** inst
** preparing package for lazy loading
** help
*** installing help indices
** building package indices
** installing vignettes
** testing if installed package can be loaded
install for x64
* installing *source* package 'ensembldb' ...
** testing if installed package can be loaded
* MD5 sums
packaged installation of 'ensembldb' as ensembldb_2.1.11.zip
* DONE (ensembldb)
* installing to library 'C:/Users/biocbuild/bbs-3.6-bioc/R/library'
package 'ensembldb' successfully unpacked and MD5 sums checked