codelink 1.45.0 Diego Diez
Snapshot Date: 2017-08-15 17:18:21 -0400 (Tue, 15 Aug 2017) | URL: https://hedgehog.fhcrc.org/bioconductor/trunk/madman/Rpacks/codelink | Last Changed Rev: 129129 / Revision: 131943 | Last Changed Date: 2017-04-24 15:50:57 -0400 (Mon, 24 Apr 2017) |
| malbec1 | Linux (Ubuntu 16.04.1 LTS) / x86_64 | OK | OK | OK | | ![UNNEEDED, same version exists in internal repository UNNEEDED, same version exists in internal repository](../120px-Blue_Light_Icon.svg.png) |
tokay1 | Windows Server 2012 R2 Standard / x64 | [ OK ] | OK | OK | OK | ![UNNEEDED, same version exists in internal repository UNNEEDED, same version exists in internal repository](../120px-Blue_Light_Icon.svg.png) |
veracruz1 | OS X 10.11.6 El Capitan / x86_64 | OK | OK | OK | OK | ![UNNEEDED, same version exists in internal repository UNNEEDED, same version exists in internal repository](../120px-Blue_Light_Icon.svg.png) |
##############################################################################
##############################################################################
###
### Running command:
###
### rm -rf codelink.buildbin-libdir && mkdir codelink.buildbin-libdir && C:\cygwin\bin\curl.exe -O https://malbec1.bioconductor.org/BBS/3.6/bioc/src/contrib/codelink_1.45.0.tar.gz && C:\Users\biocbuild\bbs-3.6-bioc\R\bin\R.exe CMD INSTALL --build --library=codelink.buildbin-libdir --merge-multiarch codelink_1.45.0.tar.gz && C:\Users\biocbuild\bbs-3.6-bioc\R\bin\R.exe CMD INSTALL codelink_1.45.0.zip && rm codelink_1.45.0.tar.gz codelink_1.45.0.zip
###
##############################################################################
##############################################################################
% Total % Received % Xferd Average Speed Time Time Time Current
Dload Upload Total Spent Left Speed
0 0 0 0 0 0 0 0 --:--:-- --:--:-- --:--:-- 0
0 0 0 0 0 0 0 0 --:--:-- --:--:-- --:--:-- 0
95 2409k 95 2304k 0 0 2132k 0 0:00:01 0:00:01 --:--:-- 2137k
100 2409k 100 2409k 0 0 2228k 0 0:00:01 0:00:01 --:--:-- 2233k
install for i386
* installing *source* package 'codelink' ...
** R
** data
** inst
** byte-compile and prepare package for lazy loading
** help
*** installing help indices
** building package indices
** installing vignettes
'Codelink_Introduction.Rnw' using 'UTF-8'
'Codelink_Legacy.Rnw' using 'UTF-8'
** testing if installed package can be loaded
install for x64
* installing *source* package 'codelink' ...
** testing if installed package can be loaded
* MD5 sums
packaged installation of 'codelink' as codelink_1.45.0.zip
* DONE (codelink)
* installing to library 'C:/Users/biocbuild/bbs-3.6-bioc/R/library'
package 'codelink' successfully unpacked and MD5 sums checked