| a4Base 1.25.0 Tobias Verbeke
 
 | Snapshot Date: 2017-08-15 17:18:21 -0400 (Tue, 15 Aug 2017) |  | URL: https://hedgehog.fhcrc.org/bioconductor/trunk/madman/Rpacks/a4Base |  | Last Changed Rev: 129129 / Revision: 131943 |  | Last Changed Date: 2017-04-24 15:50:57 -0400 (Mon, 24 Apr 2017) | 
 | malbec1 | Linux (Ubuntu 16.04.1 LTS) / x86_64 | OK | OK | OK |  |  | 
| tokay1 | Windows Server 2012 R2 Standard / x64 | [ OK ] | OK | OK | OK |  | 
| veracruz1 | OS X 10.11.6 El Capitan / x86_64 | OK | OK | OK | OK |  | 
##############################################################################
##############################################################################
###
### Running command:
###
###   rm -rf a4Base.buildbin-libdir && mkdir a4Base.buildbin-libdir  && C:\cygwin\bin\curl.exe -O https://malbec1.bioconductor.org/BBS/3.6/bioc/src/contrib/a4Base_1.25.0.tar.gz && C:\Users\biocbuild\bbs-3.6-bioc\R\bin\R.exe CMD INSTALL --build --library=a4Base.buildbin-libdir --merge-multiarch a4Base_1.25.0.tar.gz && C:\Users\biocbuild\bbs-3.6-bioc\R\bin\R.exe CMD INSTALL a4Base_1.25.0.zip  && rm a4Base_1.25.0.tar.gz a4Base_1.25.0.zip
###
##############################################################################
##############################################################################
  % Total    % Received % Xferd  Average Speed   Time    Time     Time  Current
                                 Dload  Upload   Total   Spent    Left  Speed
  0     0    0     0    0     0      0      0 --:--:-- --:--:-- --:--:--     0
100  344k  100  344k    0     0  1383k      0 --:--:-- --:--:-- --:--:-- 1400k
install for i386
* installing *source* package 'a4Base' ...
** R
** data
** inst
** preparing package for lazy loading
** help
*** installing help indices
** building package indices
** testing if installed package can be loaded
install for x64
* installing *source* package 'a4Base' ...
** testing if installed package can be loaded
* MD5 sums
packaged installation of 'a4Base' as a4Base_1.25.0.zip
* DONE (a4Base)
* installing to library 'C:/Users/biocbuild/bbs-3.6-bioc/R/library'
package 'a4Base' successfully unpacked and MD5 sums checked