RedeR 1.25.1 Mauro Castro
 | Snapshot Date: 2017-08-15 17:18:21 -0400 (Tue, 15 Aug 2017) |  | URL: https://hedgehog.fhcrc.org/bioconductor/trunk/madman/Rpacks/RedeR |  | Last Changed Rev: 129210 / Revision: 131943 |  | Last Changed Date: 2017-04-26 23:15:10 -0400 (Wed, 26 Apr 2017) |  
  | malbec1  | Linux (Ubuntu 16.04.1 LTS) / x86_64  |  OK  |  OK  |  OK  |  |   | 
| tokay1  | Windows Server 2012 R2 Standard / x64  |  OK  |  OK  |  OK  | [ OK ] |   | 
| veracruz1  | OS X 10.11.6 El Capitan / x86_64  |  OK  |  OK  |  OK  |  OK  |   | 
##############################################################################
##############################################################################
###
### Running command:
###
###   cd RedeR.buildbin-libdir/RedeR && zip -r ../../RedeR_1.25.1.zip . & cd ../..
###
##############################################################################
##############################################################################
  adding: CITATION (332 bytes security) (deflated 46%)
  adding: data/ (372 bytes security) (stored 0%)
  adding: data/Carroll2006.RData (332 bytes security) (deflated 0%)
  adding: data/datalist (332 bytes security) (deflated 5%)
  adding: data/ER.deg.RData (332 bytes security) (deflated 0%)
  adding: data/ER.limma.RData (332 bytes security) (deflated 0%)
  adding: data/hs.inter.RData (332 bytes security) (deflated 0%)
  adding: DESCRIPTION (332 bytes security) (deflated 39%)
  adding: doc/ (372 bytes security) (stored 0%)
  adding: doc/index.html (332 bytes security) (deflated 57%)
  adding: doc/RedeR.pdf (332 bytes security) (deflated 6%)
  adding: doc/RedeR.R (332 bytes security) (deflated 81%)
  adding: doc/RedeR.Rnw (332 bytes security) (deflated 67%)
  adding: help/ (372 bytes security) (stored 0%)
  adding: help/aliases.rds (332 bytes security) (stored 0%)
  adding: help/AnIndex (332 bytes security) (deflated 80%)
  adding: help/paths.rds (332 bytes security) (stored 0%)
  adding: help/RedeR.rdb (332 bytes security) (deflated 2%)
  adding: help/RedeR.rdx (332 bytes security) (stored 0%)
  adding: html/ (372 bytes security) (stored 0%)
  adding: html/00Index.html (332 bytes security) (deflated 86%)
  adding: html/R.css (332 bytes security) (deflated 75%)
  adding: INDEX (332 bytes security) (deflated 70%)
  adding: java/ (372 bytes security) (stored 0%)
  adding: java/reder_v2.jar (332 bytes security) (deflated 9%)
  adding: MD5 (332 bytes security) (deflated 42%)
  adding: Meta/ (372 bytes security) (stored 0%)
  adding: Meta/data.rds (332 bytes security) (stored 0%)
  adding: Meta/features.rds (332 bytes security) (stored 0%)
  adding: Meta/hsearch.rds (332 bytes security) (stored 0%)
  adding: Meta/links.rds (332 bytes security) (stored 0%)
  adding: Meta/nsInfo.rds (332 bytes security) (stored 0%)
  adding: Meta/package.rds (332 bytes security) (stored 0%)
  adding: Meta/Rd.rds (332 bytes security) (stored 0%)
  adding: Meta/vignette.rds (332 bytes security) (stored 0%)
  adding: NAMESPACE (332 bytes security) (deflated 60%)
  adding: NEWS.Rd (332 bytes security) (deflated 67%)
  adding: R/ (372 bytes security) (stored 0%)
  adding: R/RedeR (332 bytes security) (deflated 41%)
  adding: R/RedeR.rdb (332 bytes security) (deflated 49%)
  adding: R/RedeR.rdx (332 bytes security) (deflated 1%)
  adding: script/ (372 bytes security) (stored 0%)
  adding: script/script_case_st.r (332 bytes security) (deflated 61%)