RankProd 3.3.4 Francesco Del Carratore
Snapshot Date: 2017-08-15 17:18:21 -0400 (Tue, 15 Aug 2017) | URL: https://hedgehog.fhcrc.org/bioconductor/trunk/madman/Rpacks/RankProd | Last Changed Rev: 129616 / Revision: 131943 | Last Changed Date: 2017-05-16 08:59:01 -0400 (Tue, 16 May 2017) |
| malbec1 | Linux (Ubuntu 16.04.1 LTS) / x86_64 | OK | OK | OK | | ![UNNEEDED, same version exists in internal repository UNNEEDED, same version exists in internal repository](../120px-Blue_Light_Icon.svg.png) |
tokay1 | Windows Server 2012 R2 Standard / x64 | [ OK ] | OK | OK | OK | ![UNNEEDED, same version exists in internal repository UNNEEDED, same version exists in internal repository](../120px-Blue_Light_Icon.svg.png) |
veracruz1 | OS X 10.11.6 El Capitan / x86_64 | OK | OK | OK | OK | ![UNNEEDED, same version exists in internal repository UNNEEDED, same version exists in internal repository](../120px-Blue_Light_Icon.svg.png) |
##############################################################################
##############################################################################
###
### Running command:
###
### rm -rf RankProd.buildbin-libdir && mkdir RankProd.buildbin-libdir && C:\cygwin\bin\curl.exe -O https://malbec1.bioconductor.org/BBS/3.6/bioc/src/contrib/RankProd_3.3.4.tar.gz && C:\Users\biocbuild\bbs-3.6-bioc\R\bin\R.exe CMD INSTALL --build --library=RankProd.buildbin-libdir --merge-multiarch RankProd_3.3.4.tar.gz && C:\Users\biocbuild\bbs-3.6-bioc\R\bin\R.exe CMD INSTALL RankProd_3.3.4.zip && rm RankProd_3.3.4.tar.gz RankProd_3.3.4.zip
###
##############################################################################
##############################################################################
% Total % Received % Xferd Average Speed Time Time Time Current
Dload Upload Total Spent Left Speed
0 0 0 0 0 0 0 0 --:--:-- --:--:-- --:--:-- 0
100 269k 100 269k 0 0 7599k 0 --:--:-- --:--:-- --:--:-- 8421k
install for i386
* installing *source* package 'RankProd' ...
** R
** data
** inst
** preparing package for lazy loading
[1] "this is the new version of the RankProd package"
** help
*** installing help indices
** building package indices
** installing vignettes
** testing if installed package can be loaded
install for x64
* installing *source* package 'RankProd' ...
** testing if installed package can be loaded
* MD5 sums
packaged installation of 'RankProd' as RankProd_3.3.4.zip
* DONE (RankProd)
* installing to library 'C:/Users/biocbuild/bbs-3.6-bioc/R/library'
package 'RankProd' successfully unpacked and MD5 sums checked