RProtoBufLib 0.99.5 Mike Jiang
Snapshot Date: 2017-08-15 17:18:21 -0400 (Tue, 15 Aug 2017) | URL: https://hedgehog.fhcrc.org/bioconductor/trunk/madman/Rpacks/RProtoBufLib | Last Changed Rev: 131636 / Revision: 131943 | Last Changed Date: 2017-07-28 13:25:41 -0400 (Fri, 28 Jul 2017) |
| malbec1 | Linux (Ubuntu 16.04.1 LTS) / x86_64 | OK | OK | WARNINGS | | ![UNNEEDED, same version exists in internal repository UNNEEDED, same version exists in internal repository](../120px-Blue_Light_Icon.svg.png) |
tokay1 | Windows Server 2012 R2 Standard / x64 | ERROR | OK | ERROR | [ ERROR ] | |
veracruz1 | OS X 10.11.6 El Capitan / x86_64 | OK | OK | WARNINGS | OK | ![UNNEEDED, same version exists in internal repository UNNEEDED, same version exists in internal repository](../120px-Blue_Light_Icon.svg.png) |
##############################################################################
##############################################################################
###
### Running command:
###
### cd RProtoBufLib.buildbin-libdir/RProtoBufLib && zip -r ../../RProtoBufLib_0.99.5.zip . & cd ../..
###
##############################################################################
##############################################################################
The system cannot find the path specified.