Gviz 1.21.1 Florian Hahne
Snapshot Date: 2017-08-15 17:18:21 -0400 (Tue, 15 Aug 2017) | URL: https://hedgehog.fhcrc.org/bioconductor/trunk/madman/Rpacks/Gviz | Last Changed Rev: 129287 / Revision: 131943 | Last Changed Date: 2017-04-29 17:03:27 -0400 (Sat, 29 Apr 2017) |
| malbec1 | Linux (Ubuntu 16.04.1 LTS) / x86_64 | OK | OK | WARNINGS | | ![UNNEEDED, same version exists in internal repository UNNEEDED, same version exists in internal repository](../120px-Blue_Light_Icon.svg.png) |
tokay1 | Windows Server 2012 R2 Standard / x64 | OK | OK | WARNINGS | [ OK ] | ![UNNEEDED, same version exists in internal repository UNNEEDED, same version exists in internal repository](../120px-Blue_Light_Icon.svg.png) |
veracruz1 | OS X 10.11.6 El Capitan / x86_64 | OK | OK | WARNINGS | OK | ![UNNEEDED, same version exists in internal repository UNNEEDED, same version exists in internal repository](../120px-Blue_Light_Icon.svg.png) |
##############################################################################
##############################################################################
###
### Running command:
###
### cd Gviz.buildbin-libdir/Gviz && zip -r ../../Gviz_1.21.1.zip . & cd ../..
###
##############################################################################
##############################################################################
adding: CITATION (332 bytes security) (deflated 49%)
adding: data/ (372 bytes security) (stored 0%)
adding: data/alTrackGenes.rda (332 bytes security) (stored 0%)
adding: data/biomTrack.rda (332 bytes security) (deflated 1%)
adding: data/bmTrack.rda (332 bytes security) (stored 0%)
adding: data/collapseTrack.rda (332 bytes security) (stored 0%)
adding: data/cpgIslands.rda (332 bytes security) (stored 0%)
adding: data/cyp2b10.rda (332 bytes security) (stored 0%)
adding: data/denseAnnTrack.rda (332 bytes security) (deflated 3%)
adding: data/dtHoriz.rda (332 bytes security) (stored 0%)
adding: data/geneDetails.rda (332 bytes security) (stored 0%)
adding: data/geneModels.rda (332 bytes security) (stored 0%)
adding: data/idTrack.rda (332 bytes security) (stored 0%)
adding: data/itrack.rda (332 bytes security) (deflated 1%)
adding: data/twoGroups.rda (332 bytes security) (stored 0%)
adding: data/ucscItems.rda (332 bytes security) (deflated 50%)
adding: DESCRIPTION (332 bytes security) (deflated 45%)
adding: doc/ (372 bytes security) (stored 0%)
adding: doc/Gviz.pdf (332 bytes security) (deflated 28%)
adding: doc/Gviz.R (332 bytes security) (deflated 84%)
adding: doc/Gviz.Rnw (332 bytes security) (deflated 70%)
adding: doc/index.html (332 bytes security) (deflated 57%)
adding: extdata/ (372 bytes security) (stored 0%)
adding: extdata/biomartVersionsLatest.txt (332 bytes security) (deflated 72%)
adding: extdata/biomartVersionsNow.txt (332 bytes security) (deflated 64%)
adding: extdata/gapped.bam (332 bytes security) (deflated 0%)
adding: extdata/gapped.bam.bai (332 bytes security) (deflated 88%)
adding: extdata/GSM461176_S2_DRSC_Untreated_1_bmm.bam (332 bytes security) (deflated 0%)
adding: extdata/GSM461176_S2_DRSC_Untreated_1_bmm.bam.bai (332 bytes security) (deflated 98%)
adding: extdata/GSM461179_S2_DRSC_CG8144_RNAi_1_bmm.bam (332 bytes security) (deflated 0%)
adding: extdata/GSM461179_S2_DRSC_CG8144_RNAi_1_bmm.bam.bai (332 bytes security) (deflated 98%)
adding: extdata/snps.bam (332 bytes security) (deflated 0%)
adding: extdata/snps.bam.bai (332 bytes security) (deflated 100%)
adding: extdata/test.2bit (332 bytes security) (deflated 65%)
adding: extdata/test.bam (332 bytes security) (deflated 0%)
adding: extdata/test.bam.bai (332 bytes security) (deflated 100%)
adding: extdata/test.bed (332 bytes security) (deflated 71%)
adding: extdata/test.bedGraph (332 bytes security) (deflated 63%)
adding: extdata/test.bw (332 bytes security) (deflated 98%)
adding: extdata/test.fa (332 bytes security) (deflated 65%)
adding: extdata/test.fa.fai (332 bytes security) (deflated 22%)
adding: extdata/test.gff (332 bytes security) (deflated 83%)
adding: extdata/test.gff1 (332 bytes security) (deflated 83%)
adding: extdata/test.gff2 (332 bytes security) (deflated 90%)
adding: extdata/test.gff3 (332 bytes security) (deflated 90%)
adding: extdata/test.gtf (332 bytes security) (deflated 91%)
adding: extdata/test.wig (332 bytes security) (deflated 13%)
adding: help/ (372 bytes security) (stored 0%)
adding: help/aliases.rds (332 bytes security) (stored 0%)
adding: help/AnIndex (332 bytes security) (deflated 87%)
adding: help/Gviz.rdb (332 bytes security) (deflated 2%)
adding: help/Gviz.rdx (332 bytes security) (stored 0%)
adding: help/paths.rds (332 bytes security) (stored 0%)
adding: html/ (372 bytes security) (stored 0%)
adding: html/00Index.html (332 bytes security) (deflated 92%)
adding: html/R.css (332 bytes security) (deflated 75%)
adding: INDEX (332 bytes security) (deflated 70%)
adding: lib/ (372 bytes security) (stored 0%)
adding: lib/testUCSC.pl (332 bytes security) (deflated 47%)
adding: lib/ucscUrl.pl (332 bytes security) (deflated 48%)
adding: MD5 (332 bytes security) (deflated 47%)
adding: Meta/ (372 bytes security) (stored 0%)
adding: Meta/data.rds (332 bytes security) (stored 0%)
adding: Meta/features.rds (332 bytes security) (stored 0%)
adding: Meta/hsearch.rds (332 bytes security) (stored 0%)
adding: Meta/links.rds (332 bytes security) (stored 0%)
adding: Meta/nsInfo.rds (332 bytes security) (stored 0%)
adding: Meta/package.rds (332 bytes security) (stored 0%)
adding: Meta/Rd.rds (332 bytes security) (stored 0%)
adding: Meta/vignette.rds (332 bytes security) (stored 0%)
adding: NAMESPACE (332 bytes security) (deflated 71%)
adding: NEWS (332 bytes security) (deflated 64%)
adding: R/ (372 bytes security) (stored 0%)
adding: R/Gviz (332 bytes security) (deflated 41%)
adding: R/Gviz.rdb (332 bytes security) (deflated 23%)
adding: R/Gviz.rdx (332 bytes security) (deflated 3%)
adding: scripts/ (372 bytes security) (stored 0%)
adding: scripts/documentation.R (332 bytes security) (deflated 80%)
adding: scripts/functionality.R (332 bytes security) (deflated 77%)
adding: scripts/loadIntoEnv.R (332 bytes security) (deflated 69%)
adding: scripts/sourcePackage.R (332 bytes security) (deflated 55%)
adding: scripts/testBiomartGenomeMappings.R (332 bytes security) (deflated 67%)
adding: scripts/testing.R (332 bytes security) (deflated 59%)
adding: scripts/updateBiomartGenomeMappings.R (332 bytes security) (deflated 71%)