GenomicScores 1.1.19 Robert Castelo
Snapshot Date: 2017-08-15 17:18:21 -0400 (Tue, 15 Aug 2017) | URL: https://hedgehog.fhcrc.org/bioconductor/trunk/madman/Rpacks/GenomicScores | Last Changed Rev: 131459 / Revision: 131943 | Last Changed Date: 2017-07-21 04:30:38 -0400 (Fri, 21 Jul 2017) |
| malbec1 | Linux (Ubuntu 16.04.1 LTS) / x86_64 | OK | OK | OK | | ![UNNEEDED, same version exists in internal repository UNNEEDED, same version exists in internal repository](../120px-Blue_Light_Icon.svg.png) |
tokay1 | Windows Server 2012 R2 Standard / x64 | OK | OK | OK | [ OK ] | ![UNNEEDED, same version exists in internal repository UNNEEDED, same version exists in internal repository](../120px-Blue_Light_Icon.svg.png) |
veracruz1 | OS X 10.11.6 El Capitan / x86_64 | OK | OK | OK | OK | ![UNNEEDED, same version exists in internal repository UNNEEDED, same version exists in internal repository](../120px-Blue_Light_Icon.svg.png) |
##############################################################################
##############################################################################
###
### Running command:
###
### cd GenomicScores.buildbin-libdir/GenomicScores && zip -r ../../GenomicScores_1.1.19.zip . & cd ../..
###
##############################################################################
##############################################################################
adding: DESCRIPTION (332 bytes security) (deflated 47%)
adding: doc/ (372 bytes security) (stored 0%)
adding: doc/GenomicScores.html (332 bytes security) (deflated 66%)
adding: doc/GenomicScores.R (332 bytes security) (deflated 77%)
adding: doc/GenomicScores.Rmd (332 bytes security) (deflated 67%)
adding: doc/index.html (332 bytes security) (deflated 60%)
adding: extdata/ (372 bytes security) (stored 0%)
adding: extdata/avgs.rds (332 bytes security) (stored 0%)
adding: extdata/metadata_CADD.v1.3.hg19.csv (332 bytes security) (deflated 93%)
adding: extdata/metadata_fitCons.UCSC.hg19.csv (332 bytes security) (deflated 93%)
adding: extdata/metadata_MCAP.v1.0.hg19.csv (332 bytes security) (deflated 93%)
adding: extdata/metadata_phastCons100way.UCSC.hg19.csv (332 bytes security) (deflated 96%)
adding: extdata/metadata_phastCons100way.UCSC.hg38.csv (332 bytes security) (deflated 97%)
adding: extdata/metadata_phastCons60way.UCSC.mm10.csv (332 bytes security) (deflated 96%)
adding: extdata/metadata_phastCons7way.UCSC.hg38.csv (332 bytes security) (deflated 97%)
adding: extdata/metadata_phyloP100way.UCSC.hg19.csv (332 bytes security) (deflated 96%)
adding: extdata/metadata_phyloP100way.UCSC.hg38.csv (332 bytes security) (deflated 97%)
adding: extdata/origphastCons100wayhg193UTR.rds (332 bytes security) (stored 0%)
adding: extdata/origphastCons100wayhg19CDS.rds (332 bytes security) (stored 0%)
adding: gscores-template/ (372 bytes security) (stored 0%)
adding: gscores-template/DESCRIPTION (332 bytes security) (deflated 35%)
adding: gscores-template/inst/ (372 bytes security) (stored 0%)
adding: gscores-template/inst/extdata/ (372 bytes security) (stored 0%)
adding: gscores-template/inst/extdata/.gitkeep (332 bytes security) (stored 0%)
adding: gscores-template/man/ (372 bytes security) (stored 0%)
adding: gscores-template/man/package.Rd (332 bytes security) (deflated 48%)
adding: gscores-template/NAMESPACE (332 bytes security) (deflated 34%)
adding: gscores-template/R/ (372 bytes security) (stored 0%)
adding: gscores-template/R/zzz.R (332 bytes security) (deflated 60%)
adding: help/ (372 bytes security) (stored 0%)
adding: help/aliases.rds (332 bytes security) (stored 0%)
adding: help/AnIndex (332 bytes security) (deflated 77%)
adding: help/GenomicScores.rdb (332 bytes security) (deflated 0%)
adding: help/GenomicScores.rdx (332 bytes security) (stored 0%)
adding: help/paths.rds (332 bytes security) (stored 0%)
adding: html/ (372 bytes security) (stored 0%)
adding: html/00Index.html (332 bytes security) (deflated 81%)
adding: html/R.css (332 bytes security) (deflated 75%)
adding: INDEX (332 bytes security) (deflated 38%)
adding: MD5 (332 bytes security) (deflated 56%)
adding: Meta/ (372 bytes security) (stored 0%)
adding: Meta/features.rds (332 bytes security) (stored 0%)
adding: Meta/hsearch.rds (332 bytes security) (stored 0%)
adding: Meta/links.rds (332 bytes security) (stored 0%)
adding: Meta/nsInfo.rds (332 bytes security) (stored 0%)
adding: Meta/package.rds (332 bytes security) (stored 0%)
adding: Meta/Rd.rds (332 bytes security) (stored 0%)
adding: Meta/vignette.rds (332 bytes security) (stored 0%)
adding: NAMESPACE (332 bytes security) (deflated 77%)
adding: NEWS (332 bytes security) (deflated 23%)
adding: R/ (372 bytes security) (stored 0%)
adding: R/GenomicScores (332 bytes security) (deflated 41%)
adding: R/GenomicScores.rdb (332 bytes security) (deflated 33%)
adding: R/GenomicScores.rdx (332 bytes security) (stored 0%)
adding: scripts/ (372 bytes security) (stored 0%)
adding: scripts/make-data_CADD.v1.3.hg19.R (332 bytes security) (deflated 65%)
adding: scripts/make-data_fitCons.UCSC.hg19.R (332 bytes security) (deflated 61%)
adding: scripts/make-data_MCAP.v1.0.hg19.R (332 bytes security) (deflated 65%)
adding: scripts/make-data_phastCons100way.UCSC.hg19.R (332 bytes security) (deflated 62%)
adding: scripts/make-data_phastCons100way.UCSC.hg38.R (332 bytes security) (deflated 62%)
adding: scripts/make-data_phastCons60way.UCSC.mm10.R (332 bytes security) (deflated 64%)
adding: scripts/make-data_phastCons7way.UCSC.hg38.R (332 bytes security) (deflated 61%)
adding: scripts/make-data_phyloP100way.UCSC.hg19.R (332 bytes security) (deflated 63%)
adding: scripts/make-data_phyloP100way.UCSC.hg38.R (332 bytes security) (deflated 63%)
adding: scripts/make-metadata_CADD.v1.3.hg19.R (332 bytes security) (deflated 60%)
adding: scripts/make-metadata_fitCons.UCSC.hg19.R (332 bytes security) (deflated 61%)
adding: scripts/make-metadata_MCAP.v1.0.hg19.R (332 bytes security) (deflated 60%)
adding: scripts/make-metadata_phastCons100way.UCSC.hg19.R (332 bytes security) (deflated 61%)
adding: scripts/make-metadata_phastCons100way.UCSC.hg38.R (332 bytes security) (deflated 61%)
adding: scripts/make-metadata_phastCons60way.UCSC.mm10.R (332 bytes security) (deflated 61%)
adding: scripts/make-metadata_phastCons7way.UCSC.hg38.R (332 bytes security) (deflated 61%)
adding: scripts/make-metadata_phyloP100way.UCSC.hg19.R (332 bytes security) (deflated 61%)
adding: scripts/make-metadata_phyloP100way.UCSC.hg38.R (332 bytes security) (deflated 61%)