| GenomicInteractions 1.11.1 Malcolm Perry
 
 | Snapshot Date: 2017-08-15 17:18:21 -0400 (Tue, 15 Aug 2017) |  | URL: https://hedgehog.fhcrc.org/bioconductor/trunk/madman/Rpacks/GenomicInteractions |  | Last Changed Rev: 130492 / Revision: 131943 |  | Last Changed Date: 2017-06-18 11:02:42 -0400 (Sun, 18 Jun 2017) | 
 | malbec1 | Linux (Ubuntu 16.04.1 LTS) / x86_64 | OK | OK | OK |  |  | 
| tokay1 | Windows Server 2012 R2 Standard / x64 | OK | OK | WARNINGS | [ OK ] |  | 
| veracruz1 | OS X 10.11.6 El Capitan / x86_64 | OK | OK | OK | OK |  | 
##############################################################################
##############################################################################
###
### Running command:
###
###   cd GenomicInteractions.buildbin-libdir/GenomicInteractions && zip -r ../../GenomicInteractions_1.11.1.zip . & cd ../..
###
##############################################################################
##############################################################################
  adding: data/ (372 bytes security) (stored 0%)
  adding: data/hg19.refseq.transcripts.rda (332 bytes security) (stored 0%)
  adding: data/hic_example_data.rda (332 bytes security) (deflated 0%)
  adding: data/mm9_refseq_promoters.rda (332 bytes security) (deflated 1%)
  adding: data/thymus_enhancers.rda (332 bytes security) (deflated 1%)
  adding: DESCRIPTION (332 bytes security) (deflated 41%)
  adding: doc/ (372 bytes security) (stored 0%)
  adding: doc/chiapet_vignette.html (332 bytes security) (deflated 64%)
  adding: doc/chiapet_vignette.R (332 bytes security) (deflated 74%)
  adding: doc/chiapet_vignette.rmd (332 bytes security) (deflated 64%)
  adding: doc/hic_vignette.html (332 bytes security) (deflated 64%)
  adding: doc/hic_vignette.R (332 bytes security) (deflated 75%)
  adding: doc/hic_vignette.Rmd (332 bytes security) (deflated 64%)
  adding: doc/index.html (332 bytes security) (deflated 70%)
  adding: extdata/ (372 bytes security) (stored 0%)
  adding: extdata/k562.rep1.cluster.pet3+.txt (332 bytes security) (deflated 62%)
  adding: extdata/Seitan2013_WT_100kb_interactions.txt (332 bytes security) (deflated 74%)
  adding: help/ (372 bytes security) (stored 0%)
  adding: help/aliases.rds (332 bytes security) (stored 0%)
  adding: help/AnIndex (332 bytes security) (deflated 81%)
  adding: help/GenomicInteractions.rdb (332 bytes security) (deflated 2%)
  adding: help/GenomicInteractions.rdx (332 bytes security) (stored 0%)
  adding: help/paths.rds (332 bytes security) (stored 0%)
  adding: html/ (372 bytes security) (stored 0%)
  adding: html/00Index.html (332 bytes security) (deflated 85%)
  adding: html/R.css (332 bytes security) (deflated 75%)
  adding: INDEX (332 bytes security) (deflated 71%)
  adding: MD5 (332 bytes security) (deflated 45%)
  adding: Meta/ (372 bytes security) (stored 0%)
  adding: Meta/data.rds (332 bytes security) (stored 0%)
  adding: Meta/features.rds (332 bytes security) (stored 0%)
  adding: Meta/hsearch.rds (332 bytes security) (stored 0%)
  adding: Meta/links.rds (332 bytes security) (stored 0%)
  adding: Meta/nsInfo.rds (332 bytes security) (stored 0%)
  adding: Meta/package.rds (332 bytes security) (stored 0%)
  adding: Meta/Rd.rds (332 bytes security) (stored 0%)
  adding: Meta/vignette.rds (332 bytes security) (stored 0%)
  adding: NAMESPACE (332 bytes security) (deflated 73%)
  adding: NEWS (332 bytes security) (deflated 51%)
  adding: R/ (372 bytes security) (stored 0%)
  adding: R/GenomicInteractions (332 bytes security) (deflated 41%)
  adding: R/GenomicInteractions.rdb (332 bytes security) (deflated 31%)
  adding: R/GenomicInteractions.rdx (332 bytes security) (deflated 1%)