| ENCODExplorer 2.3.0 Charles Joly Beauparlant
 
 | Snapshot Date: 2017-08-15 17:18:21 -0400 (Tue, 15 Aug 2017) |  | URL: https://hedgehog.fhcrc.org/bioconductor/trunk/madman/Rpacks/ENCODExplorer |  | Last Changed Rev: 129129 / Revision: 131943 |  | Last Changed Date: 2017-04-24 15:50:57 -0400 (Mon, 24 Apr 2017) | 
 | malbec1 | Linux (Ubuntu 16.04.1 LTS) / x86_64 | OK | OK | OK |  |  | 
| tokay1 | Windows Server 2012 R2 Standard / x64 | OK | OK | OK | [ OK ] |  | 
| veracruz1 | OS X 10.11.6 El Capitan / x86_64 | OK | OK | OK | OK |  | 
##############################################################################
##############################################################################
###
### Running command:
###
###   cd ENCODExplorer.buildbin-libdir/ENCODExplorer && zip -r ../../ENCODExplorer_2.3.0.zip . & cd ../..
###
##############################################################################
##############################################################################
  adding: data/ (372 bytes security) (stored 0%)
  adding: data/datalist (332 bytes security) (stored 0%)
  adding: data/Rdata.rdb (332 bytes security) (deflated 1%)
  adding: data/Rdata.rds (332 bytes security) (stored 0%)
  adding: data/Rdata.rdx (332 bytes security) (stored 0%)
  adding: DESCRIPTION (332 bytes security) (deflated 55%)
  adding: doc/ (372 bytes security) (stored 0%)
  adding: doc/DataUpdate.html (332 bytes security) (deflated 60%)
  adding: doc/DataUpdate.R (332 bytes security) (deflated 66%)
  adding: doc/DataUpdate.Rmd (332 bytes security) (deflated 54%)
  adding: doc/DBmodel.html (332 bytes security) (deflated 26%)
  adding: doc/DBmodel.R (332 bytes security) (deflated 50%)
  adding: doc/DBmodel.Rmd (332 bytes security) (deflated 64%)
  adding: doc/ENCODExplorer.html (332 bytes security) (deflated 29%)
  adding: doc/ENCODExplorer.R (332 bytes security) (deflated 79%)
  adding: doc/ENCODExplorer.Rmd (332 bytes security) (deflated 64%)
  adding: doc/index.html (332 bytes security) (deflated 73%)
  adding: extdata/ (372 bytes security) (stored 0%)
  adding: extdata/a549_ref.rda (332 bytes security) (stored 0%)
  adding: extdata/ABC_df_lab.rda (332 bytes security) (stored 0%)
  adding: extdata/ABC_list_char.rda (332 bytes security) (stored 0%)
  adding: extdata/ABC_subset.rda (332 bytes security) (stored 0%)
  adding: extdata/BRCA.rda (332 bytes security) (stored 0%)
  adding: extdata/dataFrame_integer.rda (332 bytes security) (stored 0%)
  adding: extdata/tables.RDA (332 bytes security) (deflated 1%)
  adding: extdata/test_encode_ds.rda (332 bytes security) (stored 0%)
  adding: extdata/test_encode_exp.rda (332 bytes security) (stored 0%)
  adding: extdata/test_mouse_donor_df.rda (332 bytes security) (stored 0%)
  adding: extdata/test_rest_query_file.rda (332 bytes security) (stored 0%)
  adding: extdata/test_rest_search_dataset.rda (332 bytes security) (stored 0%)
  adding: extdata/test_rest_search_experiment.rda (332 bytes security) (stored 0%)
  adding: extdata/test_rest_search_file.rda (332 bytes security) (stored 0%)
  adding: extdata/test_small_encode_df.rda (332 bytes security) (stored 0%)
  adding: extdata/unitTest_df.rda (332 bytes security) (stored 0%)
  adding: help/ (372 bytes security) (stored 0%)
  adding: help/aliases.rds (332 bytes security) (stored 0%)
  adding: help/AnIndex (332 bytes security) (deflated 60%)
  adding: help/ENCODExplorer.rdb (332 bytes security) (deflated 1%)
  adding: help/ENCODExplorer.rdx (332 bytes security) (stored 0%)
  adding: help/paths.rds (332 bytes security) (stored 0%)
  adding: html/ (372 bytes security) (stored 0%)
  adding: html/00Index.html (332 bytes security) (deflated 67%)
  adding: html/R.css (332 bytes security) (deflated 75%)
  adding: INDEX (332 bytes security) (deflated 65%)
  adding: MD5 (332 bytes security) (deflated 49%)
  adding: Meta/ (372 bytes security) (stored 0%)
  adding: Meta/data.rds (332 bytes security) (stored 0%)
  adding: Meta/features.rds (332 bytes security) (stored 0%)
  adding: Meta/hsearch.rds (332 bytes security) (stored 0%)
  adding: Meta/links.rds (332 bytes security) (stored 0%)
  adding: Meta/nsInfo.rds (332 bytes security) (stored 0%)
  adding: Meta/package.rds (332 bytes security) (stored 0%)
  adding: Meta/Rd.rds (332 bytes security) (stored 0%)
  adding: Meta/vignette.rds (332 bytes security) (stored 0%)
  adding: NAMESPACE (332 bytes security) (deflated 52%)
  adding: NEWS (332 bytes security) (deflated 60%)
  adding: R/ (372 bytes security) (stored 0%)
  adding: R/ENCODExplorer (332 bytes security) (deflated 41%)
  adding: R/ENCODExplorer.rdb (332 bytes security) (deflated 1%)
  adding: R/ENCODExplorer.rdx (332 bytes security) (stored 0%)
  adding: shiny/ (372 bytes security) (stored 0%)
  adding: shiny/server.R (332 bytes security) (deflated 83%)
  adding: shiny/ui.R (332 bytes security) (deflated 81%)
  adding: unitTests/ (372 bytes security) (stored 0%)
  adding: unitTests/local_test_clean_table.R (332 bytes security) (deflated 56%)
  adding: unitTests/local_test_extract_table.R (332 bytes security) (deflated 44%)
  adding: unitTests/local_test_getDatasetDetails.R (332 bytes security) (deflated 57%)
  adding: unitTests/local_test_getExperimentDetails.R (332 bytes security) (deflated 57%)
  adding: unitTests/local_test_getFileDetails.R (332 bytes security) (deflated 39%)
  adding: unitTests/local_test_getFileId.R (332 bytes security) (deflated 71%)
  adding: unitTests/local_test_query_transform.R (332 bytes security) (deflated 69%)
  adding: unitTests/Makefile (332 bytes security) (deflated 26%)
  adding: unitTests/test_clean_column.R (332 bytes security) (deflated 79%)
  adding: unitTests/test_createDesign.R (332 bytes security) (deflated 86%)
  adding: unitTests/test_download.R (332 bytes security) (deflated 73%)
  adding: unitTests/test_fuzzySearch.R (332 bytes security) (deflated 67%)
  adding: unitTests/test_query.R (332 bytes security) (deflated 66%)
  adding: unitTests/test_search.R (332 bytes security) (deflated 45%)