EBImage 4.19.8 Andrzej OleÅ›
Snapshot Date: 2017-08-15 17:18:21 -0400 (Tue, 15 Aug 2017) | URL: https://hedgehog.fhcrc.org/bioconductor/trunk/madman/Rpacks/EBImage | Last Changed Rev: 131904 / Revision: 131943 | Last Changed Date: 2017-08-11 16:39:32 -0400 (Fri, 11 Aug 2017) |
| malbec1 | Linux (Ubuntu 16.04.1 LTS) / x86_64 | OK | OK | OK | | ![UNNEEDED, same version exists in internal repository UNNEEDED, same version exists in internal repository](../120px-Blue_Light_Icon.svg.png) |
tokay1 | Windows Server 2012 R2 Standard / x64 | OK | OK | OK | [ OK ] | ![UNNEEDED, same version exists in internal repository UNNEEDED, same version exists in internal repository](../120px-Blue_Light_Icon.svg.png) |
veracruz1 | OS X 10.11.6 El Capitan / x86_64 | OK | OK | OK | OK | ![UNNEEDED, same version exists in internal repository UNNEEDED, same version exists in internal repository](../120px-Blue_Light_Icon.svg.png) |
##############################################################################
##############################################################################
###
### Running command:
###
### cd EBImage.buildbin-libdir/EBImage && zip -r ../../EBImage_4.19.8.zip . & cd ../..
###
##############################################################################
##############################################################################
adding: CITATION (332 bytes security) (deflated 54%)
adding: DESCRIPTION (332 bytes security) (deflated 40%)
adding: doc/ (372 bytes security) (stored 0%)
adding: doc/EBImage-introduction.html (332 bytes security) (deflated 35%)
adding: doc/EBImage-introduction.R (332 bytes security) (deflated 78%)
adding: doc/EBImage-introduction.Rmd (332 bytes security) (deflated 66%)
adding: doc/index.html (332 bytes security) (deflated 60%)
adding: help/ (372 bytes security) (stored 0%)
adding: help/aliases.rds (332 bytes security) (stored 0%)
adding: help/AnIndex (332 bytes security) (deflated 72%)
adding: help/EBImage.rdb (332 bytes security) (deflated 1%)
adding: help/EBImage.rdx (332 bytes security) (stored 0%)
adding: help/paths.rds (332 bytes security) (stored 0%)
adding: html/ (372 bytes security) (stored 0%)
adding: html/00Index.html (332 bytes security) (deflated 85%)
adding: html/R.css (332 bytes security) (deflated 75%)
adding: htmlwidgets/ (372 bytes security) (stored 0%)
adding: htmlwidgets/displayWidget.js (332 bytes security) (deflated 44%)
adding: htmlwidgets/displayWidget.yaml (332 bytes security) (deflated 27%)
adding: htmlwidgets/lib/ (372 bytes security) (stored 0%)
adding: htmlwidgets/lib/viewer/ (372 bytes security) (stored 0%)
adding: htmlwidgets/lib/viewer/display.css (332 bytes security) (deflated 65%)
adding: htmlwidgets/lib/viewer/viewer.js (332 bytes security) (deflated 72%)
adding: images/ (372 bytes security) (stored 0%)
adding: images/cells.tif (332 bytes security) (deflated 1%)
adding: images/nuclei.tif (332 bytes security) (deflated 1%)
adding: images/sample-color.png (332 bytes security) (deflated 0%)
adding: images/sample.png (332 bytes security) (deflated 0%)
adding: images/shapes.png (332 bytes security) (stored 0%)
adding: INDEX (332 bytes security) (deflated 62%)
adding: libs/ (372 bytes security) (stored 0%)
adding: libs/i386/ (372 bytes security) (stored 0%)
adding: libs/i386/EBImage.dll (332 bytes security) (deflated 64%)
adding: libs/x64/ (372 bytes security) (stored 0%)
adding: libs/x64/EBImage.dll (332 bytes security) (deflated 66%)
adding: MD5 (332 bytes security) (deflated 46%)
adding: Meta/ (372 bytes security) (stored 0%)
adding: Meta/features.rds (332 bytes security) (stored 0%)
adding: Meta/hsearch.rds (332 bytes security) (stored 0%)
adding: Meta/links.rds (332 bytes security) (stored 0%)
adding: Meta/nsInfo.rds (332 bytes security) (stored 0%)
adding: Meta/package.rds (332 bytes security) (stored 0%)
adding: Meta/Rd.rds (332 bytes security) (stored 0%)
adding: Meta/vignette.rds (332 bytes security) (stored 0%)
adding: NAMESPACE (332 bytes security) (deflated 59%)
adding: NEWS.Rd (332 bytes security) (deflated 69%)
adding: R/ (372 bytes security) (stored 0%)
adding: R/EBImage (332 bytes security) (deflated 41%)
adding: R/EBImage.rdb (332 bytes security) (deflated 21%)
adding: R/EBImage.rdx (332 bytes security) (stored 0%)
adding: scripts/ (372 bytes security) (stored 0%)
adding: scripts/figDistanceMapDemo.R (332 bytes security) (deflated 42%)
adding: scripts/readWriteTest.R (332 bytes security) (deflated 57%)
adding: scripts/readWriteTest.Rout.save (332 bytes security) (deflated 75%)
adding: viewer/ (372 bytes security) (stored 0%)
adding: viewer/display.css (332 bytes security) (deflated 65%)
adding: viewer/display.template (332 bytes security) (deflated 29%)
adding: viewer/viewer.js (332 bytes security) (deflated 72%)