| DEXSeq 1.23.1 Alejandro Reyes
 
 | Snapshot Date: 2017-08-15 17:18:21 -0400 (Tue, 15 Aug 2017) |  | URL: https://hedgehog.fhcrc.org/bioconductor/trunk/madman/Rpacks/DEXSeq |  | Last Changed Rev: 130713 / Revision: 131943 |  | Last Changed Date: 2017-06-27 13:05:27 -0400 (Tue, 27 Jun 2017) | 
 | malbec1 | Linux (Ubuntu 16.04.1 LTS) / x86_64 | OK | OK | OK |  |  | 
| tokay1 | Windows Server 2012 R2 Standard / x64 | [ OK ] | OK | OK | OK |  | 
| veracruz1 | OS X 10.11.6 El Capitan / x86_64 | OK | OK | OK | OK |  | 
##############################################################################
##############################################################################
###
### Running command:
###
###   rm -rf DEXSeq.buildbin-libdir && mkdir DEXSeq.buildbin-libdir  && C:\cygwin\bin\curl.exe -O https://malbec1.bioconductor.org/BBS/3.6/bioc/src/contrib/DEXSeq_1.23.1.tar.gz && C:\Users\biocbuild\bbs-3.6-bioc\R\bin\R.exe CMD INSTALL --build --library=DEXSeq.buildbin-libdir --merge-multiarch DEXSeq_1.23.1.tar.gz && C:\Users\biocbuild\bbs-3.6-bioc\R\bin\R.exe CMD INSTALL DEXSeq_1.23.1.zip  && rm DEXSeq_1.23.1.tar.gz DEXSeq_1.23.1.zip
###
##############################################################################
##############################################################################
  % Total    % Received % Xferd  Average Speed   Time    Time     Time  Current
                                 Dload  Upload   Total   Spent    Left  Speed
  0     0    0     0    0     0      0      0 --:--:-- --:--:-- --:--:--     0
  0 55838    0     0    0     0      0      0 --:--:--  0:00:01 --:--:--     0
100 55838  100 55838    0     0  49388      0  0:00:01  0:00:01 --:--:-- 49545
install for i386
* installing *source* package 'DEXSeq' ...
** R
** inst
** preparing package for lazy loading
** help
*** installing help indices
** building package indices
** installing vignettes
** testing if installed package can be loaded
install for x64
* installing *source* package 'DEXSeq' ...
** testing if installed package can be loaded
* MD5 sums
packaged installation of 'DEXSeq' as DEXSeq_1.23.1.zip
* DONE (DEXSeq)
* installing to library 'C:/Users/biocbuild/bbs-3.6-bioc/R/library'
package 'DEXSeq' successfully unpacked and MD5 sums checked