ChemmineR 2.29.3 Thomas Girke
Snapshot Date: 2017-08-15 17:18:21 -0400 (Tue, 15 Aug 2017) | URL: https://hedgehog.fhcrc.org/bioconductor/trunk/madman/Rpacks/ChemmineR | Last Changed Rev: 130816 / Revision: 131943 | Last Changed Date: 2017-06-30 16:12:52 -0400 (Fri, 30 Jun 2017) |
| malbec1 | Linux (Ubuntu 16.04.1 LTS) / x86_64 | OK | OK | OK | | ![UNNEEDED, same version exists in internal repository UNNEEDED, same version exists in internal repository](../120px-Blue_Light_Icon.svg.png) |
tokay1 | Windows Server 2012 R2 Standard / x64 | OK | OK | OK | [ OK ] | ![UNNEEDED, same version exists in internal repository UNNEEDED, same version exists in internal repository](../120px-Blue_Light_Icon.svg.png) |
veracruz1 | OS X 10.11.6 El Capitan / x86_64 | OK | OK | OK | OK | ![UNNEEDED, same version exists in internal repository UNNEEDED, same version exists in internal repository](../120px-Blue_Light_Icon.svg.png) |
##############################################################################
##############################################################################
###
### Running command:
###
### cd ChemmineR.buildbin-libdir/ChemmineR && zip -r ../../ChemmineR_2.29.3.zip . & cd ../..
###
##############################################################################
##############################################################################
adding: CITATION (332 bytes security) (deflated 9%)
adding: data/ (372 bytes security) (stored 0%)
adding: data/apfp.rda (332 bytes security) (deflated 1%)
adding: data/apset.rda (332 bytes security) (deflated 2%)
adding: data/atomprop.rda (332 bytes security) (stored 0%)
adding: data/atomprop.txt (332 bytes security) (deflated 45%)
adding: data/pubchemFPencoding.rda (332 bytes security) (deflated 17%)
adding: data/sdfsample.rda (332 bytes security) (deflated 3%)
adding: data/smisample.rda (332 bytes security) (stored 0%)
adding: DESCRIPTION (332 bytes security) (deflated 43%)
adding: doc/ (372 bytes security) (stored 0%)
adding: doc/ChemmineR.html (332 bytes security) (deflated 53%)
adding: doc/ChemmineR.R (332 bytes security) (deflated 82%)
adding: doc/ChemmineR.Rmd (332 bytes security) (deflated 70%)
adding: doc/index.html (332 bytes security) (deflated 59%)
adding: help/ (372 bytes security) (stored 0%)
adding: help/aliases.rds (332 bytes security) (stored 0%)
adding: help/AnIndex (332 bytes security) (deflated 78%)
adding: help/ChemmineR.rdb (332 bytes security) (deflated 2%)
adding: help/ChemmineR.rdx (332 bytes security) (deflated 0%)
adding: help/paths.rds (332 bytes security) (stored 0%)
adding: html/ (372 bytes security) (stored 0%)
adding: html/00Index.html (332 bytes security) (deflated 86%)
adding: html/R.css (332 bytes security) (deflated 75%)
adding: INDEX (332 bytes security) (deflated 68%)
adding: libs/ (372 bytes security) (stored 0%)
adding: libs/i386/ (372 bytes security) (stored 0%)
adding: libs/i386/ChemmineR.dll (332 bytes security) (deflated 65%)
adding: libs/x64/ (372 bytes security) (stored 0%)
adding: libs/x64/ChemmineR.dll (332 bytes security) (deflated 67%)
adding: MD5 (332 bytes security) (deflated 45%)
adding: Meta/ (372 bytes security) (stored 0%)
adding: Meta/data.rds (332 bytes security) (stored 0%)
adding: Meta/features.rds (332 bytes security) (stored 0%)
adding: Meta/hsearch.rds (332 bytes security) (deflated 2%)
adding: Meta/links.rds (332 bytes security) (stored 0%)
adding: Meta/nsInfo.rds (332 bytes security) (stored 0%)
adding: Meta/package.rds (332 bytes security) (stored 0%)
adding: Meta/Rd.rds (332 bytes security) (stored 0%)
adding: Meta/vignette.rds (332 bytes security) (stored 0%)
adding: NAMESPACE (332 bytes security) (deflated 58%)
adding: NEWS.Rd (332 bytes security) (deflated 63%)
adding: R/ (372 bytes security) (stored 0%)
adding: R/ChemmineR (332 bytes security) (deflated 41%)
adding: R/ChemmineR.rdb (332 bytes security) (deflated 21%)
adding: R/ChemmineR.rdx (332 bytes security) (deflated 0%)
adding: schema/ (372 bytes security) (stored 0%)
adding: schema/compounds.RPostgreSQL (332 bytes security) (deflated 64%)
adding: schema/compounds.SQLite (332 bytes security) (deflated 66%)
adding: unitTests/ (372 bytes security) (stored 0%)
adding: unitTests/sample.mol (332 bytes security) (deflated 78%)
adding: unitTests/sample.sdf (332 bytes security) (deflated 78%)
adding: unitTests/singleMolecule.sdf (332 bytes security) (deflated 80%)
adding: unitTests/test_classes.R (332 bytes security) (deflated 68%)
adding: unitTests/test_clustering.R (332 bytes security) (deflated 53%)
adding: unitTests/test_db.R (332 bytes security) (deflated 72%)
adding: unitTests/test_general.R (332 bytes security) (deflated 63%)