ChIPpeakAnno 3.11.4 Lihua Julie Zhu
Snapshot Date: 2017-08-15 17:18:21 -0400 (Tue, 15 Aug 2017) | URL: https://hedgehog.fhcrc.org/bioconductor/trunk/madman/Rpacks/ChIPpeakAnno | Last Changed Rev: 129558 / Revision: 131943 | Last Changed Date: 2017-05-12 12:27:11 -0400 (Fri, 12 May 2017) |
| malbec1 | Linux (Ubuntu 16.04.1 LTS) / x86_64 | OK | OK | OK | | ![UNNEEDED, same version exists in internal repository UNNEEDED, same version exists in internal repository](../120px-Blue_Light_Icon.svg.png) |
tokay1 | Windows Server 2012 R2 Standard / x64 | OK | OK | OK | [ OK ] | ![UNNEEDED, same version exists in internal repository UNNEEDED, same version exists in internal repository](../120px-Blue_Light_Icon.svg.png) |
veracruz1 | OS X 10.11.6 El Capitan / x86_64 | OK | OK | OK | OK | ![UNNEEDED, same version exists in internal repository UNNEEDED, same version exists in internal repository](../120px-Blue_Light_Icon.svg.png) |
##############################################################################
##############################################################################
###
### Running command:
###
### cd ChIPpeakAnno.buildbin-libdir/ChIPpeakAnno && zip -r ../../ChIPpeakAnno_3.11.4.zip . & cd ../..
###
##############################################################################
##############################################################################
adding: CITATION (332 bytes security) (deflated 58%)
adding: data/ (372 bytes security) (stored 0%)
adding: data/annotatedPeak.rda (332 bytes security) (deflated 0%)
adding: data/datalist (332 bytes security) (deflated 45%)
adding: data/enrichedGO.rda (332 bytes security) (stored 0%)
adding: data/ExonPlusUtr.human.GRCh37.rda (332 bytes security) (deflated 0%)
adding: data/HOT.spots.rda (332 bytes security) (deflated 0%)
adding: data/myPeakList.rda (332 bytes security) (deflated 0%)
adding: data/Peaks.Ste12.Replicate1.rda (332 bytes security) (stored 0%)
adding: data/Peaks.Ste12.Replicate2.rda (332 bytes security) (stored 0%)
adding: data/Peaks.Ste12.Replicate3.rda (332 bytes security) (stored 0%)
adding: data/TSS.human.GRCh37.rda (332 bytes security) (deflated 0%)
adding: data/TSS.human.GRCh38.rda (332 bytes security) (deflated 0%)
adding: data/TSS.human.NCBI36.rda (332 bytes security) (deflated 0%)
adding: data/TSS.mouse.GRCm38.rda (332 bytes security) (deflated 0%)
adding: data/TSS.mouse.NCBIM37.rda (332 bytes security) (deflated 0%)
adding: data/TSS.rat.RGSC3.4.rda (332 bytes security) (deflated 0%)
adding: data/TSS.rat.Rnor_5.0.rda (332 bytes security) (deflated 0%)
adding: data/TSS.zebrafish.Zv8.rda (332 bytes security) (deflated 0%)
adding: data/TSS.zebrafish.Zv9.rda (332 bytes security) (deflated 0%)
adding: data/wgEncodeTfbsV3.rda (332 bytes security) (deflated 0%)
adding: DESCRIPTION (332 bytes security) (deflated 47%)
adding: doc/ (372 bytes security) (stored 0%)
adding: doc/ChIPpeakAnno.html (332 bytes security) (deflated 52%)
adding: doc/ChIPpeakAnno.R (332 bytes security) (deflated 77%)
adding: doc/ChIPpeakAnno.Rmd (332 bytes security) (deflated 71%)
adding: doc/FAQs.html (332 bytes security) (deflated 61%)
adding: doc/FAQs.R (332 bytes security) (deflated 66%)
adding: doc/FAQs.Rmd (332 bytes security) (deflated 59%)
adding: doc/index.html (332 bytes security) (deflated 77%)
adding: doc/pipeline.html (332 bytes security) (deflated 44%)
adding: doc/pipeline.R (332 bytes security) (deflated 67%)
adding: doc/pipeline.Rmd (332 bytes security) (deflated 64%)
adding: doc/quickStart.html (332 bytes security) (deflated 59%)
adding: doc/quickStart.R (332 bytes security) (deflated 67%)
adding: doc/quickStart.Rmd (332 bytes security) (deflated 61%)
adding: extdata/ (372 bytes security) (stored 0%)
adding: extdata/annotatedPeaks.2.10.0.rds (332 bytes security) (deflated 1%)
adding: extdata/cvglist.rds (332 bytes security) (deflated 1%)
adding: extdata/examplePattern.fa (332 bytes security) (deflated 24%)
adding: extdata/gadem.rda (332 bytes security) (deflated 4%)
adding: extdata/GFF_peaks.gff (332 bytes security) (deflated 76%)
adding: extdata/GSM700906_AA86_vs_INPUT_WS170.bed (332 bytes security) (deflated 62%)
adding: extdata/GSM700907_DAF-12_TAP_vs_INPUT_#1_WS170.bed (332 bytes security) (deflated 63%)
adding: extdata/GSM700908_DAF-12_TAP_vs_INPUT_#2_WS170.bed (332 bytes security) (deflated 63%)
adding: extdata/GSM700909_DAF-12_TAP_vs_INPUT_#3_WS170.bed (332 bytes security) (deflated 63%)
adding: extdata/guide-seq-peaks.txt (332 bytes security) (deflated 78%)
adding: extdata/MACS2_peaks.xls (332 bytes security) (deflated 69%)
adding: extdata/MACS_output.bed (332 bytes security) (deflated 65%)
adding: extdata/MACS_peaks.xls (332 bytes security) (deflated 48%)
adding: extdata/peaks.narrowPeak (332 bytes security) (deflated 66%)
adding: extdata/peaks_hg19.bed (332 bytes security) (deflated 63%)
adding: extdata/ref.gtf (332 bytes security) (deflated 33%)
adding: extdata/TAF.bigWig (332 bytes security) (deflated 32%)
adding: extdata/TAF.broadPeak (332 bytes security) (deflated 67%)
adding: extdata/Tead4.bigWig (332 bytes security) (deflated 44%)
adding: extdata/Tead4.broadPeak (332 bytes security) (deflated 69%)
adding: extdata/test.bed (332 bytes security) (deflated 12%)
adding: extdata/wgEncodeUmassDekker5CGm12878PkV2.bed.gz (332 bytes security) (stored 0%)
adding: extdata/WS220.bed (332 bytes security) (deflated 76%)
adding: extdata/YY1.bigWig (332 bytes security) (deflated 32%)
adding: extdata/YY1.broadPeak (332 bytes security) (deflated 69%)
adding: help/ (372 bytes security) (stored 0%)
adding: help/aliases.rds (332 bytes security) (stored 0%)
adding: help/AnIndex (332 bytes security) (deflated 70%)
adding: help/ChIPpeakAnno.rdb (332 bytes security) (deflated 1%)
adding: help/ChIPpeakAnno.rdx (332 bytes security) (deflated 0%)
adding: help/paths.rds (332 bytes security) (stored 0%)
adding: html/ (372 bytes security) (stored 0%)
adding: html/00Index.html (332 bytes security) (deflated 79%)
adding: html/R.css (332 bytes security) (deflated 75%)
adding: INDEX (332 bytes security) (deflated 69%)
adding: MD5 (332 bytes security) (deflated 47%)
adding: Meta/ (372 bytes security) (stored 0%)
adding: Meta/data.rds (332 bytes security) (stored 0%)
adding: Meta/features.rds (332 bytes security) (stored 0%)
adding: Meta/hsearch.rds (332 bytes security) (stored 0%)
adding: Meta/links.rds (332 bytes security) (stored 0%)
adding: Meta/nsInfo.rds (332 bytes security) (stored 0%)
adding: Meta/package.rds (332 bytes security) (stored 0%)
adding: Meta/Rd.rds (332 bytes security) (stored 0%)
adding: Meta/vignette.rds (332 bytes security) (stored 0%)
adding: NAMESPACE (332 bytes security) (deflated 60%)
adding: NEWS (332 bytes security) (deflated 74%)
adding: R/ (372 bytes security) (stored 0%)
adding: R/ChIPpeakAnno (332 bytes security) (deflated 41%)
adding: R/ChIPpeakAnno.rdb (332 bytes security) (deflated 8%)
adding: R/ChIPpeakAnno.rdx (332 bytes security) (stored 0%)