CellNOptR 1.23.0 T.Cokelaer
 | Snapshot Date: 2017-08-15 17:18:21 -0400 (Tue, 15 Aug 2017) |  | URL: https://hedgehog.fhcrc.org/bioconductor/trunk/madman/Rpacks/CellNOptR |  | Last Changed Rev: 129129 / Revision: 131943 |  | Last Changed Date: 2017-04-24 15:50:57 -0400 (Mon, 24 Apr 2017) |  
  | malbec1  | Linux (Ubuntu 16.04.1 LTS) / x86_64  |  OK  |  OK  |  OK  |  |   | 
| tokay1  | Windows Server 2012 R2 Standard / x64  |  OK  |  OK  |  OK  | [ OK ] |   | 
| veracruz1  | OS X 10.11.6 El Capitan / x86_64  |  OK  |  OK  |  OK  |  OK  |   | 
##############################################################################
##############################################################################
###
### Running command:
###
###   cd CellNOptR.buildbin-libdir/CellNOptR && zip -r ../../CellNOptR_1.23.0.zip . & cd ../..
###
##############################################################################
##############################################################################
  adding: data/ (372 bytes security) (stored 0%)
  adding: data/CNOlistDREAM.RData (332 bytes security) (stored 0%)
  adding: data/CNOlistToy.RData (332 bytes security) (stored 0%)
  adding: data/CNOlistToy2.RData (332 bytes security) (stored 0%)
  adding: data/CNOlistToyMMB.RData (332 bytes security) (stored 0%)
  adding: data/DreamModel.RData (332 bytes security) (stored 0%)
  adding: data/ToyModel.RData (332 bytes security) (stored 0%)
  adding: data/ToyModel2.RData (332 bytes security) (stored 0%)
  adding: DESCRIPTION (332 bytes security) (deflated 38%)
  adding: doc/ (372 bytes security) (stored 0%)
  adding: doc/CellNOptR-vignette.pdf (332 bytes security) (deflated 13%)
  adding: doc/CellNOptR-vignette.R (332 bytes security) (deflated 83%)
  adding: doc/CellNOptR-vignette.Rnw (332 bytes security) (deflated 67%)
  adding: doc/index.html (332 bytes security) (deflated 59%)
  adding: DREAMmodel/ (372 bytes security) (stored 0%)
  adding: DREAMmodel/LiverDataDREAMMIDAS.csv (332 bytes security) (deflated 83%)
  adding: DREAMmodel/LiverPKNDREAM.sif (332 bytes security) (deflated 60%)
  adding: help/ (372 bytes security) (stored 0%)
  adding: help/aliases.rds (332 bytes security) (stored 0%)
  adding: help/AnIndex (332 bytes security) (deflated 76%)
  adding: help/CellNOptR.rdb (332 bytes security) (deflated 1%)
  adding: help/CellNOptR.rdx (332 bytes security) (stored 0%)
  adding: help/paths.rds (332 bytes security) (stored 0%)
  adding: html/ (372 bytes security) (stored 0%)
  adding: html/00Index.html (332 bytes security) (deflated 83%)
  adding: html/R.css (332 bytes security) (deflated 75%)
  adding: INDEX (332 bytes security) (deflated 69%)
  adding: libs/ (372 bytes security) (stored 0%)
  adding: libs/i386/ (372 bytes security) (stored 0%)
  adding: libs/i386/CellNOptR.dll (332 bytes security) (deflated 58%)
  adding: libs/x64/ (372 bytes security) (stored 0%)
  adding: libs/x64/CellNOptR.dll (332 bytes security) (deflated 54%)
  adding: MD5 (332 bytes security) (deflated 46%)
  adding: Meta/ (372 bytes security) (stored 0%)
  adding: Meta/data.rds (332 bytes security) (stored 0%)
  adding: Meta/features.rds (332 bytes security) (stored 0%)
  adding: Meta/hsearch.rds (332 bytes security) (stored 0%)
  adding: Meta/links.rds (332 bytes security) (stored 0%)
  adding: Meta/nsInfo.rds (332 bytes security) (stored 0%)
  adding: Meta/package.rds (332 bytes security) (stored 0%)
  adding: Meta/Rd.rds (332 bytes security) (stored 0%)
  adding: Meta/vignette.rds (332 bytes security) (stored 0%)
  adding: NAMESPACE (332 bytes security) (deflated 64%)
  adding: NEWS.Rd (332 bytes security) (deflated 67%)
  adding: R/ (372 bytes security) (stored 0%)
  adding: R/CellNOptR (332 bytes security) (deflated 41%)
  adding: R/CellNOptR.rdb (332 bytes security) (deflated 15%)
  adding: R/CellNOptR.rdx (332 bytes security) (stored 0%)
  adding: templates/ (372 bytes security) (stored 0%)
  adding: templates/bordercorner.jpg (332 bytes security) (stored 0%)
  adding: templates/bordercorner2.jpg (332 bytes security) (deflated 31%)
  adding: templates/CNOR.css (332 bytes security) (deflated 69%)
  adding: templates/logo_saezrodriguez_mid.gif (332 bytes security) (deflated 23%)
  adding: templates/phinou.jpeg (332 bytes security) (deflated 6%)
  adding: templates/Rlogo.png (332 bytes security) (deflated 0%)
  adding: ToyModel/ (372 bytes security) (stored 0%)
  adding: ToyModel/ToyDataMMB.csv (332 bytes security) (deflated 78%)
  adding: ToyModel/ToyModelMMB2.sif (332 bytes security) (deflated 39%)
  adding: ToyModel/ToyPKNMMB.sif (332 bytes security) (deflated 38%)
  adding: ToyModelT3/ (372 bytes security) (stored 0%)
  adding: ToyModelT3/ToyDataT3.csv (332 bytes security) (deflated 79%)
  adding: ToyModelT3/ToyModelT3.sif (332 bytes security) (deflated 48%)