CGHcall 2.39.0 Mark van de Wiel
Snapshot Date: 2017-08-15 17:18:21 -0400 (Tue, 15 Aug 2017) | URL: https://hedgehog.fhcrc.org/bioconductor/trunk/madman/Rpacks/CGHcall | Last Changed Rev: 129129 / Revision: 131943 | Last Changed Date: 2017-04-24 15:50:57 -0400 (Mon, 24 Apr 2017) |
| malbec1 | Linux (Ubuntu 16.04.1 LTS) / x86_64 | OK | OK | OK | | ![UNNEEDED, same version exists in internal repository UNNEEDED, same version exists in internal repository](../120px-Blue_Light_Icon.svg.png) |
tokay1 | Windows Server 2012 R2 Standard / x64 | OK | OK | OK | [ OK ] | ![UNNEEDED, same version exists in internal repository UNNEEDED, same version exists in internal repository](../120px-Blue_Light_Icon.svg.png) |
veracruz1 | OS X 10.11.6 El Capitan / x86_64 | OK | OK | OK | OK | ![UNNEEDED, same version exists in internal repository UNNEEDED, same version exists in internal repository](../120px-Blue_Light_Icon.svg.png) |
##############################################################################
##############################################################################
###
### Running command:
###
### cd CGHcall.buildbin-libdir/CGHcall && zip -r ../../CGHcall_2.39.0.zip . & cd ../..
###
##############################################################################
##############################################################################
adding: data/ (372 bytes security) (stored 0%)
adding: data/Wilting.txt (332 bytes security) (deflated 57%)
adding: DESCRIPTION (332 bytes security) (deflated 36%)
adding: doc/ (372 bytes security) (stored 0%)
adding: doc/CGHcall.pdf (332 bytes security) (deflated 12%)
adding: doc/CGHcall.R (332 bytes security) (deflated 79%)
adding: doc/CGHcall.Rnw (332 bytes security) (deflated 59%)
adding: doc/index.html (332 bytes security) (deflated 58%)
adding: help/ (372 bytes security) (stored 0%)
adding: help/aliases.rds (332 bytes security) (stored 0%)
adding: help/AnIndex (332 bytes security) (deflated 49%)
adding: help/CGHcall.rdb (332 bytes security) (deflated 1%)
adding: help/CGHcall.rdx (332 bytes security) (stored 0%)
adding: help/paths.rds (332 bytes security) (stored 0%)
adding: html/ (372 bytes security) (stored 0%)
adding: html/00Index.html (332 bytes security) (deflated 64%)
adding: html/R.css (332 bytes security) (deflated 75%)
adding: INDEX (332 bytes security) (deflated 61%)
adding: MD5 (332 bytes security) (deflated 42%)
adding: Meta/ (372 bytes security) (stored 0%)
adding: Meta/data.rds (332 bytes security) (stored 0%)
adding: Meta/features.rds (332 bytes security) (stored 0%)
adding: Meta/hsearch.rds (332 bytes security) (stored 0%)
adding: Meta/links.rds (332 bytes security) (stored 0%)
adding: Meta/nsInfo.rds (332 bytes security) (stored 0%)
adding: Meta/package.rds (332 bytes security) (stored 0%)
adding: Meta/Rd.rds (332 bytes security) (stored 0%)
adding: Meta/vignette.rds (332 bytes security) (stored 0%)
adding: NAMESPACE (332 bytes security) (deflated 29%)
adding: R/ (372 bytes security) (stored 0%)
adding: R/CGHcall (332 bytes security) (deflated 41%)
adding: R/CGHcall.rdb (332 bytes security) (deflated 2%)
adding: R/CGHcall.rdx (332 bytes security) (stored 0%)