| BeadDataPackR 1.29.0 Mike Smith
 
 | Snapshot Date: 2017-08-15 17:18:21 -0400 (Tue, 15 Aug 2017) |  | URL: https://hedgehog.fhcrc.org/bioconductor/trunk/madman/Rpacks/BeadDataPackR |  | Last Changed Rev: 129129 / Revision: 131943 |  | Last Changed Date: 2017-04-24 15:50:57 -0400 (Mon, 24 Apr 2017) | 
 | malbec1 | Linux (Ubuntu 16.04.1 LTS) / x86_64 | OK | OK | OK |  |  | 
| tokay1 | Windows Server 2012 R2 Standard / x64 | [ OK ] | OK | OK | OK |  | 
| veracruz1 | OS X 10.11.6 El Capitan / x86_64 | OK | OK | OK | OK |  | 
##############################################################################
##############################################################################
###
### Running command:
###
###   rm -rf BeadDataPackR.buildbin-libdir && mkdir BeadDataPackR.buildbin-libdir  && C:\cygwin\bin\curl.exe -O https://malbec1.bioconductor.org/BBS/3.6/bioc/src/contrib/BeadDataPackR_1.29.0.tar.gz && C:\Users\biocbuild\bbs-3.6-bioc\R\bin\R.exe CMD INSTALL --build --library=BeadDataPackR.buildbin-libdir --merge-multiarch BeadDataPackR_1.29.0.tar.gz && C:\Users\biocbuild\bbs-3.6-bioc\R\bin\R.exe CMD INSTALL BeadDataPackR_1.29.0.zip  && rm BeadDataPackR_1.29.0.tar.gz BeadDataPackR_1.29.0.zip
###
##############################################################################
##############################################################################
  % Total    % Received % Xferd  Average Speed   Time    Time     Time  Current
                                 Dload  Upload   Total   Spent    Left  Speed
  0     0    0     0    0     0      0      0 --:--:-- --:--:-- --:--:--     0
  0     0    0     0    0     0      0      0 --:--:-- --:--:-- --:--:--     0
100 84963  100 84963    0     0   120k      0 --:--:-- --:--:-- --:--:--  123k
install for i386
* installing *source* package 'BeadDataPackR' ...
** libs
C:/Rtools/mingw_32/bin/gcc  -I"C:/Users/BIOCBU˜1/BBS-3˜1.6-B/R/include" -DNDEBUG     -I"C:/local323/include"     -O3 -Wall  -std=gnu99 -mtune=core2 -c BeadDataPackR.c -o BeadDataPackR.o
C:/Rtools/mingw_32/bin/gcc  -I"C:/Users/BIOCBU˜1/BBS-3˜1.6-B/R/include" -DNDEBUG     -I"C:/local323/include"     -O3 -Wall  -std=gnu99 -mtune=core2 -c R_init_BeadDataPackR.c -o R_init_BeadDataPackR.o
C:/Rtools/mingw_32/bin/gcc -shared -s -static-libgcc -o BeadDataPackR.dll tmp.def BeadDataPackR.o R_init_BeadDataPackR.o -LC:/local323/lib/i386 -LC:/local323/lib -LC:/Users/BIOCBU˜1/BBS-3˜1.6-B/R/bin/i386 -lR
installing to C:/Users/biocbuild/bbs-3.6-bioc/meat/BeadDataPackR.buildbin-libdir/BeadDataPackR/libs/i386
** R
** inst
** preparing package for lazy loading
** help
*** installing help indices
** building package indices
** installing vignettes
   'BeadDataPackR.rnw' 
** testing if installed package can be loaded
install for x64
* installing *source* package 'BeadDataPackR' ...
** libs
C:/Rtools/mingw_64/bin/gcc  -I"C:/Users/BIOCBU˜1/BBS-3˜1.6-B/R/include" -DNDEBUG     -I"C:/local323/include"     -O2 -Wall  -std=gnu99 -mtune=core2 -c BeadDataPackR.c -o BeadDataPackR.o
C:/Rtools/mingw_64/bin/gcc  -I"C:/Users/BIOCBU˜1/BBS-3˜1.6-B/R/include" -DNDEBUG     -I"C:/local323/include"     -O2 -Wall  -std=gnu99 -mtune=core2 -c R_init_BeadDataPackR.c -o R_init_BeadDataPackR.o
C:/Rtools/mingw_64/bin/gcc -shared -s -static-libgcc -o BeadDataPackR.dll tmp.def BeadDataPackR.o R_init_BeadDataPackR.o -LC:/local323/lib/x64 -LC:/local323/lib -LC:/Users/BIOCBU˜1/BBS-3˜1.6-B/R/bin/x64 -lR
installing to C:/Users/biocbuild/bbs-3.6-bioc/meat/BeadDataPackR.buildbin-libdir/BeadDataPackR/libs/x64
** testing if installed package can be loaded
* MD5 sums
packaged installation of 'BeadDataPackR' as BeadDataPackR_1.29.0.zip
* DONE (BeadDataPackR)
* installing to library 'C:/Users/biocbuild/bbs-3.6-bioc/R/library'
package 'BeadDataPackR' successfully unpacked and MD5 sums checked