KEGGdzPathwaysGEO 1.14.0 Gaurav Bhatti
Snapshot Date: 2017-10-18 09:00:07 -0400 (Wed, 18 Oct 2017) | URL: https://git.bioconductor.org/packages/KEGGdzPathwaysGEO | Branch: RELEASE_3_5 | Last Commit: 6a8c90b | Last Changed Date: 2017-08-16 15:12:46 -0400 (Wed, 16 Aug 2017) |
| malbec2 | Linux (Ubuntu 16.04.1 LTS) / x86_64 | [ OK ] | OK | OK | | |
##############################################################################
##############################################################################
###
### Running command:
###
### /home/biocbuild/bbs-3.5-bioc/R/bin/R CMD INSTALL KEGGdzPathwaysGEO
###
##############################################################################
##############################################################################
* installing to library ‘/home/biocbuild/bbs-3.5-bioc/R/library’
* installing *source* package ‘KEGGdzPathwaysGEO’ ...
** R
** data
** preparing package for lazy loading
** help
*** installing help indices
** building package indices
** testing if installed package can be loaded
* DONE (KEGGdzPathwaysGEO)