| snpStats 1.26.0 David Clayton
 
 | Snapshot Date: 2017-10-17 17:00:52 -0400 (Tue, 17 Oct 2017) |  | URL: https://git.bioconductor.org/packages/snpStats |  | Branch: RELEASE_3_5 |  | Last Commit: 7c9b330 |  | Last Changed Date: 2017-04-24 15:45:44 -0400 (Mon, 24 Apr 2017) | 
 | malbec2 | Linux (Ubuntu 16.04.1 LTS) / x86_64 | OK | OK | OK |  |  | 
| tokay2 | Windows Server 2012 R2 Standard / x64 | OK | OK | OK | [ OK ] |  | 
| veracruz2 | OS X 10.11.6 El Capitan / x86_64 | OK | OK | OK | OK |  | 
##############################################################################
##############################################################################
###
### Running command:
###
###   cd snpStats.buildbin-libdir/snpStats && zip -r ../../snpStats_1.26.0.zip . & cd ../..
###
##############################################################################
##############################################################################
  adding: data/ (304 bytes security) (stored 0%)
  adding: data/datalist (264 bytes security) (deflated 28%)
  adding: data/families.RData (264 bytes security) (stored 0%)
  adding: data/for.exercise.RData (264 bytes security) (deflated 0%)
  adding: data/ld.example.RData (264 bytes security) (stored 0%)
  adding: data/testdata.RData (264 bytes security) (deflated 0%)
  adding: DESCRIPTION (264 bytes security) (deflated 39%)
  adding: doc/ (304 bytes security) (stored 0%)
  adding: doc/data-input-vignette.pdf (264 bytes security) (deflated 8%)
  adding: doc/data-input-vignette.R (264 bytes security) (deflated 82%)
  adding: doc/data-input-vignette.Rnw (264 bytes security) (deflated 59%)
  adding: doc/differences.pdf (264 bytes security) (deflated 8%)
  adding: doc/differences.Rnw (264 bytes security) (deflated 58%)
  adding: doc/Fst-vignette.pdf (264 bytes security) (deflated 7%)
  adding: doc/Fst-vignette.R (264 bytes security) (deflated 73%)
  adding: doc/Fst-vignette.Rnw (264 bytes security) (deflated 54%)
  adding: doc/imputation-vignette.pdf (264 bytes security) (deflated 17%)
  adding: doc/imputation-vignette.R (264 bytes security) (deflated 83%)
  adding: doc/imputation-vignette.Rnw (264 bytes security) (deflated 61%)
  adding: doc/index.html (264 bytes security) (deflated 83%)
  adding: doc/ld-vignette.pdf (264 bytes security) (deflated 10%)
  adding: doc/ld-vignette.R (264 bytes security) (deflated 83%)
  adding: doc/ld-vignette.Rnw (264 bytes security) (deflated 60%)
  adding: doc/pca-vignette.pdf (264 bytes security) (deflated 6%)
  adding: doc/pca-vignette.R (264 bytes security) (deflated 71%)
  adding: doc/pca-vignette.Rnw (264 bytes security) (deflated 60%)
  adding: doc/snpStats-vignette.pdf (264 bytes security) (deflated 15%)
  adding: doc/snpStats-vignette.R (264 bytes security) (deflated 84%)
  adding: doc/snpStats-vignette.Rnw (264 bytes security) (deflated 61%)
  adding: doc/tdt-vignette.pdf (264 bytes security) (deflated 12%)
  adding: doc/tdt-vignette.R (264 bytes security) (deflated 70%)
  adding: doc/tdt-vignette.Rnw (264 bytes security) (deflated 55%)
  adding: extdata/ (304 bytes security) (stored 0%)
  adding: extdata/mach1.out.mlprob.gz (264 bytes security) (deflated 0%)
  adding: extdata/sample-long-alleles.gz (264 bytes security) (deflated 17%)
  adding: extdata/sample-long.gz (264 bytes security) (deflated 19%)
  adding: extdata/sample.bed (264 bytes security) (deflated 45%)
  adding: extdata/sample.bim (264 bytes security) (deflated 63%)
  adding: extdata/sample.fam (264 bytes security) (deflated 73%)
  adding: extdata/sample.info (264 bytes security) (deflated 55%)
  adding: extdata/sample.ped.gz (264 bytes security) (stored 0%)
  adding: help/ (304 bytes security) (stored 0%)
  adding: help/aliases.rds (264 bytes security) (stored 0%)
  adding: help/AnIndex (264 bytes security) (deflated 77%)
  adding: help/paths.rds (264 bytes security) (stored 0%)
  adding: help/snpStats.rdb (264 bytes security) (deflated 2%)
  adding: help/snpStats.rdx (264 bytes security) (stored 0%)
  adding: html/ (304 bytes security) (stored 0%)
  adding: html/00Index.html (264 bytes security) (deflated 86%)
  adding: html/R.css (264 bytes security) (deflated 75%)
  adding: INDEX (264 bytes security) (deflated 68%)
  adding: libs/ (304 bytes security) (stored 0%)
  adding: libs/i386/ (304 bytes security) (stored 0%)
  adding: libs/i386/snpStats.dll (264 bytes security) (deflated 54%)
  adding: libs/x64/ (304 bytes security) (stored 0%)
  adding: libs/x64/snpStats.dll (264 bytes security) (deflated 52%)
  adding: MD5 (264 bytes security) (deflated 49%)
  adding: Meta/ (304 bytes security) (stored 0%)
  adding: Meta/data.rds (264 bytes security) (stored 0%)
  adding: Meta/features.rds (264 bytes security) (stored 0%)
  adding: Meta/hsearch.rds (264 bytes security) (stored 0%)
  adding: Meta/links.rds (264 bytes security) (stored 0%)
  adding: Meta/nsInfo.rds (264 bytes security) (stored 0%)
  adding: Meta/package.rds (264 bytes security) (stored 0%)
  adding: Meta/Rd.rds (264 bytes security) (stored 0%)
  adding: Meta/vignette.rds (264 bytes security) (stored 0%)
  adding: NAMESPACE (264 bytes security) (deflated 56%)
  adding: R/ (304 bytes security) (stored 0%)
  adding: R/snpStats (264 bytes security) (deflated 41%)
  adding: R/snpStats.rdb (264 bytes security) (deflated 12%)
  adding: R/snpStats.rdx (264 bytes security) (deflated 1%)