| seqbias 1.24.0 Daniel Jones
 
 | Snapshot Date: 2017-10-17 17:00:52 -0400 (Tue, 17 Oct 2017) |  | URL: https://git.bioconductor.org/packages/seqbias |  | Branch: RELEASE_3_5 |  | Last Commit: 26fb61d |  | Last Changed Date: 2017-04-24 15:45:44 -0400 (Mon, 24 Apr 2017) | 
 | malbec2 | Linux (Ubuntu 16.04.1 LTS) / x86_64 | OK | OK | OK |  |  | 
| tokay2 | Windows Server 2012 R2 Standard / x64 | OK | OK | OK | [ OK ] |  | 
| veracruz2 | OS X 10.11.6 El Capitan / x86_64 | OK | OK | OK | OK |  | 
##############################################################################
##############################################################################
###
### Running command:
###
###   cd seqbias.buildbin-libdir/seqbias && zip -r ../../seqbias_1.24.0.zip . & cd ../..
###
##############################################################################
##############################################################################
  adding: CITATION (264 bytes security) (deflated 60%)
  adding: DESCRIPTION (264 bytes security) (deflated 42%)
  adding: doc/ (304 bytes security) (stored 0%)
  adding: doc/index.html (264 bytes security) (deflated 57%)
  adding: doc/overview.pdf (264 bytes security) (deflated 8%)
  adding: doc/overview.R (264 bytes security) (deflated 81%)
  adding: doc/overview.Rnw (264 bytes security) (deflated 62%)
  adding: extra/ (304 bytes security) (stored 0%)
  adding: extra/example.bam (264 bytes security) (deflated 0%)
  adding: extra/example.bam.bai (264 bytes security) (deflated 61%)
  adding: extra/example.fa (264 bytes security) (deflated 69%)
  adding: extra/example.fa.fai (264 bytes security) (stored 0%)
  adding: help/ (304 bytes security) (stored 0%)
  adding: help/aliases.rds (264 bytes security) (stored 0%)
  adding: help/AnIndex (264 bytes security) (deflated 56%)
  adding: help/paths.rds (264 bytes security) (stored 0%)
  adding: help/seqbias.rdb (264 bytes security) (deflated 1%)
  adding: help/seqbias.rdx (264 bytes security) (stored 0%)
  adding: html/ (304 bytes security) (stored 0%)
  adding: html/00Index.html (264 bytes security) (deflated 66%)
  adding: html/R.css (264 bytes security) (deflated 75%)
  adding: INDEX (264 bytes security) (deflated 58%)
  adding: libs/ (304 bytes security) (stored 0%)
  adding: libs/i386/ (304 bytes security) (stored 0%)
  adding: libs/i386/seqbias.dll (264 bytes security) (deflated 63%)
  adding: libs/x64/ (304 bytes security) (stored 0%)
  adding: libs/x64/seqbias.dll (264 bytes security) (deflated 63%)
  adding: MD5 (264 bytes security) (deflated 43%)
  adding: Meta/ (304 bytes security) (stored 0%)
  adding: Meta/features.rds (264 bytes security) (stored 0%)
  adding: Meta/hsearch.rds (264 bytes security) (stored 0%)
  adding: Meta/links.rds (264 bytes security) (stored 0%)
  adding: Meta/nsInfo.rds (264 bytes security) (stored 0%)
  adding: Meta/package.rds (264 bytes security) (stored 0%)
  adding: Meta/Rd.rds (264 bytes security) (stored 0%)
  adding: Meta/vignette.rds (264 bytes security) (stored 0%)
  adding: NAMESPACE (264 bytes security) (stored 0%)
  adding: R/ (304 bytes security) (stored 0%)
  adding: R/seqbias (264 bytes security) (deflated 41%)
  adding: R/seqbias.rdb (264 bytes security) (deflated 4%)
  adding: R/seqbias.rdx (264 bytes security) (stored 0%)