rpx 1.12.3 Laurent Gatto
 | Snapshot Date: 2017-10-17 17:00:52 -0400 (Tue, 17 Oct 2017) |  | URL: https://git.bioconductor.org/packages/rpx |  | Branch: RELEASE_3_5 |  | Last Commit: ece97bc |  | Last Changed Date: 2017-10-05 17:40:14 -0400 (Thu, 05 Oct 2017) |  
  | malbec2  | Linux (Ubuntu 16.04.1 LTS) / x86_64  |  OK  | [ OK ] |  OK  |  |   | 
| tokay2  | Windows Server 2012 R2 Standard / x64  |  OK  |  OK  |  OK  |  OK  |   | 
| veracruz2  | OS X 10.11.6 El Capitan / x86_64  |  OK  |  OK  |  ERROR  |  OK  |  | 
##############################################################################
##############################################################################
###
### Running command:
###
###   /home/biocbuild/bbs-3.5-bioc/R/bin/R CMD build --keep-empty-dirs --no-resave-data rpx
###
##############################################################################
##############################################################################
* checking for file ‘rpx/DESCRIPTION’ ... OK
* preparing ‘rpx’:
* checking DESCRIPTION meta-information ... OK
* installing the package to build vignettes
* creating vignettes ... OK
* checking for LF line-endings in source and make files and shell scripts
* checking for empty or unneeded directories
* building ‘rpx_1.12.3.tar.gz’