rRDP 1.10.0 Michael Hahsler
 | Snapshot Date: 2017-10-17 17:00:52 -0400 (Tue, 17 Oct 2017) |  | URL: https://git.bioconductor.org/packages/rRDP |  | Branch: RELEASE_3_5 |  | Last Commit: c19b527 |  | Last Changed Date: 2017-04-24 15:45:44 -0400 (Mon, 24 Apr 2017) |  
  | malbec2  | Linux (Ubuntu 16.04.1 LTS) / x86_64  |  OK  |  OK  |  OK  |  |   | 
| tokay2  | Windows Server 2012 R2 Standard / x64  | [ OK ] |  OK  |  OK  |  OK  |   | 
| veracruz2  | OS X 10.11.6 El Capitan / x86_64  |  OK  |  OK  |  OK  |  OK  |   | 
##############################################################################
##############################################################################
###
### Running command:
###
###   rm -rf rRDP.buildbin-libdir && mkdir rRDP.buildbin-libdir  && C:\cygwin\bin\curl.exe -O http://172.29.0.4/BBS/3.5/bioc/src/contrib/rRDP_1.10.0.tar.gz && C:\Users\biocbuild\bbs-3.5-bioc\R\bin\R.exe CMD INSTALL --build --library=rRDP.buildbin-libdir --merge-multiarch rRDP_1.10.0.tar.gz && C:\Users\biocbuild\bbs-3.5-bioc\R\bin\R.exe CMD INSTALL rRDP_1.10.0.zip  && rm rRDP_1.10.0.tar.gz rRDP_1.10.0.zip
###
##############################################################################
##############################################################################
  % Total    % Received % Xferd  Average Speed   Time    Time     Time  Current
                                 Dload  Upload   Total   Spent    Left  Speed
  0     0    0     0    0     0      0      0 --:--:-- --:--:-- --:--:--     0
100 1356k  100 1356k    0     0  43.5M      0 --:--:-- --:--:-- --:--:-- 45.6M
install for i386
* installing *source* package 'rRDP' ...
** R
** inst
** preparing package for lazy loading
** help
*** installing help indices
** building package indices
** installing vignettes
** testing if installed package can be loaded
install for x64
* installing *source* package 'rRDP' ...
** testing if installed package can be loaded
* MD5 sums
packaged installation of 'rRDP' as rRDP_1.10.0.zip
* DONE (rRDP)
* installing to library 'C:/Users/biocbuild/bbs-3.5-bioc/R/library'
package 'rRDP' successfully unpacked and MD5 sums checked