| msmsTests 1.14.0 Josep Gregori i Font
 
 | Snapshot Date: 2017-10-17 17:00:52 -0400 (Tue, 17 Oct 2017) |  | URL: https://git.bioconductor.org/packages/msmsTests |  | Branch: RELEASE_3_5 |  | Last Commit: af1dae4 |  | Last Changed Date: 2017-04-24 15:45:44 -0400 (Mon, 24 Apr 2017) | 
 | malbec2 | Linux (Ubuntu 16.04.1 LTS) / x86_64 | OK | OK | OK |  |  | 
| tokay2 | Windows Server 2012 R2 Standard / x64 | OK | OK | OK | [ OK ] |  | 
| veracruz2 | OS X 10.11.6 El Capitan / x86_64 | OK | OK | OK | OK |  | 
##############################################################################
##############################################################################
###
### Running command:
###
###   cd msmsTests.buildbin-libdir/msmsTests && zip -r ../../msmsTests_1.14.0.zip . & cd ../..
###
##############################################################################
##############################################################################
  adding: data/ (304 bytes security) (stored 0%)
  adding: data/msms.spk.rda (264 bytes security) (deflated 0%)
  adding: DESCRIPTION (264 bytes security) (deflated 39%)
  adding: doc/ (304 bytes security) (stored 0%)
  adding: doc/index.html (264 bytes security) (deflated 68%)
  adding: doc/msmsTests-Vignette.pdf (264 bytes security) (deflated 8%)
  adding: doc/msmsTests-Vignette.R (264 bytes security) (deflated 75%)
  adding: doc/msmsTests-Vignette.Rnw (264 bytes security) (deflated 63%)
  adding: doc/msmsTests-Vignette2.pdf (264 bytes security) (deflated 10%)
  adding: doc/msmsTests-Vignette2.R (264 bytes security) (deflated 79%)
  adding: doc/msmsTests-Vignette2.Rnw (264 bytes security) (deflated 64%)
  adding: help/ (304 bytes security) (stored 0%)
  adding: help/aliases.rds (264 bytes security) (stored 0%)
  adding: help/AnIndex (264 bytes security) (deflated 54%)
  adding: help/msmsTests.rdb (264 bytes security) (deflated 0%)
  adding: help/msmsTests.rdx (264 bytes security) (stored 0%)
  adding: help/paths.rds (264 bytes security) (stored 0%)
  adding: html/ (304 bytes security) (stored 0%)
  adding: html/00Index.html (264 bytes security) (deflated 64%)
  adding: html/R.css (264 bytes security) (deflated 75%)
  adding: INDEX (264 bytes security) (deflated 59%)
  adding: MD5 (264 bytes security) (deflated 46%)
  adding: Meta/ (304 bytes security) (stored 0%)
  adding: Meta/data.rds (264 bytes security) (stored 0%)
  adding: Meta/features.rds (264 bytes security) (stored 0%)
  adding: Meta/hsearch.rds (264 bytes security) (stored 0%)
  adding: Meta/links.rds (264 bytes security) (stored 0%)
  adding: Meta/nsInfo.rds (264 bytes security) (stored 0%)
  adding: Meta/package.rds (264 bytes security) (stored 0%)
  adding: Meta/Rd.rds (264 bytes security) (stored 0%)
  adding: Meta/vignette.rds (264 bytes security) (stored 0%)
  adding: NAMESPACE (264 bytes security) (deflated 21%)
  adding: R/ (304 bytes security) (stored 0%)
  adding: R/msmsTests (264 bytes security) (deflated 41%)
  adding: R/msmsTests.rdb (264 bytes security) (deflated 2%)
  adding: R/msmsTests.rdx (264 bytes security) (stored 0%)