| interactiveDisplay 1.13.0 Shawn Balcome
 
 | Snapshot Date: 2017-03-03 17:15:47 -0500 (Fri, 03 Mar 2017) |  | URL: https://hedgehog.fhcrc.org/bioconductor/trunk/madman/Rpacks/interactiveDisplay |  | Last Changed Rev: 122712 / Revision: 127142 |  | Last Changed Date: 2016-10-17 15:10:43 -0400 (Mon, 17 Oct 2016) | 
 | malbec2 | Linux (Ubuntu 16.04.1 LTS) / x86_64 | OK | OK | WARNINGS |  |  | 
| tokay2 | Windows Server 2012 R2 Standard / x64 | OK | OK | WARNINGS | OK |  | 
| toluca2 | Mac OS X Mavericks (10.9.5) / x86_64 | OK | OK | WARNINGS | OK |  | 
| oaxaca | Mac OS X Mavericks (10.9.5) / x86_64 | [ OK ] | OK | WARNINGS | OK |  | 
##############################################################################
##############################################################################
###
### Running command:
###
###   /Library/Frameworks/R.framework/Versions/Current/Resources/bin/R CMD INSTALL interactiveDisplay
###
##############################################################################
##############################################################################
* installing to library ‘/Library/Frameworks/R.framework/Versions/3.4/Resources/library’
* installing *source* package ‘interactiveDisplay’ ...
** R
** data
** inst
** preparing package for lazy loading
Bioconductor version 3.5 (BiocInstaller 1.25.3), ?biocLite for help
in method for ‘display’ with signature ‘object="GRanges"’: no definition for class “GRanges”
in method for ‘display’ with signature ‘object="GRangesList"’: no definition for class “GRangesList”
in method for ‘display’ with signature ‘object="RangedSummarizedExperiment"’: no definition for class “RangedSummarizedExperiment”
in method for ‘display’ with signature ‘object="MRexperiment"’: no definition for class “MRexperiment”
** help
*** installing help indices
** building package indices
** installing vignettes
   ‘interactiveDisplay.Rnw’ 
** testing if installed package can be loaded
* DONE (interactiveDisplay)