| genomation 1.8.0 Altuna Akalin , Vedran Franke
 
 | Snapshot Date: 2017-10-17 17:00:52 -0400 (Tue, 17 Oct 2017) |  | URL: https://git.bioconductor.org/packages/genomation |  | Branch: RELEASE_3_5 |  | Last Commit: 62fe265 |  | Last Changed Date: 2017-09-01 00:55:23 -0400 (Fri, 01 Sep 2017) | 
 | malbec2 | Linux (Ubuntu 16.04.1 LTS) / x86_64 | OK | OK | OK |  |  | 
| tokay2 | Windows Server 2012 R2 Standard / x64 | OK | OK | OK | [ OK ] |  | 
| veracruz2 | OS X 10.11.6 El Capitan / x86_64 | OK | OK | OK | OK |  | 
##############################################################################
##############################################################################
###
### Running command:
###
###   cd genomation.buildbin-libdir/genomation && zip -r ../../genomation_1.8.0.zip . & cd ../..
###
##############################################################################
##############################################################################
  adding: CITATION (264 bytes security) (deflated 51%)
  adding: data/ (304 bytes security) (stored 0%)
  adding: data/cage.RData (264 bytes security) (deflated 0%)
  adding: data/cpgi.RData (264 bytes security) (stored 0%)
  adding: data/genes.RData (264 bytes security) (stored 0%)
  adding: data/promoters.RData (264 bytes security) (stored 0%)
  adding: DESCRIPTION (264 bytes security) (deflated 47%)
  adding: doc/ (304 bytes security) (stored 0%)
  adding: doc/GenomationManual.html (264 bytes security) (deflated 43%)
  adding: doc/GenomationManual.R (264 bytes security) (deflated 79%)
  adding: doc/GenomationManual.Rmd (264 bytes security) (deflated 70%)
  adding: doc/index.html (264 bytes security) (deflated 60%)
  adding: extdata/ (304 bytes security) (stored 0%)
  adding: extdata/chr21.CpGi.hg19.bed (264 bytes security) (deflated 67%)
  adding: extdata/chr21.refseq.hg19.bed (264 bytes security) (deflated 71%)
  adding: extdata/chr21.refseq.hg19.gtf (264 bytes security) (deflated 94%)
  adding: extdata/EnhancersEncode.txt.Test (264 bytes security) (deflated 53%)
  adding: extdata/ex.broadPeak (264 bytes security) (deflated 38%)
  adding: extdata/ex.narrowPeak (264 bytes security) (deflated 40%)
  adding: extdata/Fantom4.Cage.Test (264 bytes security) (deflated 63%)
  adding: extdata/tab1.bed (264 bytes security) (deflated 40%)
  adding: extdata/tab2.bed (264 bytes security) (deflated 43%)
  adding: extdata/tab3.bed (264 bytes security) (deflated 46%)
  adding: help/ (304 bytes security) (stored 0%)
  adding: help/aliases.rds (264 bytes security) (stored 0%)
  adding: help/AnIndex (264 bytes security) (deflated 85%)
  adding: help/genomation.rdb (264 bytes security) (deflated 2%)
  adding: help/genomation.rdx (264 bytes security) (stored 0%)
  adding: help/paths.rds (264 bytes security) (stored 0%)
  adding: html/ (304 bytes security) (stored 0%)
  adding: html/00Index.html (264 bytes security) (deflated 85%)
  adding: html/R.css (264 bytes security) (deflated 75%)
  adding: INDEX (264 bytes security) (deflated 76%)
  adding: MD5 (264 bytes security) (deflated 47%)
  adding: Meta/ (304 bytes security) (stored 0%)
  adding: Meta/data.rds (264 bytes security) (stored 0%)
  adding: Meta/features.rds (264 bytes security) (stored 0%)
  adding: Meta/hsearch.rds (264 bytes security) (stored 0%)
  adding: Meta/links.rds (264 bytes security) (stored 0%)
  adding: Meta/nsInfo.rds (264 bytes security) (stored 0%)
  adding: Meta/package.rds (264 bytes security) (stored 0%)
  adding: Meta/Rd.rds (264 bytes security) (stored 0%)
  adding: Meta/vignette.rds (264 bytes security) (stored 0%)
  adding: NAMESPACE (264 bytes security) (deflated 68%)
  adding: NEWS (264 bytes security) (deflated 67%)
  adding: R/ (304 bytes security) (stored 0%)
  adding: R/genomation (264 bytes security) (deflated 41%)
  adding: R/genomation.rdb (264 bytes security) (deflated 29%)
  adding: R/genomation.rdx (264 bytes security) (stored 0%)
  adding: scripts/ (304 bytes security) (stored 0%)
  adding: scripts/devtools_test.R (264 bytes security) (deflated 58%)
  adding: scripts/FunctionNames.txt (264 bytes security) (deflated 26%)
  adding: scripts/produceDataForExamples.R (264 bytes security) (deflated 64%)
  adding: unitTests/ (304 bytes security) (stored 0%)
  adding: unitTests/tab.test1 (264 bytes security) (deflated 14%)
  adding: unitTests/tab.test2 (264 bytes security) (deflated 21%)
  adding: unitTests/tab.test3 (264 bytes security) (deflated 16%)
  adding: unitTests/tab.test3.zip (264 bytes security) (stored 0%)
  adding: unitTests/tab.test4 (264 bytes security) (deflated 32%)
  adding: unitTests/test.bam (264 bytes security) (deflated 9%)
  adding: unitTests/test.bam.bai (264 bytes security) (deflated 69%)
  adding: unitTests/test.bedGraph (264 bytes security) (deflated 53%)
  adding: unitTests/test.bw (264 bytes security) (deflated 99%)
  adding: unitTests/test.gtf (264 bytes security) (deflated 65%)
  adding: unitTests/test_pairedend.bam (264 bytes security) (deflated 8%)
  adding: unitTests/test_pairedend.bam.bai (264 bytes security) (deflated 59%)
  adding: unitTests/test_PatternMatrix.R (264 bytes security) (deflated 79%)
  adding: unitTests/test_readData.R (264 bytes security) (deflated 76%)
  adding: unitTests/test_ScoreMatrix.R (264 bytes security) (deflated 77%)
  adding: unitTests/test_ScoreMatrixBin.R (264 bytes security) (deflated 80%)
  adding: unitTests/test_ScoreMatrixList.R (264 bytes security) (deflated 81%)