| affxparser 1.48.0 Kasper Daniel Hansen
 
 | Snapshot Date: 2017-10-17 17:00:52 -0400 (Tue, 17 Oct 2017) |  | URL: https://git.bioconductor.org/packages/affxparser |  | Branch: RELEASE_3_5 |  | Last Commit: 2461ea8 |  | Last Changed Date: 2017-04-24 15:45:44 -0400 (Mon, 24 Apr 2017) | 
 | malbec2 | Linux (Ubuntu 16.04.1 LTS) / x86_64 | OK | OK | WARNINGS |  |  | 
| tokay2 | Windows Server 2012 R2 Standard / x64 | OK | OK | OK | [ OK ] |  | 
| veracruz2 | OS X 10.11.6 El Capitan / x86_64 | OK | OK | WARNINGS | OK |  | 
##############################################################################
##############################################################################
###
### Running command:
###
###   cd affxparser.buildbin-libdir/affxparser && zip -r ../../affxparser_1.48.0.zip . & cd ../..
###
##############################################################################
##############################################################################
  adding: DESCRIPTION (264 bytes security) (deflated 48%)
  adding: extras/ (304 bytes security) (stored 0%)
  adding: extras/easternEgg.gz (264 bytes security) (deflated 0%)
  adding: help/ (304 bytes security) (stored 0%)
  adding: help/affxparser.rdb (264 bytes security) (deflated 1%)
  adding: help/affxparser.rdx (264 bytes security) (stored 0%)
  adding: help/aliases.rds (264 bytes security) (stored 0%)
  adding: help/AnIndex (264 bytes security) (deflated 68%)
  adding: help/paths.rds (264 bytes security) (stored 0%)
  adding: html/ (304 bytes security) (stored 0%)
  adding: html/00Index.html (264 bytes security) (deflated 78%)
  adding: html/R.css (264 bytes security) (deflated 75%)
  adding: INDEX (264 bytes security) (deflated 73%)
  adding: info/ (304 bytes security) (stored 0%)
  adding: info/changes2fusion.txt (264 bytes security) (deflated 44%)
  adding: info/fusion_1.1.0_patches/ (304 bytes security) (stored 0%)
  adding: info/fusion_1.1.0_patches/AffxByteArray.cpp-patch (264 bytes security) (deflated 42%)
  adding: info/fusion_1.1.0_patches/AffxConv.cpp-patch (264 bytes security) (deflated 37%)
  adding: info/fusion_1.1.0_patches/affy-base-types.h-patch (264 bytes security) (deflated 34%)
  adding: info/fusion_1.1.0_patches/AffymetrixBaseTypes.h-patch (264 bytes security) (deflated 36%)
  adding: info/fusion_1.1.0_patches/CDFFileData.cpp-patch (264 bytes security) (deflated 44%)
  adding: info/fusion_1.1.0_patches/gcc-4.7.cpp-patch (264 bytes security) (deflated 38%)
  adding: info/fusion_1.1.2_patches/ (304 bytes security) (stored 0%)
  adding: info/fusion_1.1.2_patches/AffxByteArray.cpp-patch (264 bytes security) (deflated 42%)
  adding: info/fusion_1.1.2_patches/AffxConv.cpp-patch (264 bytes security) (deflated 38%)
  adding: info/fusion_1.1.2_patches/AffxConv.cpp-patch2 (264 bytes security) (deflated 47%)
  adding: info/fusion_1.1.2_patches/affy-base-types.h-patch (264 bytes security) (deflated 41%)
  adding: info/fusion_1.1.2_patches/AffymetrixBaseTypes.h-patch (264 bytes security) (deflated 36%)
  adding: info/fusion_1.1.2_patches/CDFFileData.cpp-patch (264 bytes security) (deflated 53%)
  adding: info/fusion_1.1.2_patches/CELFileData.h-patch (264 bytes security) (deflated 50%)
  adding: info/fusion_1.1.2_patches/CHPMultiDataData.cpp-patch (264 bytes security) (deflated 59%)
  adding: info/fusion_1.1.2_patches/FileUtils.cpp-patch (264 bytes security) (deflated 55%)
  adding: info/fusion_1.1.2_patches/Fs.cpp-patch (264 bytes security) (deflated 78%)
  adding: info/fusion_1.1.2_patches/TsvFile.cpp-patch (264 bytes security) (deflated 54%)
  adding: info/fusion_1.1.2_patches/Util.cpp-patch (264 bytes security) (deflated 48%)
  adding: info/fusion_1.1.2_patches/Verbose.cpp-patch (264 bytes security) (deflated 39%)
  adding: info/fusion_sdk_license.html (264 bytes security) (deflated 67%)
  adding: info/Makefile (264 bytes security) (deflated 80%)
  adding: libs/ (304 bytes security) (stored 0%)
  adding: libs/i386/ (304 bytes security) (stored 0%)
  adding: libs/i386/affxparser.dll (264 bytes security) (deflated 64%)
  adding: libs/x64/ (304 bytes security) (stored 0%)
  adding: libs/x64/affxparser.dll (264 bytes security) (deflated 65%)
  adding: MD5 (264 bytes security) (deflated 53%)
  adding: Meta/ (304 bytes security) (stored 0%)
  adding: Meta/features.rds (264 bytes security) (stored 0%)
  adding: Meta/hsearch.rds (264 bytes security) (stored 0%)
  adding: Meta/links.rds (264 bytes security) (stored 0%)
  adding: Meta/nsInfo.rds (264 bytes security) (stored 0%)
  adding: Meta/package.rds (264 bytes security) (stored 0%)
  adding: Meta/Rd.rds (264 bytes security) (stored 0%)
  adding: NAMESPACE (264 bytes security) (deflated 30%)
  adding: NEWS (264 bytes security) (deflated 66%)
  adding: R/ (304 bytes security) (stored 0%)
  adding: R/affxparser (264 bytes security) (deflated 41%)
  adding: R/affxparser.rdb (264 bytes security) (deflated 1%)
  adding: R/affxparser.rdx (264 bytes security) (stored 0%)
  adding: testscripts/ (304 bytes security) (stored 0%)
  adding: testscripts/manualTest.R (264 bytes security) (deflated 45%)
  adding: testscripts/speedtest.R (264 bytes security) (deflated 55%)
  adding: testscripts/writeAndReadEmptyCdf.R (264 bytes security) (deflated 45%)
  adding: testscripts/writeAndReadEmptyCel.R (264 bytes security) (deflated 47%)